BEGIN:VCALENDAR
VERSION:2.0
PRODID:-//Hunt&#039;s Photo Education - ECPv6.1.3//NONSGML v1.0//EN
CALSCALE:GREGORIAN
METHOD:PUBLISH
X-WR-CALNAME:Hunt&#039;s Photo Education
X-ORIGINAL-URL:https://ebay.huntsphoto.com
X-WR-CALDESC:Events for Hunt&#039;s Photo Education
REFRESH-INTERVAL;VALUE=DURATION:PT1H
X-Robots-Tag:noindex
X-PUBLISHED-TTL:PT1H
BEGIN:VTIMEZONE
TZID:America/New_York
BEGIN:DAYLIGHT
TZOFFSETFROM:-0500
TZOFFSETTO:-0400
TZNAME:EDT
DTSTART:20180311T070000
END:DAYLIGHT
BEGIN:STANDARD
TZOFFSETFROM:-0400
TZOFFSETTO:-0500
TZNAME:EST
DTSTART:20181104T060000
END:STANDARD
END:VTIMEZONE
BEGIN:VEVENT
DTSTART;TZID=America/New_York:20180813T180000
DTEND;TZID=America/New_York:20180813T200000
DTSTAMP:20260421T183825
CREATED:20180717T205732Z
LAST-MODIFIED:20180717T205742Z
UID:10678-1534183200-1534190400@ebay.huntsphoto.com
SUMMARY:Storytelling Portraits with Natural Light\, featuring photographer Me Ra Koh
DESCRIPTION:Join Sony Artisan and Disney’s Photo Mom\, Me Ra Koh\, as she shares her best tips and tricks to capturing storytelling portraits with natural light.   Learn how to create mood\, enhance emotion and engage your subjects whether they’re two years old or awkward tweens and teens or anxious adults.  We know you will walk away inspired and excited to try all her ideas with your own family and clients!\nMe Ra’s portrait work has been featured on The Oprah Winfrey Show\, Live with Kelly\, The New York Times and every day on Disney Junior.  She is known for her down-to-earth teaching style\, humor and inspiration.  Her events often fill up fast!  Make sure you and your friends grab a seat ASAP!\nFor more information and to register\, click here. \nThis event is free\, but registration is recommended. If you register and can no longer attend\, you can easily cancel your ticket by viewing your ticket and clicking “Cancel Order”.
URL:https://ebay.huntsphoto.com/calendar/storytelling-portraits-with-natural-light-featuring-photographer-me-ra-koh/
CATEGORIES:Hunt's Photo, Melrose,Misc. Workshops & Seminars
ATTACH;FMTTYPE=image/jpeg:https://ebay.huntsphoto.com/wp-content/uploads/2018/07/MeRa-2.jpg
END:VEVENT
END:VCALENDAR