BEGIN:VCALENDAR
VERSION:2.0
PRODID:-//Hunt&#039;s Photo Education - ECPv6.1.3//NONSGML v1.0//EN
CALSCALE:GREGORIAN
METHOD:PUBLISH
X-ORIGINAL-URL:https://ebay.huntsphoto.com
X-WR-CALDESC:Events for Hunt&#039;s Photo Education
REFRESH-INTERVAL;VALUE=DURATION:PT1H
X-Robots-Tag:noindex
X-PUBLISHED-TTL:PT1H
BEGIN:VTIMEZONE
TZID:America/New_York
BEGIN:DAYLIGHT
TZOFFSETFROM:-0500
TZOFFSETTO:-0400
TZNAME:EDT
DTSTART:20180311T070000
END:DAYLIGHT
BEGIN:STANDARD
TZOFFSETFROM:-0400
TZOFFSETTO:-0500
TZNAME:EST
DTSTART:20181104T060000
END:STANDARD
END:VTIMEZONE
BEGIN:VEVENT
DTSTART;TZID=America/New_York:20180815T150000
DTEND;TZID=America/New_York:20180819T120000
DTSTAMP:20260422T071709
CREATED:20171101T151305Z
LAST-MODIFIED:20171101T174423Z
UID:8784-1534345200-1534680000@ebay.huntsphoto.com
SUMMARY:Hunt's Photo Adventure: Old Quebec City
DESCRIPTION:One of Canada’s most historic and picturesque destinations is located just north of New England in the province of Quebec.   Old Québec City sits along the Saint Lawrence River where it retains much of its old world charm.   Fortifications\, narrow streets\, colorful buildings\, and dramatic attractions such as the famous Château Frontenac Hotel\, Citadelle of Québec\, and the Petit Champlain makes Old Quebec City a fantastic destination for all photographers.\nFor more information and to register\, click here. \n \nUpon signing up for this walk\, you will receive a confirmation email. This will list more specific instructions regarding this workshop.\nPlease read our  Cancellation Policy before signing up.
URL:https://ebay.huntsphoto.com/calendar/hunts-photo-adventure-old-quebec-city/
LOCATION:Quebec City\, CA\, Quebec City\, QC\, Canada
CATEGORIES:Hunt's Photo Adventures
ATTACH;FMTTYPE=image/jpeg:https://ebay.huntsphoto.com/wp-content/uploads/2017/10/DSCF5359.jpg
END:VEVENT
BEGIN:VEVENT
DTSTART;TZID=America/New_York:20180818T100000
DTEND;TZID=America/New_York:20180818T130000
DTSTAMP:20260422T071709
CREATED:20180724T185312Z
LAST-MODIFIED:20181201T200633Z
UID:10777-1534586400-1534597200@ebay.huntsphoto.com
SUMMARY:Basic Digital Printing (Printing with Lightroom)- Hunt's Photo\, Manchester
DESCRIPTION:This course briefly covers the basics questions of printing\, including editing suggestions\, color management tools and settings\, paper styles and finishes\, printing recommendations\, and troubleshooting on how to avoid those nasty pitfalls that can occur along the way.\nFor more information\, click here.
URL:https://ebay.huntsphoto.com/calendar/basic-digital-printing-printing-with-lightroom-hunts-photo-manchester/
LOCATION:Hunt’s Photo\, Manchester\, 4 Vinton St\, Manchester\, NH\, 03103
CATEGORIES:Editing & Printing Classes,Hunt's Photo, Manchester,Instructor: Kevin H.
ATTACH;FMTTYPE=image/jpeg:https://ebay.huntsphoto.com/wp-content/uploads/2015/03/Basic-Printing-Image.jpg
END:VEVENT
BEGIN:VEVENT
DTSTART;TZID=America/New_York:20180818T140000
DTEND;TZID=America/New_York:20180818T170000
DTSTAMP:20260422T071709
CREATED:20180807T214205Z
LAST-MODIFIED:20180807T214205Z
UID:10878-1534600800-1534611600@ebay.huntsphoto.com
SUMMARY:Gallery Show: Boston's Best Sports Teams by Boston's Best Photographers
DESCRIPTION:Join us at Hunt’s Photo\, Melrose on Saturday August 18th for our monthly Gallery Showing. This month\, images from some of Boston’s best sports photographers\, including Red Sox staff photographers Mike Ivins & Billie Weiss\, Damien Strohmeyer\, & Steve Babineau.
URL:https://ebay.huntsphoto.com/calendar/gallery-show-bostons-best-sports-teams-by-bostons-best-photographers/
LOCATION:Hunt’s Photo\, Melrose\, 100 Main St.\, Melrose\, MA\, 02176\, United States
CATEGORIES:Hunt's Photo, Melrose
ATTACH;FMTTYPE=image/jpeg:https://ebay.huntsphoto.com/wp-content/uploads/2018/08/Quad-1.jpg
END:VEVENT
BEGIN:VEVENT
DTSTART;TZID=America/New_York:20180818T170000
DTEND;TZID=America/New_York:20180818T210000
DTSTAMP:20260422T071709
CREATED:20180719T041158Z
LAST-MODIFIED:20190603T200925Z
UID:10745-1534611600-1534626000@ebay.huntsphoto.com
SUMMARY:Hunt's Photo Walk: Sunset at Old Orchard Beach
DESCRIPTION:Join photographers Hunt’s Photo Education on a late afternoon/sunset walk of Old Orchard Beach. The walk will begin at 6pm and conclude after sunset. On the walk\, we will discuss numerous aspects involving sunset\, including exposure\, composition\, and how to capture the vibrancy of the scene during sunset. Photographers of all skill levels are encouraged to attend. \nFor more information and to register\, click here.
URL:https://ebay.huntsphoto.com/calendar/hunts-photo-walk-sunset-at-old-orchard-beach/
CATEGORIES:Hunt's Photo Walks,Instructor: Emily H.,Instructor: Ron P.,Photo Walks in New Hampshire & Maine
ATTACH;FMTTYPE=image/jpeg:https://ebay.huntsphoto.com/wp-content/uploads/2017/05/Old-Orchard-Beach.jpg
END:VEVENT
END:VCALENDAR