BEGIN:VCALENDAR
VERSION:2.0
PRODID:-//Hunt&#039;s Photo Education - ECPv6.1.3//NONSGML v1.0//EN
CALSCALE:GREGORIAN
METHOD:PUBLISH
X-ORIGINAL-URL:https://ebay.huntsphoto.com
X-WR-CALDESC:Events for Hunt&#039;s Photo Education
REFRESH-INTERVAL;VALUE=DURATION:PT1H
X-Robots-Tag:noindex
X-PUBLISHED-TTL:PT1H
BEGIN:VTIMEZONE
TZID:America/New_York
BEGIN:DAYLIGHT
TZOFFSETFROM:-0500
TZOFFSETTO:-0400
TZNAME:EDT
DTSTART:20180311T070000
END:DAYLIGHT
BEGIN:STANDARD
TZOFFSETFROM:-0400
TZOFFSETTO:-0500
TZNAME:EST
DTSTART:20181104T060000
END:STANDARD
END:VTIMEZONE
BEGIN:VEVENT
DTSTART;TZID=America/New_York:20180904T150000
DTEND;TZID=America/New_York:20180909T120000
DTSTAMP:20260422T173421
CREATED:20171101T144904Z
LAST-MODIFIED:20210916T151239Z
UID:8776-1536073200-1536494400@ebay.huntsphoto.com
SUMMARY:Hunt's Photo Adventure: Provincetown & Outer Cape Cod
DESCRIPTION:The Cape Cod National Seashore in a treasure unlike any other in New England.  Miles of sprawling beaches\, mountainous sand dunes\, coastal towns\, and exquisite light are the backdrop of this workshop.  We stay in Provincetown and make use of its eclectic streets and historic harbor for a variety of photo opportunities while also exploring many other beautiful features of this unique area of New England.   \nFor more information and to register\, click here. \n \nUpon signing up for this walk\, you will receive a confirmation email. This will list more specific instructions regarding this workshop.\nPlease read our  Cancellation Policy before signing up.
URL:https://ebay.huntsphoto.com/calendar/hunts-photo-adventure-provincetown-outer-cape-cod/
CATEGORIES:Hunt's Photo Adventures
ATTACH;FMTTYPE=image/jpeg:https://ebay.huntsphoto.com/wp-content/uploads/2017/10/20150917-_DT17616-8.jpg
END:VEVENT
END:VCALENDAR