BEGIN:VCALENDAR
VERSION:2.0
PRODID:-//Hunt&#039;s Photo Education - ECPv6.1.3//NONSGML v1.0//EN
CALSCALE:GREGORIAN
METHOD:PUBLISH
X-ORIGINAL-URL:https://ebay.huntsphoto.com
X-WR-CALDESC:Events for Hunt&#039;s Photo Education
REFRESH-INTERVAL;VALUE=DURATION:PT1H
X-Robots-Tag:noindex
X-PUBLISHED-TTL:PT1H
BEGIN:VTIMEZONE
TZID:America/New_York
BEGIN:DAYLIGHT
TZOFFSETFROM:-0500
TZOFFSETTO:-0400
TZNAME:EDT
DTSTART:20190310T070000
END:DAYLIGHT
BEGIN:STANDARD
TZOFFSETFROM:-0400
TZOFFSETTO:-0500
TZNAME:EST
DTSTART:20191103T060000
END:STANDARD
END:VTIMEZONE
BEGIN:VEVENT
DTSTART;TZID=America/New_York:20190427T090000
DTEND;TZID=America/New_York:20190427T160000
DTSTAMP:20260425T001236
CREATED:20190415T130237Z
LAST-MODIFIED:20190422T140805Z
UID:12800-1556355600-1556380800@ebay.huntsphoto.com
SUMMARY:Hunt's Photo\, Hanover: Pro Video Road Show Sale & Demo
DESCRIPTION:Join us Saturday April 27th from 9am-4pm at our Hanover\, MA location for our Pro Video Road Show Sale & Demo!\nThis event is Free and is a must attend for wedding/event cinematographers\, professional videographers\, film students\, production companies\, filmmakers or anyone looking to get their hands on the latest video/audio/tech gear.\nSee and demo Professional and Broadcast audio and video products from Panasonic\, JVC\, Blackmagic Design\, SlingStudio\, Sigma Cine Lenses\, Tascam\, Canon\, Sony\, Rode\, Sennheiser\, and more.  \nOne day specials on many products\, student discounts and interest free financing and business leasing is available for up to 36 months \nGet your hands on the phenomenal Full Frame Canon C700 Cine Camera as well as the NetFlix approved 5.7K Panasonic AU-EVA1 camera. See the new Nikon Z6 Filmmakers kit in action and the new Sony RX0MKII camera that’s perfect for Vloggers. \nCheck out the great Professional LED lighting solutions from Westcott\, Aputure\, Fiilex and some budget solutions from Savage. \nLearn about Live Streaming your video to Facebook and YouTube using the Webcaster X2 from Epiphan or the SlingStudio! \nFREE Audio for Video seminars throughout the day.
URL:https://ebay.huntsphoto.com/calendar/hunts-photo-hanover-pro-video-road-show-sale-demo/
LOCATION:Hunt’s Photo\, Hanover\, 1207 Washington St\, Hanover\, Massachusetts\, 02339
CATEGORIES:Hunt's Photo, Hanover,Pro Video Demos
ATTACH;FMTTYPE=image/jpeg:https://ebay.huntsphoto.com/wp-content/uploads/2019/04/provideoHANOVER.jpg
END:VEVENT
BEGIN:VEVENT
DTSTART;TZID=America/New_York:20190427T100000
DTEND;TZID=America/New_York:20190427T160000
DTSTAMP:20260425T001236
CREATED:20190417T171141Z
LAST-MODIFIED:20190417T171141Z
UID:12818-1556359200-1556380800@ebay.huntsphoto.com
SUMMARY:Panasonic Demo Days- Hunt's Photo\, Melrose
DESCRIPTION:Saturday April 27th\, 10am-4pm • Hunt’s Photo\, Melrose \nCome in and visit with Panasonic rep Brandon Cortez and experience the Lumix quality. Brandon will be on site to answer all questions\, including questions on the new Panasonic S1 and S1R\, Panasonic’s new full-frame DSLR. Try out the gear and ask plenty of questions! \nRegistration is not required but is appreciated! \nTo register for Melrose\, April 27th…
URL:https://ebay.huntsphoto.com/calendar/panasonic-demo-days-hunts-photo-melrose/
LOCATION:Hunt’s Photo\, Melrose\, 100 Main St.\, Melrose\, MA\, 02176\, United States
CATEGORIES:Hunt's Photo, Melrose
END:VEVENT
END:VCALENDAR