BEGIN:VCALENDAR
VERSION:2.0
PRODID:-//Hunt&#039;s Photo Education - ECPv6.1.3//NONSGML v1.0//EN
CALSCALE:GREGORIAN
METHOD:PUBLISH
X-WR-CALNAME:Hunt&#039;s Photo Education
X-ORIGINAL-URL:https://ebay.huntsphoto.com
X-WR-CALDESC:Events for Hunt&#039;s Photo Education
REFRESH-INTERVAL;VALUE=DURATION:PT1H
X-Robots-Tag:noindex
X-PUBLISHED-TTL:PT1H
BEGIN:VTIMEZONE
TZID:America/New_York
BEGIN:DAYLIGHT
TZOFFSETFROM:-0500
TZOFFSETTO:-0400
TZNAME:EDT
DTSTART:20200308T070000
END:DAYLIGHT
BEGIN:STANDARD
TZOFFSETFROM:-0400
TZOFFSETTO:-0500
TZNAME:EST
DTSTART:20201101T060000
END:STANDARD
END:VTIMEZONE
BEGIN:VEVENT
DTSTART;TZID=America/New_York:20200429T130000
DTEND;TZID=America/New_York:20200429T143000
DTSTAMP:20260426T001956
CREATED:20200425T012010Z
LAST-MODIFIED:20200425T012010Z
UID:16226-1588165200-1588170600@ebay.huntsphoto.com
SUMMARY:Online: Beyond the Manual- Nikon Z
DESCRIPTION:Please note: We are slightly changing how attendees register for events. See details below course description! \nCome and explore the exciting Nikon Z6/Z7 cameras with us!\nHunt’s Photo Education is pleased to welcome Nikon Reps Paul Van Allen and Jason Stewart. Paul and Jason will be our guides through some of the cool and fun features buried within these cameras. EVF Settings\, File Options\, AF Point Settings\, Menu Customization\, and Focus Stacking are just some of the highlight of this fast paced\, fun-filled on-line seminar. Make sure to stick around until the very end when Paul and Jason will answer your questions…live! \nRegistering and what is needed\nClick here to register for this event. You will receive a reminder email leading up to the event with a link and code to enter in. Make sure to save this information.  \nLayout of the class\nThe class will begin promptly at the time listed. The majority of the class–roughly 1 hour– will be a presentation on the topic\, followed by a short Q&A. During the class\, you are welcome to type in questions in the Chat box if you have specific questions as they are asked. We will do our best to answer those questions\, but if not\, feel free to ask them at the end. \n“You Are Being Recorded” (And Other Note Related Items)\nWe will be recording this class! The video will be available for download about 24-hours after the class for all attendees\, so don’t worry about taking unending notes. We will send this link attendees to download and rewatch at any time. In addition to this\, we will generally send out a PDF of the presentation (when applicable) and handouts on the topic. If handouts and PDFs are included\, we will send it out with the link for the video. \nRegister below\n \nPlease read Hunt’s Terms & Conditions before signing up.
URL:https://ebay.huntsphoto.com/calendar/online-beyond-the-manual-nikon-z/
CATEGORIES:Online!
ATTACH;FMTTYPE=image/jpeg:https://ebay.huntsphoto.com/wp-content/uploads/2020/04/2005-0140_WB_FB_1200x800_Hunts_Z6_Z7_BeyondTheManual.jpg
END:VEVENT
END:VCALENDAR