BEGIN:VCALENDAR
VERSION:2.0
PRODID:-//Hunt&#039;s Photo Education - ECPv6.1.3//NONSGML v1.0//EN
CALSCALE:GREGORIAN
METHOD:PUBLISH
X-WR-CALNAME:Hunt&#039;s Photo Education
X-ORIGINAL-URL:https://ebay.huntsphoto.com
X-WR-CALDESC:Events for Hunt&#039;s Photo Education
REFRESH-INTERVAL;VALUE=DURATION:PT1H
X-Robots-Tag:noindex
X-PUBLISHED-TTL:PT1H
BEGIN:VTIMEZONE
TZID:America/New_York
BEGIN:DAYLIGHT
TZOFFSETFROM:-0500
TZOFFSETTO:-0400
TZNAME:EDT
DTSTART:20200308T070000
END:DAYLIGHT
BEGIN:STANDARD
TZOFFSETFROM:-0400
TZOFFSETTO:-0500
TZNAME:EST
DTSTART:20201101T060000
END:STANDARD
END:VTIMEZONE
BEGIN:VEVENT
DTSTART;TZID=America/New_York:20200511T130000
DTEND;TZID=America/New_York:20200511T141500
DTSTAMP:20260425T225744
CREATED:20200506T030616Z
LAST-MODIFIED:20200609T031438Z
UID:16403-1589202000-1589206500@ebay.huntsphoto.com
SUMMARY:Online: Photoshop Mini-Sessions: An Intro to Using Wacom Tablets
DESCRIPTION:Below the course description (but before registration) will be a short explanation on how the class will run. \nExample Wacom Intuos tablet; hand not that of the instructorIn this introductory Wacom Tablet class\, we will discuss the basic features and controls present in most Wacom Tablets for use with Photoshop. A Wacom Tablet is a powerful tool and can be extremely helpful for beginners and even seasoned professionals. No matter your skill level we will get you started on the right foot if you’re looking to dust off a tablet you’ve never used or maybe investing in a new one! \nIf you are unfamiliar with the basics and workflow in Photoshop\, we recommend considering taking our Photoshop Mini-Session- Basics and Workflow! \nRegistering and what is needed\nAfter you register for this class\, you will receive a confirmation email that will include information about how to access the online class\, including an online ID code that you will need to get into the class. Make sure to save this information. We will also send a reminder email about 48 hours prior to the class time with that same information. \nLayout of the class\nThe class will begin promptly at the time listed. The majority of the class–roughly 1 hour– will be a presentation on the topic\, followed by a short Q&A. During the class\, you are welcome to type in questions in the Chat box if you have specific questions as they are asked. We will do our best to answer those questions\, but if not\, feel free to ask them at the end. \n“You Are Being Recorded” (And Other Note Related Items)\nWe will be recording this class! The video will be available for download about 24-hours after the class for all attendees\, so don’t worry about taking unending notes. We will send this link attendees to download and rewatch at any time. In addition to this\, we will generally send out a PDF of the presentation (when applicable) and handouts on the topic. If handouts and PDFs are included\, we will send it out with the link for the video. \nCan’t attend the class? \nIf you can’t attend the class but still want to download the video\, no problem: Just sign up for the class! You don’t need to attend and we will send the video and PDF link the next day! \nWant to get this class after it’s been run?\nIf you want to purchase this or any other of the classes we have done\, you can certainly do so. Just send us an email at classes@huntsphoto.com and we can send you the invoice. (We prefer having folks in our classes\, but this option is available as well if you want to see it!) \n \nPlease read Hunt’s Terms & Conditions before signing up.
URL:https://ebay.huntsphoto.com/calendar/online-photoshop-mini-sessions-an-intro-to-using-wacom-tablets/
CATEGORIES:Editing & Printing Classes,Instructor: Alex H.,Online!
ATTACH;FMTTYPE=image/jpeg:https://ebay.huntsphoto.com/wp-content/uploads/2020/05/intuos-pro-sm-multitouch-f.jpg
END:VEVENT
END:VCALENDAR