BEGIN:VCALENDAR
VERSION:2.0
PRODID:-//Hunt&#039;s Photo Education - ECPv6.1.3//NONSGML v1.0//EN
CALSCALE:GREGORIAN
METHOD:PUBLISH
X-WR-CALNAME:Hunt&#039;s Photo Education
X-ORIGINAL-URL:https://ebay.huntsphoto.com
X-WR-CALDESC:Events for Hunt&#039;s Photo Education
REFRESH-INTERVAL;VALUE=DURATION:PT1H
X-Robots-Tag:noindex
X-PUBLISHED-TTL:PT1H
BEGIN:VTIMEZONE
TZID:America/New_York
BEGIN:DAYLIGHT
TZOFFSETFROM:-0500
TZOFFSETTO:-0400
TZNAME:EDT
DTSTART:20200308T070000
END:DAYLIGHT
BEGIN:STANDARD
TZOFFSETFROM:-0400
TZOFFSETTO:-0500
TZNAME:EST
DTSTART:20201101T060000
END:STANDARD
END:VTIMEZONE
BEGIN:VEVENT
DTSTART;TZID=America/New_York:20200515T150000
DTEND;TZID=America/New_York:20200515T161500
DTSTAMP:20260425T225804
CREATED:20200506T044550Z
LAST-MODIFIED:20200520T134540Z
UID:16418-1589554800-1589559300@ebay.huntsphoto.com
SUMMARY:Online: Curves and Color in Lightroom
DESCRIPTION:Below the course description (but before registration) will be a short explanation on how the class will run. \nThere is a world of tones and colors available to you in Adobe Lightroom Classic\, but how do you access it and make it your own?\nJoin Hunt’s Photo Education for a trip into some of the lesser-known panels in Adobe Lightroom Classic\, as we delve into the “Curves” and “HSL” Panels… and more! In this class\, we will take a strong look at color options in the HSL Panel (that’s Hue-Saturation-Luminance) and how to properly manipulate them. We’ll delve into the Curves Panel to show how to get the most out of the exposure and tonal range of your image by using curves (and what the “curve” actually is!). And we’ll show a little bit of how to get the most out of images by using not just global adjustments\, but also local adjustments.\nThis class is an excellent opportunity to fine-tune color and tone adjustments! If your images lack a punch\, this is a great opportunity to see how to obtain it! \nRegistering and what is needed\nAfter you register for this class\, you will receive a confirmation email that will include information about how to access the online class\, including an online ID code that you will need to get into the class. Make sure to save this information. We will also send a reminder email about 48 hours prior to the class time with that same information. \nLayout of the class\nThe class will begin promptly at the time listed. The majority of the class–roughly 1 hour– will be a presentation on the topic\, followed by a short Q&A. During the class\, you are welcome to type in questions in the Chat box if you have specific questions as they are asked. We will do our best to answer those questions\, but if not\, feel free to ask them at the end. \n“You Are Being Recorded” (And Other Note Related Items)\nWe will be recording this class! The video will be available for download about 24-hours after the class for all attendees\, so don’t worry about taking unending notes. We will send this link attendees to download and rewatch at any time. In addition to this\, we will generally send out a PDF of the presentation (when applicable) and handouts on the topic. If handouts and PDFs are included\, we will send it out with the link for the video. \nCan’t attend the class? \nIf you can’t attend the class but still want to download the video\, no problem: Just sign up for the class! You don’t need to attend and we will send the video and PDF link the next day! \nWant to get this class after it’s been run?\nIf you want to purchase this or any other of the classes we have done\, you can certainly do so. Just send us an email at classes@huntsphoto.com and we can send you the invoice. (We prefer having folks in our classes\, but this option is available as well if you want to see it!) \n \nPlease read Hunt’s Terms & Conditions before signing up.
URL:https://ebay.huntsphoto.com/calendar/online-curves-and-color-in-lightroom/
CATEGORIES:Editing & Printing Classes,Instructor: Ray L.,Online!
ATTACH;FMTTYPE=image/jpeg:https://ebay.huntsphoto.com/wp-content/uploads/2016/03/Adobe-Lightroom-Image.jpg
END:VEVENT
BEGIN:VEVENT
DTSTART;TZID=America/New_York:20200515T190000
DTEND;TZID=America/New_York:20200515T210000
DTSTAMP:20260425T225804
CREATED:20200504T180809Z
LAST-MODIFIED:20200504T180809Z
UID:16373-1589569200-1589576400@ebay.huntsphoto.com
SUMMARY:Online: Special Guest Series- Extraordinary Bird Photography\, with Mark Buckler
DESCRIPTION:Below the course description (but before registration) will be a short explanation on how the class will run. \nBirds are everywhere and generally approachable…making them popular targets for wildlife photographers…even in urban areas.   This learning adventure will teach you how to make extraordinary bird photos\, rather than just getting snapshots of the species that you see.  Renowned wildlife and nature photographer (and former wildlife biologist)\, Mark Buckler\,  will share his secrets to creating extraordinary bird photos and provide you with the tools that you need to make more interesting and compelling images.  This session will concentrate on field techniques\, concepts and tips.  If there is enough time\, we may cover some essential processing strategies for your bird images.   \nAbout Mark: Mark Buckler has been actively documenting nature for over 30 years.  Mark was born on Cape Cod\, MA and his passion for photography was ignited and honed in this area of natural beauty.  In 2005\, Mark moved to the Outer Banks of NC\, where he continues to reside and pursue his passion for nature\, wildlife and landscape photography.    Mark’s degree in wildlife biology from the University of Vermont and his extensive experience as a wildlife field biologist provides him with a deep understanding of nature and animal behavior.  This knowledge enhances Mark’s ability to capture unique and interesting nature images and also put his workshop clients into the right spots to capture the most compelling images.  Additionally\, his 15 years of experience as a high school biology teacher contributes to Mark’s ability to offer engaging\, meaningful and enjoyable instructional workshops and presentations.  Mark is a renowned photographic instructor who has been invited to teach workshops or give presentations nationwide.  Mark’s highly acclaimed images have received numerous international\, national\, regional and local awards.  His fine art prints have been featured in many exhibitions and can also be found in several galleries.  Mark’s photos have appeared in dozens of magazines and other publications\,   Along with co-author\, Steve Alterman\, Mark has documented the abundant wildlife and diverse habitats in and around the Outer Banks in a book\, Coastal Wild – Among the Untamed Outer Banks. \nRegistering and what is needed\nAfter you register for this class\, you will receive a confirmation email that will include information about how to access the online class\, including an online ID code that you will need to get into the class. Make sure to save this information. We will also send a reminder email about 48 hours prior to the class time with that same information. \nLayout of the class\nThe class will begin promptly at the time listed. The majority of the class–roughly 1 hour– will be a presentation on the topic\, followed by a short Q&A. During the class\, you are welcome to type in questions in the Chat box if you have specific questions as they are asked. We will do our best to answer those questions\, but if not\, feel free to ask them at the end. \n“You Are Being Recorded” (And Other Note Related Items)\nWe will be recording this class! The video will be available for download about 24-hours after the class for all attendees\, so don’t worry about taking unending notes. We will send this link attendees to download and rewatch at any time. In addition to this\, we will generally send out a PDF of the presentation (when applicable) and handouts on the topic. If handouts and PDFs are included\, we will send it out with the link for the video. \nCan’t attend the class? \nIf you can’t attend the class but still want to download the video\, no problem: Just sign up for the class! You don’t need to attend and we will send the video link the next day! \nWant to get this class after it’s been run?\nIf you want to purchase this or any other of the classes we have done\, you can certainly do so. Just send us an email at classes@huntsphoto.com and we can send you the invoice. (We prefer having folks in our classes\, but this option is available as well if you want to see it!) \n \nPlease read Hunt’s Terms & Conditions before signing up.
URL:https://ebay.huntsphoto.com/calendar/online-special-guest-series-extraordinary-bird-photography-with-mark-buckler/
CATEGORIES:Online!,Special Guest Series
ATTACH;FMTTYPE=image/jpeg:https://ebay.huntsphoto.com/wp-content/uploads/2020/05/I5T4980.jpg
END:VEVENT
END:VCALENDAR