BEGIN:VCALENDAR
VERSION:2.0
PRODID:-//Hunt&#039;s Photo Education - ECPv6.1.3//NONSGML v1.0//EN
CALSCALE:GREGORIAN
METHOD:PUBLISH
X-ORIGINAL-URL:https://ebay.huntsphoto.com
X-WR-CALDESC:Events for Hunt&#039;s Photo Education
REFRESH-INTERVAL;VALUE=DURATION:PT1H
X-Robots-Tag:noindex
X-PUBLISHED-TTL:PT1H
BEGIN:VTIMEZONE
TZID:America/New_York
BEGIN:DAYLIGHT
TZOFFSETFROM:-0500
TZOFFSETTO:-0400
TZNAME:EDT
DTSTART:20200308T070000
END:DAYLIGHT
BEGIN:STANDARD
TZOFFSETFROM:-0400
TZOFFSETTO:-0500
TZNAME:EST
DTSTART:20201101T060000
END:STANDARD
END:VTIMEZONE
BEGIN:VEVENT
DTSTART;TZID=America/New_York:20200601T150000
DTEND;TZID=America/New_York:20200601T161500
DTSTAMP:20260421T101714
CREATED:20200415T053439Z
LAST-MODIFIED:20200624T215850Z
UID:16630-1591023600-1591028100@ebay.huntsphoto.com
SUMMARY:Online: Photoshop Mini-Sessions- Basics and Workflow
DESCRIPTION:In response to COVID-19 and recommendations by the CDC of social distancing\, Hunt’s Photo Education is presenting our new series of online classes! These courses will be shorter (about 1 hour)\, online versions of many classes that we currently offer\, plus a few new ones\, and include Q&A at the end.\nBelow the course description (but before registration) will be a short explanation on how the class will run. \nIn this Photoshop Basics class\, we will be covering techniques photographers use to make adjustments to any type of image.  We will start with a basic overview of essential everyday tools like Crop\, Curves\, and the Healing Brush tools. This is a great beginner course for someone looking to get started with a practical approach in Photoshop\, but keeps things simple! \nIn this course we will discuss and cover: \n-Why should I bother learning Photoshop?\n-What tools should I focus on?\n-Crop tool\n-Healing Brush\n-Curves\n-Healing brush \nJoin us to get started in Adobe Photoshop! \nRegistering and what is needed\nAfter you register for this class\, you will receive a confirmation email that will include information about how to access the online class\, including an online ID code that you will need to get into the class. Make sure to save this information. We will also send a reminder email about 48 hours prior to the class time with that same information. \nLayout of the class\nThe class will begin promptly at the time listed. The majority of the class–roughly 1 hour– will be a presentation on the topic\, followed by a short Q&A. During the class\, you are welcome to type in questions in the Chat box if you have specific questions as they are asked. We will do our best to answer those questions\, but if not\, feel free to ask them at the end. \n“You Are Being Recorded” (And Other Note Related Items)\nWe will be recording this class! The video will be available for download about 24-hours after the class for all attendees\, so don’t worry about taking unending notes. We will send this link attendees to download and rewatch at any time. In addition to this\, we will generally send out a PDF of the presentation (when applicable) and handouts on the topic. If handouts and PDFs are included\, we will send it out with the link for the video. \nCan’t attend the class? \nIf you can’t attend the class but still want to download the video\, no problem: Just sign up for the class! You don’t need to attend and we will send the video and PDF link the next day! \nWant to get this class after it’s been run?\nIf you want to purchase this or any other of the classes we have done\, you can certainly do so. Just send us an email at classes@huntsphoto.com and we can send you the invoice. (We prefer having folks in our classes\, but this option is available as well if you want to see it!) \n \nPlease read Hunt’s Terms & Conditions before signing up.
URL:https://ebay.huntsphoto.com/calendar/online-photoshop-mini-sessions-basics-and-workflow-2020-06-01/
CATEGORIES:Editing & Printing Classes,Instructor: Alex H.,Online!
ATTACH;FMTTYPE=image/png:https://ebay.huntsphoto.com/wp-content/uploads/2016/11/Photoshop.png
END:VEVENT
BEGIN:VEVENT
DTSTART;TZID=America/New_York:20200601T190000
DTEND;TZID=America/New_York:20200601T201500
DTSTAMP:20260421T101714
CREATED:20200325T024719Z
LAST-MODIFIED:20200325T024719Z
UID:16623-1591038000-1591042500@ebay.huntsphoto.com
SUMMARY:Online- Creative Photography with Lensbaby!
DESCRIPTION:In response to COVID-19 and recommendations by the CDC of social distancing\, Hunt’s Photo Education is presenting our new series of online classes! (Hey! We wanted to do it anyway\, this just sped up the process!) These courses will be shorter (about 1 hour)\, online versions of many classes that we currently offer\, plus a few new ones\, and include Q&A at the end.\nBelow the course description (but before registration) will be a short explanation on how the class will run. \nLensbaby lenses are a unique series of lenses\, available for most camera systems that give a variety of looks and effects. From swirling bokeh to dramatic vignettes\, velvety glows to swirly blurs\, and often with a bright sharp center\, these lenses present a unique style for the user experience.\nLensbaby lenses are not always the easiest to use or understand and require a lot of practice and fine-tuning. In this course\, we will cover the types of lenses\, tips on how to use them\, and provide plenty of examples of photos on how to create a unique look. \nRegistering and what is needed\nAfter you register for this class\, you will receive a confirmation email that you have signed up. About 24 hours prior to the class time\, we will send out an email with the weblink for you to follow as well as information on how to access the class online. (It’s pretty easy\, but we’ll walk you through it in a quick online video!) \nLayout of the class\nThe class will begin promptly at the time listed. The majority of the class–roughly 1 hour– will be a presentation on the topic\, followed by a short Q&A. During the class\, you are welcome to type in questions in the Chat box if you have specific questions as they are asked. We will do our best to answer those questions\, but if not\, feel free to ask them at the end. \n \nPlease read Hunt’s Terms & Conditions before signing up.
URL:https://ebay.huntsphoto.com/calendar/online-creative-photography-with-lensbaby-2020-06-01/
CATEGORIES:Beyond the Basics Classes,Instructor: Emily H.,Online!
ATTACH;FMTTYPE=image/jpeg:https://ebay.huntsphoto.com/wp-content/uploads/2020/03/@hojphoto_LensbabyLR-8204.jpg
END:VEVENT
END:VCALENDAR