BEGIN:VCALENDAR
VERSION:2.0
PRODID:-//Hunt&#039;s Photo Education - ECPv6.1.3//NONSGML v1.0//EN
CALSCALE:GREGORIAN
METHOD:PUBLISH
X-ORIGINAL-URL:https://ebay.huntsphoto.com
X-WR-CALDESC:Events for Hunt&#039;s Photo Education
REFRESH-INTERVAL;VALUE=DURATION:PT1H
X-Robots-Tag:noindex
X-PUBLISHED-TTL:PT1H
BEGIN:VTIMEZONE
TZID:America/New_York
BEGIN:DAYLIGHT
TZOFFSETFROM:-0500
TZOFFSETTO:-0400
TZNAME:EDT
DTSTART:20200308T070000
END:DAYLIGHT
BEGIN:STANDARD
TZOFFSETFROM:-0400
TZOFFSETTO:-0500
TZNAME:EST
DTSTART:20201101T060000
END:STANDARD
END:VTIMEZONE
BEGIN:VEVENT
DTSTART;TZID=America/New_York:20200605T150000
DTEND;TZID=America/New_York:20200605T161500
DTSTAMP:20260421T101644
CREATED:20200520T141343Z
LAST-MODIFIED:20200520T141343Z
UID:16641-1591369200-1591373700@ebay.huntsphoto.com
SUMMARY:Online: Photoshop Mini-Sessions- An Intro to Combining Images in Landscape Editing
DESCRIPTION:Below the course description (but before registration) will be a short explanation on how the class will run. \nIn this Photoshop mini-session we will be learning some basic compositing skills to help us make our landscape images more exciting in Photoshop. The act of combining images in Photoshop\, or “Compositing”\, allows the photographer to have multiple exposures in one image\, a process that we cannot fully achieve in programs like Lightroom and Capture One. It is one of the key considerations to make when thinking about why it is important to use Photoshop!\nThis is a great beginner compositing class for someone who has never done compositing before or if you are an avid landscape photographer looking to try a different editing style.  \nIf you are unfamiliar with the basics and workflow in Photoshop\, we recommend considering taking our Photoshop Mini-Session- Basics and Workflow! This course also covers on a good deal of topics that are further discussed in many of our Photoshop Mini-Sessions. For a full list of our PS Mini-Session offerings\, click here. \nRegistering and what is needed\nAfter you register for this class\, you will receive a confirmation email that will include information about how to access the online class\, including an online ID code that you will need to get into the class. Make sure to save this information. We will also send a reminder email about 48 hours prior to the class time with that same information. \nLayout of the class\nThe class will begin promptly at the time listed. The majority of the class–roughly 1 hour– will be a presentation on the topic\, followed by a short Q&A. During the class\, you are welcome to type in questions in the Chat box if you have specific questions as they are asked. We will do our best to answer those questions\, but if not\, feel free to ask them at the end. \n“You Are Being Recorded” (And Other Note Related Items)\nWe will be recording this class! The video will be available for download about 24-hours after the class for all attendees\, so don’t worry about taking unending notes. We will send this link attendees to download and rewatch at any time. In addition to this\, we will generally send out a PDF of the presentation (when applicable) and handouts on the topic. If handouts and PDFs are included\, we will send it out with the link for the video. \nCan’t attend the class? \nIf you can’t attend the class but still want to download the video\, no problem: Just sign up for the class! You don’t need to attend and we will send the video and PDF link the next day! \nWant to get this class after it’s been run?\nIf you want to purchase this or any other of the classes we have done\, you can certainly do so. Just send us an email at classes@huntsphoto.com and we can send you the invoice. (We prefer having folks in our classes\, but this option is available as well if you want to see it!) \n \nPlease read Hunt’s Terms & Conditions before signing up.
URL:https://ebay.huntsphoto.com/calendar/online-photoshop-mini-sessions-an-intro-to-combining-images-in-landscape-editing/
CATEGORIES:Editing & Printing Classes,Instructor: Alex H.,Online!
ATTACH;FMTTYPE=image/jpeg:https://ebay.huntsphoto.com/wp-content/uploads/2019/12/@hojphoto_landscapeLR-2092.jpg
END:VEVENT
BEGIN:VEVENT
DTSTART;TZID=America/New_York:20200605T190000
DTEND;TZID=America/New_York:20200605T201500
DTSTAMP:20260421T101644
CREATED:20200528T160358Z
LAST-MODIFIED:20220201T033859Z
UID:16727-1591383600-1591388100@ebay.huntsphoto.com
SUMMARY:Online: The Wonderful World of Waterfalls (Photographing Water)
DESCRIPTION:Below the course description (but before registration) will be a short explanation on how the class will run. \nPhotographing waterfalls is one of life’s greatest pleasures. Nothing can ruin those perfect moments of listening to the sound of the water rushing while your camera captures the beauty around you\, although the bugs may try.\nIn this class\, we’ll talk about the technical and the artistic elements used to capture waterfalls at their best. This includes camera settings and adding in filters\, as well as composition and storytelling. \nRegistering and what is needed\nAfter you register for this class\, you will receive a confirmation email that will include information about how to access the online class\, including an online ID code that you will need to get into the class. Make sure to save this information. We will also send a reminder email about 48 hours prior to the class time with that same information. \nLayout of the class\nThe class will begin promptly at the time listed. The majority of the class–roughly 1 hour– will be a presentation on the topic\, followed by a short Q&A. During the class\, you are welcome to type in questions in the Chat box if you have specific questions as they are asked. We will do our best to answer those questions\, but if not\, feel free to ask them at the end. \n“You Are Being Recorded” (And Other Note Related Items)\nWe will be recording this class! The video will be available for download about 24-hours after the class for all attendees\, so don’t worry about taking unending notes. We will send this link attendees to download and rewatch at any time. In addition to this\, we will generally send out a PDF of the presentation (when applicable) and handouts on the topic. If handouts and PDFs are included\, we will send it out with the link for the video. \nCan’t attend the class? \nIf you can’t attend the class but still want to download the video\, no problem: Just sign up for the class! You don’t need to attend and we will send the video and PDF link the next day! \nWant to get this class after it’s been run?\nIf you want to purchase this or any other of the classes we have done\, you can certainly do so. Just send us an email at classes@huntsphoto.com and we can send you the invoice. (We prefer having folks in our classes\, but this option is available as well if you want to see it!) \nRegister here\n***Having trouble registering? You can also register by clicking here! \n \nPlease read Hunt’s Terms & Conditions before signing up.
URL:https://ebay.huntsphoto.com/calendar/online-the-wonderful-world-of-waterfalls-photographing-water/
CATEGORIES:Instructor: Emily H.,Online!
ATTACH;FMTTYPE=image/jpeg:https://ebay.huntsphoto.com/wp-content/uploads/2020/05/@hojphoto_waterfalls-6792.jpg
END:VEVENT
END:VCALENDAR