BEGIN:VCALENDAR
VERSION:2.0
PRODID:-//Hunt&#039;s Photo Education - ECPv6.1.3//NONSGML v1.0//EN
CALSCALE:GREGORIAN
METHOD:PUBLISH
X-WR-CALNAME:Hunt&#039;s Photo Education
X-ORIGINAL-URL:https://ebay.huntsphoto.com
X-WR-CALDESC:Events for Hunt&#039;s Photo Education
REFRESH-INTERVAL;VALUE=DURATION:PT1H
X-Robots-Tag:noindex
X-PUBLISHED-TTL:PT1H
BEGIN:VTIMEZONE
TZID:America/New_York
BEGIN:DAYLIGHT
TZOFFSETFROM:-0500
TZOFFSETTO:-0400
TZNAME:EDT
DTSTART:20200308T070000
END:DAYLIGHT
BEGIN:STANDARD
TZOFFSETFROM:-0400
TZOFFSETTO:-0500
TZNAME:EST
DTSTART:20201101T060000
END:STANDARD
END:VTIMEZONE
BEGIN:VEVENT
DTSTART;TZID=America/New_York:20200828T190000
DTEND;TZID=America/New_York:20200828T210000
DTSTAMP:20260421T221344
CREATED:20200728T214417Z
LAST-MODIFIED:20200728T214417Z
UID:17466-1598641200-1598648400@ebay.huntsphoto.com
SUMMARY:Online: Special Guest Series- The Art of Wildlife Photography with Russ Burden
DESCRIPTION:Below the course description (but before registration) will be a short explanation on how the class will run. \n \n \nRuss Burden’s passion for nature photography is unmeasurably high and his desire to create the perfect wildlife and scenic image is on his mind every time he’s in the field. His primary focus is now wildlife and he loves the challenge. It requires patience\, dedication\, determination\, frequent visits to his favorite locations\, all mixed in with a bit of luck. But why is it that some wildlife photographers seem to be “luckier” than others? Russ will share with you the tips and techniques he uses to make you one of the luckier ones. He will show examples of the photos he’s captured and talk about what he did to make them successful. He’ll discuss important concepts such as lighting\, composition\, proper head and body angles\, backgrounds\, time of day and many other aspects to improve your captures. Russ loves to share his passion\, enthusiasm\, and knowledge with all. \nAbout Russ: Russ Burden is the owner of Russ Burden Nature Photography Safaris. He runs wildlife safaris to Tanzania three times a year. He is internationally published and his commercial work is marketed through Getty Images.\nRuss is the writer of the Tip of the Week on the Outdoor Photographer website and has been doing this for years. He has hundreds of tips archived on their website. Russ is a multiple time winner of the prestigious Nature’s Best Windland Smith Rice Award in many categories in addition to having numerous safari photos honored and hung in the Smithsonian Museum in Washington DC and the Iziko Museum in South Africa. His wildlife and scenic images have appeared in calendars published by Self Realization Fellowship\, Kodak\, Audubon\, Sierra Club\, National Wildlife\, National Geographic Traveler\, and more.\nRuss has an incredible passion for photography. His drive to seek optimal light and composition motivates him to create the perfect image. His energy and commitment to photography are contagious and it’s his goal to help others get to this point in their pursuit of our wonderful art.  \nRegistering and what is needed\nAfter you register for this class\, you will receive a confirmation email that will include information about how to access the online class\, including an online ID code that you will need to get into the class. Make sure to save this information. We will also send a reminder email about 48 hours prior to the class time with that same information. \nLayout of the class\nThe class will begin promptly at the time listed. The majority of the class–90 minutes to 2 hours– will be a presentation on the topic\, followed by a short Q&A. During the class\, you are welcome to type in questions in the Chat box if you have specific questions as they are asked. We will do our best to answer those questions\, but if not\, feel free to ask them at the end. \n“You Are Being Recorded” (And Other Note Related Items)\nWe will be recording this class! The video will be available for download about 24-hours after the class for all attendees\, so don’t worry about taking unending notes. We will send this link attendees to download and rewatch at any time. In addition to this\, we will generally send out a PDF of the presentation (when applicable) and handouts on the topic. If handouts and PDFs are included\, we will send it out with the link for the video. \nCan’t attend the class? \nIf you can’t attend the class but still want to download the video\, no problem: Just sign up for the class! You don’t need to attend and we will send the video link the next day! \nWant to get this class after it’s been run?\nIf you want to purchase this or any other of the classes we have done\, you can certainly do so. Just send us an email at classes@huntsphoto.com and we can send you the invoice. (We prefer having folks in our classes\, but this option is available as well if you want to see it!) \nNo online classes should be shared and cannot be shared in a public environment\, including with camera clubs\nThe online content is the copyright of Hunt’s Photo Education and/or the Instructor. Please support our education team and instructors by not sharing this material! We appreciate your support\, and it’s thanks to that support that we are able to continue producing content! \nRegister Here\n \nPlease read Hunt’s Terms & Conditions before signing up.
URL:https://ebay.huntsphoto.com/calendar/online-special-guest-series-the-art-of-wildlife-photography-with-russ-burden/
CATEGORIES:Online!,Special Guest Series
ATTACH;FMTTYPE=image/jpeg:https://ebay.huntsphoto.com/wp-content/uploads/2020/07/Russ-Burden-Wildlife-1.jpg
END:VEVENT
END:VCALENDAR