BEGIN:VCALENDAR
VERSION:2.0
PRODID:-//Hunt&#039;s Photo Education - ECPv6.1.3//NONSGML v1.0//EN
CALSCALE:GREGORIAN
METHOD:PUBLISH
X-WR-CALNAME:Hunt&#039;s Photo Education
X-ORIGINAL-URL:https://ebay.huntsphoto.com
X-WR-CALDESC:Events for Hunt&#039;s Photo Education
REFRESH-INTERVAL;VALUE=DURATION:PT1H
X-Robots-Tag:noindex
X-PUBLISHED-TTL:PT1H
BEGIN:VTIMEZONE
TZID:America/New_York
BEGIN:DAYLIGHT
TZOFFSETFROM:-0500
TZOFFSETTO:-0400
TZNAME:EDT
DTSTART:20200308T070000
END:DAYLIGHT
BEGIN:STANDARD
TZOFFSETFROM:-0400
TZOFFSETTO:-0500
TZNAME:EST
DTSTART:20201101T060000
END:STANDARD
END:VTIMEZONE
BEGIN:VEVENT
DTSTART;TZID=America/New_York:20201204T150000
DTEND;TZID=America/New_York:20201204T183000
DTSTAMP:20260424T073528
CREATED:20201124T050140Z
LAST-MODIFIED:20201124T051043Z
UID:18412-1607094000-1607106600@ebay.huntsphoto.com
SUMMARY:Hunt's Photo Workshop & Critique: Beacon Hill in the Evening
DESCRIPTION:Walk Description\nJoin Hunt’s Photo Education on a photo workshop involving historic Beacon Hill in the evening. During the walk\, we will discuss many of the aspects of photographing in low light and at night\, including exposure\, focusing\, composition\, and more. Photographers of all levels are welcome!\nFor generations\, Beacon Hill has been one of Boston’s most appealing neighborhoods. Quaint historic streets\, beautiful Brownstones\, and unique detail help make Beacon Hill a rewarding location for photographers of every skill level. We are entering Beacon Hill and Boston as decorations and lights begin to come out for the holidays. When we begin our walk\, we will have the opportunity to photograph the area during the late-afternoon light and into the night\, which will allow us to capture these spectacular details.\nAfter the walk\, attendees will be asked to submit 2-3 images from the walk for our image review/critique\, happening the next week. We will discuss each attendee’s images and look at all the elements of photography discussed on the walk. Please note that this session will be recorded in case you cannot attend. \nState Policies Regarding COVID-19\n•Every state in New England has different policies for COVID. Please make sure you read and understand the state policies prior to signing up. You can find them here:\n Massachusetts\nNew Hampshire\nMaine\nRhode Island\n Connecticut \n Guideline for Photo Walks during the era of COVID-19\nHunt’s Photo Education remains dedicated to the health and safety of every single attendee\, student\, and customer\, first and foremost. We also are committed to the best possible learning experience. We have put forth rules and guidelines for Photo Walks that occur during the era of COVID.\n•We will have no more than 6-8 attendees per Photo Walk with a single instructor\n•We ask that all attendees wear a mask. (Please make sure the mask covers your mouth and nose.)\n•We ask that all attendees socially distance 6 feet from one another\, unless you are attending with the other person\n•Hunt’s Photo Educators will be unable to physically handle others’ cameras\n•Consider bringing sanitizing wipes and hand sanitizer\n•If you are sick or feeling unwell\, stay home! We will gladly give you credit towards a future walk! \nThese guidelines will stay in place until further notice. We appreciate your patience and understanding during this time. If you have any questions\, feel free to contact us at classes@huntsphoto.com. \nRegister here \n \nIf you are attending this walk\, we will send out more specific instructions to you a few days prior to the walk. Please note: Some slight details above can be subject to change. This email will detail any of those minor changes.\nPlease read Hunt’s Terms & Conditions before signing up. \nDress and Gear \n•Make sure to dress accordingly with the most current weather report.\n•Consider bringing wide angle or standard zoom lenses.\n•A prime lens may also suit you well.\n•Make sure to bring your tripod with a quick release plate and a shutter release\, if you have one.\n•Feel free to bring snacks and water\, and a flashlight will likely help as well.\n•Bring an extra camera battery and memory cards.\n•As always\, bring your enthusiasm and creative thoughts!
URL:https://ebay.huntsphoto.com/calendar/beacon-hill-evening/
CATEGORIES:Hunt's Photo Walks,Instructor: Don T.
ATTACH;FMTTYPE=image/jpeg:https://ebay.huntsphoto.com/wp-content/uploads/2018/12/XP22994.jpg
END:VEVENT
END:VCALENDAR