BEGIN:VCALENDAR
VERSION:2.0
PRODID:-//Hunt&#039;s Photo Education - ECPv6.1.3//NONSGML v1.0//EN
CALSCALE:GREGORIAN
METHOD:PUBLISH
X-ORIGINAL-URL:https://ebay.huntsphoto.com
X-WR-CALDESC:Events for Hunt&#039;s Photo Education
REFRESH-INTERVAL;VALUE=DURATION:PT1H
X-Robots-Tag:noindex
X-PUBLISHED-TTL:PT1H
BEGIN:VTIMEZONE
TZID:America/New_York
BEGIN:DAYLIGHT
TZOFFSETFROM:-0500
TZOFFSETTO:-0400
TZNAME:EDT
DTSTART:20210314T070000
END:DAYLIGHT
BEGIN:STANDARD
TZOFFSETFROM:-0400
TZOFFSETTO:-0500
TZNAME:EST
DTSTART:20211107T060000
END:STANDARD
END:VTIMEZONE
BEGIN:VEVENT
DTSTART;TZID=America/New_York:20210105T190000
DTEND;TZID=America/New_York:20210105T201500
DTSTAMP:20260422T051016
CREATED:20200325T022452Z
LAST-MODIFIED:20210224T053749Z
UID:18534-1609873200-1609877700@ebay.huntsphoto.com
SUMMARY:Online: Digital Photography Basics 1- Exposure\, The Big Three Settings\, Modes\, and More
DESCRIPTION:In response to COVID-19 and recommendations by the CDC of social distancing\, Hunt’s Photo Education is presenting our new series of online classes! (Hey! We wanted to do it anyway\, this just sped up the process!) These courses will be shorter (about 1 hour)\, online versions of many classes that we currently offer\, plus a few new ones\, and include Q&A at the end.\nBelow the course description (but before registration) will be a short explanation on how the class will run. \nDo you have a new DSLR that you have no idea how to use? Have you had your camera for 6 months\, a year or more and want to take better pictures? Are you putting your camera away because you just don’t see the difference between your expensive camera and your smart phone? \nLearn to fully utilize your cameras potentials! Harness your creative power with photography! \nThis is one of the first classes to consider when you’re getting started with your Digital SLR or Mirrorless camera. We will discuss Exposure (how light works with the camera)\, the Big Three Settings (Aperture\, Shutter Speed\, & ISO)\, how they affect your picture and how to set them\, and what mode to set it to on your camera! We’ll discuss changing depth-of-field (controlling what’s in focus in the background\, stopping or blurring the action in your scene\, and many other basic picture-taking techniques. We recommend taking this class prior to Digital Photography Basics 2\, which is the next logical step! \nJoin us to start learning about Digital Photography! \nRegistering and what is needed\nAfter you register for this class\, you will receive a confirmation email that you have signed up. About 24 hours prior to the class time\, we will send out an email with the weblink for you to follow as well as information on how to access the class online. (It’s pretty easy\, but we’ll walk you through it in a quick online video!) \nLayout of the class\nThe class will begin promptly at the time listed. The majority of the class–roughly 1 hour– will be a presentation on the topic\, followed by a short Q&A. During the class\, you are welcome to type in questions in the Chat box if you have specific questions as they are asked. We will do our best to answer those questions\, but if not\, feel free to ask them at the end. \n \nPlease read Hunt’s Terms & Conditions before signing up.
URL:https://ebay.huntsphoto.com/calendar/online-digital-photography-basics-1-exposure-the-big-three-settings-modes-and-more-2021-01-05/
CATEGORIES:Beginner Classes,Instructor: Emily H.,Online!
ATTACH;FMTTYPE=image/jpeg:https://ebay.huntsphoto.com/wp-content/uploads/2017/08/Beginner-9865.jpg
END:VEVENT
BEGIN:VEVENT
DTSTART;TZID=America/New_York:20210105T190000
DTEND;TZID=America/New_York:20210105T210000
DTSTAMP:20260422T051016
CREATED:20201218T194153Z
LAST-MODIFIED:20201218T194153Z
UID:18721-1609873200-1609880400@ebay.huntsphoto.com
SUMMARY:Online: Cold Weather Photography- Shooting in the Winter
DESCRIPTION:Tuesday January 5th\, 7-9pm EST • Online \nPrerequisite: None! All skill levels welcome! \nInstructor: Don Toothaker \nWant to get this class after it’s been run?– We have an online store where you can purchase all our previously run classes here: https://ebay.huntsphoto.com/buy-previous-courses/ \nBelow the course description (but before registration) will be a short explanation on how the class will run. \nWinter is a challenging season for all photographers\, but it also provides ample opportunity for beautiful and rewarding images. There are also appropriate ways to prepare oneself that make it not only tolerable\, but actually enjoyable! Join Hunt’s Photo Educator Don Toothaker as he dives into all aspects of shooting during this season of cold. Among other topics\, we will cover:\n•Keeping your gear active and dry\n•Keeping yourself warm and comfortable\n•What to photograph\nThis class is designed to help inspire you to get outside in this long winter and enjoy all the seasons for photography! \nRegistering and what is needed\nAfter you register for this class\, you will receive a confirmation email that will include information about how to access the online class\, including an online ID code that you will need to get into the class. Make sure to save this information. We will also send a reminder email about 24 hours prior to the class time with that same information. \nLayout of the class\nThe class will begin promptly at the time listed. The majority of the class–roughly 2 hours– will be a presentation on the topic\, followed by a short Q&A. During the class\, you are welcome to type in questions in the Chat box if you have specific questions as they are asked. We will do our best to answer those questions\, but if not\, feel free to ask them at the end. \n“You Are Being Recorded” (And Other Note Related Items)\nWe will be recording this class! The video will be available for download about 24-hours after the class for all attendees\, so don’t worry about taking unending notes. We will send this link attendees to download and rewatch at any time. In addition to this\, we will generally send out a PDF of the presentation (when applicable) and handouts on the topic. If handouts and PDFs are included\, we will send it out with the link for the video. \nCan’t attend the class? \nIf you can’t attend the class but still want to download the video\, no problem: Just sign up for the class! You don’t need to attend and we will send the video and PDF link the next day! \nWant to get this class after it’s been run?– We have an online store where you can purchase all our previously run classes here: https://ebay.huntsphoto.com/buy-previous-courses/ \n \nPlease read Hunt’s Terms & Conditions before signing up.
URL:https://ebay.huntsphoto.com/calendar/online-cold-weather-photography-shooting-in-the-winter/
CATEGORIES:Instructor: Don T.,Online!
ATTACH;FMTTYPE=image/jpeg:https://ebay.huntsphoto.com/wp-content/uploads/2019/12/flume2.jpg
END:VEVENT
END:VCALENDAR