BEGIN:VCALENDAR
VERSION:2.0
PRODID:-//Hunt&#039;s Photo Education - ECPv6.1.3//NONSGML v1.0//EN
CALSCALE:GREGORIAN
METHOD:PUBLISH
X-WR-CALNAME:Hunt&#039;s Photo Education
X-ORIGINAL-URL:https://ebay.huntsphoto.com
X-WR-CALDESC:Events for Hunt&#039;s Photo Education
REFRESH-INTERVAL;VALUE=DURATION:PT1H
X-Robots-Tag:noindex
X-PUBLISHED-TTL:PT1H
BEGIN:VTIMEZONE
TZID:America/New_York
BEGIN:DAYLIGHT
TZOFFSETFROM:-0500
TZOFFSETTO:-0400
TZNAME:EDT
DTSTART:20220313T070000
END:DAYLIGHT
BEGIN:STANDARD
TZOFFSETFROM:-0400
TZOFFSETTO:-0500
TZNAME:EST
DTSTART:20221106T060000
END:STANDARD
END:VTIMEZONE
BEGIN:VEVENT
DTSTART;VALUE=DATE:20220323
DTEND;VALUE=DATE:20220328
DTSTAMP:20260424T125909
CREATED:20210824T202128Z
LAST-MODIFIED:20210824T202128Z
UID:23065-1647993600-1648425599@ebay.huntsphoto.com
SUMMARY:Hunt's Photo Adventure: Birding Along the Space Coast
DESCRIPTION:Wednesday\, March 23rd to Sunday\, March 27th\, 2022 • Titusville\, FL \nFeaturing numerous birding photography opportunities \nInstructors: Don Toothaker & Mark Buckler \nPrice: $1595.00 (includes on-site transportation) \nA deposit of $500 is required to secure your spot on this workshop. All payments are due 30 days prior to the workshop. \nPlease note: The cost of your ticket does not include the cost of lodging \nRecommended prerequisite: Basic Knowledge of your Camera \nAll Skill Levels Welcome \nGroup Size: Limited to 10 attendees \nPhysical Activity: Low to Medium.  We will experience longer days as well as limited walking. \n                                                                                                                                                                                                                                                                                                                                                                                                                                                                                                                                                                                                                                                                                                                                                                                                                                                                                                                                                                                                                                                                                                                                                                                                                                                                                                                                                                                                                                                                                                                                                                                                                                                                                                                                                                                                                                                                                                                                                                                                                                                                                                                                                                                                                                                                                                                                                                                                                                           \nWorkshop Description\nFlorida is considered by many to be a mecca of bird photography.  In addition to the abundance of birdlife in the state\, the birds are quite approachable and easy to photograph. We will explore some prime birding locations\, including the famed Merritt Island National Wildlife Refuge and the Orlando Wetlands.  But in addition to these bird photography locations\, there are several other lesser-known\, nearby sites where the photography is simply spectacular.  This trip will occur at a time of year when many birds will be in breeding plumage (and exhibiting some breeding behavior).  You can expect to photograph a variety of species including; egrets\, herons\, ibis\, terns\, plovers\, gallinules\, oystercatchers\, osprey\, pelicans\, wood storks\, roseate spoonbills\, ducks\, black skimmers and much more.  \nWe will maximize our time in the field shooting a multitude of subjects as well as incorporating classroom instruction\, critiques\, and photographic discussion each day. \nWhat’s included:\n•Daily excursions in and around locations in Florida\n•All Transportation to excursions\n•In-field instruction at each location\n•Image Discussion and Review \nWhat’s not included:\n•Cost of hotel (We will be staying at Days Inn by Wyndham Titusville Kennedy Space Center\, 3755 Cheney Hwy\, Titusville\, FL\, 321-362-6077)\n•Transportation to and from Florida (See below Travel Information)\n•Cost of food\n•Travel insurance (which is highly recommended for all travelers) \nSkill Sets:  All Levels of Photographers are Welcome\nPhysical Activity:  Low to Medium.  We will experience longer days as well as limited walking. \nDuring this workshop we will cover:\nExposure\nComposition\nMetering\nUse of Lenses\nSubject Development\nCreative Thinking\nShooting in Low Light\nImage Review\nImage Critiquing \nRecommended gear:\nCamera\, memory cards\, batteries\nA variety of lenses Wide angle\, standard\, and\, of course\, telephoto and super-telephoto zoom lenses (If you are looking for a lens to rent\, you can rent it from us at rentals.huntsphoto.com!)\nTripod/monopod\nCable release\nPolarizers and Neutral Density filters if you have them \nTravel information\nOne should plan for flight arrival between 12 and 2pm on the first day of the workshop. We recommend flying into Orlando International Airport (MCO).\nWe will be completing our trip on Sunday in the mid-morning. Flights should be scheduled for early to mid-afternoon.\nPlease note: Due to the variety of times attendees will be arriving\, we will be unable to pick up attendees from the airport\, which is about 45 minutes away. In the weeks leading up to this adventure\, we will try to connect attendees that may be arriving at similar times in order to share rides through car rental or taxi/Uber/Lyft. (While you will not need a car during the workshop\, car rentals are also very inexpensive\, should you choose to take any side trips before or after the workshop.) \nHotel information\nWe will be staying at the Days Inn by Wyndham Titusville Kennedy Space Center\, 3755 Cheney Hwy\, Titusville\, FL\, (321)362-6077. Please note: Your rooms are not included in the cost of your ticket. Please contact them as soon as possible. We are listed as the Hunt’s Photo Group. \nA deposit is required to secure your spot on this workshop. All payments are due 30 days prior to the workshop. \nRegister here\n***Having trouble registering? You can also register by clicking here! \n \nUpon signing up for this walk\, you will receive a confirmation email. This will list more specific instructions.\nPlease read Hunt’s Terms & Conditions before signing up.
URL:https://ebay.huntsphoto.com/calendar/hunts-photo-adventure-birding-along-the-space-coast-2/
CATEGORIES:Hunt's Photo Adventures,Instructor: Don T.
ATTACH;FMTTYPE=image/jpeg:https://ebay.huntsphoto.com/wp-content/uploads/2021/08/Don-Toothaker-_5009118.jpg
END:VEVENT
BEGIN:VEVENT
DTSTART;TZID=America/New_York:20220324T180000
DTEND;TZID=America/New_York:20220324T200000
DTSTAMP:20260424T125909
CREATED:20211127T054440Z
LAST-MODIFIED:20211127T054440Z
UID:25082-1648144800-1648152000@ebay.huntsphoto.com
SUMMARY:Multi-Session Series- Adobe Lightroom Classic- File Management & Editing- Hunt's Photo\, Providence
DESCRIPTION:In this course\, we use specifically Adobe Lightroom Classic. (See below for more information.) \nRecommended prerequisite: A basic knowledge of computers and how to organize photos helps. Lightroom can be a challenging program. Patience is a virtue.  \nInstructor: Mike Rice \nClass Size: 6-8 attendees \nCourse Description\nThis is a great opportunity to build up your editing skills in Lightroom!\nAdobe Lightroom is the choice program for professionals and amateurs\, with ever-growing capabilities and options. However\, there are many levels to understanding in the program. How do we organize our photos? What do we do to make basic changes? Once we learn those changes\, how can we “step it up” and figure out what to we’re supposed to do? How do we make images pop? And finally\, how do we put it all together and making finishing touches to our images.\nJoin Hunt’s Photo Education for a course that helps answer many of these questions. Often\, Lightroom users struggle with the inability to determine what changes are “good” or “correct”. While those terms are subjective\, we will help you along in the editing process to see how to make determinations along the way.\nThis is a Multi-Session Class! In Week 1\, we will begin by discussing how to organize your images for quick retrieval via keywords\, ratings\, and more\, as well as giving a description on how to consider organizing your photos on your computer. Specifically\, we will cover brief computer file management\, the importance of keywords\, flagging and rating photos\, and searching metadata to find images. In Week 2\, we’ll start with the basic adjustments using Basic Development controls. More than anything\, we will be emphasizing global changes and understanding what can be done with an image in Lightroom. We’ll then dive into Color\, Curves\, Contrast & Clarity & Texture. These changes will help make your images pop. In Week 3\, we’ll discuss advanced editing\, including local adjustments\, such as radial and graduated filters\, and how to “finish” the image- sharpening\, noise reduction\, and more.\nIn-between each session\, we will give assignments to help you become more proficient and grasp the material! This class is strongly recommended for anyone looking to further their skills with Lightroom! \nAn important note about this course! There are now a few different versions of Adobe Lightroom right now. This course is specifically on Adobe Lightroom Classic. The other version of Lightroom\, commonly known as “Adobe Lightroom CC” (yes\, we understand you may be confused by this) is a more mobile and cloud-based program. The look and feel of the program is completely different– This course is specifically on Adobe Lightroom Classic. (See graphic on the right.) If you are unsure\, feel free to email us at classes@huntsphoto.com. Important: If you are taking this course\, make sure to download/update the program in advance\, as you will not be able to download the program at the store. Older versions\, such as Lightroom 5 or 6\, are also acceptable\, though not all functions will be available. \nPlease Note: A Slight Change to COVID-19 Policies on Masks and Social Distancing\nUntil further notice\, we will be requiring masks for our indoor classes. We also ask that you socially distance whenever possible.\nAs always\, if you are sick or feeling unwell\, STAY HOME! We will gladly give you a credit towards a future class. \nThese guidelines will stay in place until further notice. We appreciate your patience and understanding during this time. If you have any questions\, feel free to contact us at classes@huntsphoto.com. \nRegister here\n***Having trouble registering? You can also register by clicking here!\n \nIf you are attending this class\, we will send out more specific instructions to you a few days prior. Please note: Some slight details above can be subject to change. This email will detail any of those minor changes.\nPlease read Hunt’s Terms & Conditions before signing up. \nWhat to Bring \n•Make sure to bring your laptop with a power cable\n•It is essential to have Adobe Lightroom Classic installed on your computer. If this is your first time using it\, make sure you can open the program.\n•We encourage you to make sure your software is up-to-date with the newest version\n•If your computer requires an adapter for USB\, make sure to bring it\n•As always\, bring your enthusiasm and creative thoughts!
URL:https://ebay.huntsphoto.com/calendar/multi-session-series-adobe-lightroom-classic-file-management-editing-hunts-photo-providence-2022-03-24/
CATEGORIES:Editing & Printing Classes,Hunt's Photo, Providence,Instructor: Mike R.
ATTACH;FMTTYPE=image/jpeg:https://ebay.huntsphoto.com/wp-content/uploads/2016/03/Adobe-Lightroom-Image.jpg
END:VEVENT
BEGIN:VEVENT
DTSTART;TZID=America/New_York:20220324T180000
DTEND;TZID=America/New_York:20220324T200000
DTSTAMP:20260424T125909
CREATED:20220208T041351Z
LAST-MODIFIED:20220208T041351Z
UID:25106-1648144800-1648152000@ebay.huntsphoto.com
SUMMARY:Online: The Printed Vision- Comparing Paper Surfaces
DESCRIPTION:Presentation: Thursday March 10th\, 7-8pm • Online! \nPrinted Image Review: Thursday March 24th\, 6-8pm • In our Hunt’s Melrose store or Online! \nRecommended prerequisite: An interest in printing (But you do NOT need a printer!) \nInstructor: Paul Nelson \nBelow the course description (but before registration) will be a short explanation on how the class will run.\nAbout The Printed Vision Series\nThe printed image shows our successes and our faults at a much higher level of detail than the digital image. To become better photographers\, it helps to understand this by creating the printed image as a final product\, which is the purpose behind the Printed Vision Series.\nEach Printed Vision topic will meet for two sessions. In the first session\, we will discuss the topic and elaborate on editing with examples. This will include discussion of exposure\, dynamic range and color\, but also deeper points\, such as noise reduction\, image sharpening and grain. In between sessions 1 and 2\, attendees will independently process 1-2 images and submit them to the instructor for printing. We will print one of the two images leading into the second session and discuss some of the challenges we face in printing them.\nYou do not need to produce a new image for this class and can go into your archives to print\, but you are welcome to go out into the field and create something new based on the topic! \nThis Month’s Printed Vision Session: Comparing Paper Surfaces \nWhat does it look like on Matte Paper? What does it look like on Glossy Paper? Why would I print it on one versus the other? What does the paper bring to my image?\nIn this class\, we will help discuss the answers to these questions. In our instructional online presentation\, we’ll discuss some of the key differences between paper surfaces and present a variety of options for you to have your image printed. Then\, we will literally print the image two times so we can see the difference\, getting to the root of the answers.\nIn the end\, you will receive TWO prints of your edited image up to 13×19″ in size. (Please note: The cost of a 12×18 or 13×19 print on fine art paper is $35-$40; the cost of this class includes the cost of those prints!) \nReceiving Your Print\nAfter the class\, your print can either be mailed to you or picked up at one of our Hunt’s Photo store locations. \nRegistering and what is needed\nAfter you register for this class\, you will receive a confirmation email that will include information about how to access the online class\, including an online ID code that you will need to get into the class. Make sure to save this information. We will also send a reminder email about 24 hours prior to the class time with that same information. \n“You Are Being Recorded” (And Other Note Related Items)\nWe will be recording this class! The video will be available for download about 24-hours after the class for all attendees\, so don’t worry about taking unending notes. We will send this link attendees to download and rewatch at any time. \nRegister here\n***Having trouble registering? You can also register by clicking here! \n \nPlease read Hunt’s Terms & Conditions before signing up.
URL:https://ebay.huntsphoto.com/calendar/online-the-printed-vision-comparing-paper-surfaces-2022-03-24/
CATEGORIES:Editing & Printing Classes,Instructor: Paul N.,Online!
ATTACH;FMTTYPE=image/jpeg:https://ebay.huntsphoto.com/wp-content/uploads/2022/02/ComparingPrints-scaled.jpg
END:VEVENT
BEGIN:VEVENT
DTSTART;TZID=America/New_York:20220324T190000
DTEND;TZID=America/New_York:20220324T201500
DTSTAMP:20260424T125909
CREATED:20200528T160358Z
LAST-MODIFIED:20200528T160358Z
UID:25062-1648148400-1648152900@ebay.huntsphoto.com
SUMMARY:Online: The Wonderful World of Waterfalls (Photographing Water)
DESCRIPTION:Below the course description (but before registration) will be a short explanation on how the class will run. \nPhotographing waterfalls is one of life’s greatest pleasures. Nothing can ruin those perfect moments of listening to the sound of the water rushing while your camera captures the beauty around you\, although the bugs may try.\nIn this class\, we’ll talk about the technical and the artistic elements used to capture waterfalls at their best. This includes camera settings and adding in filters\, as well as composition and storytelling. \nRegistering and what is needed\nAfter you register for this class\, you will receive a confirmation email that will include information about how to access the online class\, including an online ID code that you will need to get into the class. Make sure to save this information. We will also send a reminder email about 48 hours prior to the class time with that same information. \nLayout of the class\nThe class will begin promptly at the time listed. The majority of the class–roughly 1 hour– will be a presentation on the topic\, followed by a short Q&A. During the class\, you are welcome to type in questions in the Chat box if you have specific questions as they are asked. We will do our best to answer those questions\, but if not\, feel free to ask them at the end. \n“You Are Being Recorded” (And Other Note Related Items)\nWe will be recording this class! The video will be available for download about 24-hours after the class for all attendees\, so don’t worry about taking unending notes. We will send this link attendees to download and rewatch at any time. In addition to this\, we will generally send out a PDF of the presentation (when applicable) and handouts on the topic. If handouts and PDFs are included\, we will send it out with the link for the video. \nCan’t attend the class? \nIf you can’t attend the class but still want to download the video\, no problem: Just sign up for the class! You don’t need to attend and we will send the video and PDF link the next day! \nWant to get this class after it’s been run?\nIf you want to purchase this or any other of the classes we have done\, you can certainly do so. Just send us an email at classes@huntsphoto.com and we can send you the invoice. (We prefer having folks in our classes\, but this option is available as well if you want to see it!) \nRegister here\n***Having trouble registering? You can also register by clicking here! \n \nPlease read Hunt’s Terms & Conditions before signing up.
URL:https://ebay.huntsphoto.com/calendar/online-the-wonderful-world-of-waterfalls-photographing-water-2022-03-24/
CATEGORIES:Instructor: Emily H.,Online!
ATTACH;FMTTYPE=image/jpeg:https://ebay.huntsphoto.com/wp-content/uploads/2020/05/@hojphoto_waterfalls-6792.jpg
END:VEVENT
END:VCALENDAR