BEGIN:VCALENDAR
VERSION:2.0
PRODID:-//Hunt&#039;s Photo Education - ECPv6.1.3//NONSGML v1.0//EN
CALSCALE:GREGORIAN
METHOD:PUBLISH
X-WR-CALNAME:Hunt&#039;s Photo Education
X-ORIGINAL-URL:https://ebay.huntsphoto.com
X-WR-CALDESC:Events for Hunt&#039;s Photo Education
REFRESH-INTERVAL;VALUE=DURATION:PT1H
X-Robots-Tag:noindex
X-PUBLISHED-TTL:PT1H
BEGIN:VTIMEZONE
TZID:America/New_York
BEGIN:DAYLIGHT
TZOFFSETFROM:-0500
TZOFFSETTO:-0400
TZNAME:EDT
DTSTART:20220313T070000
END:DAYLIGHT
BEGIN:STANDARD
TZOFFSETFROM:-0400
TZOFFSETTO:-0500
TZNAME:EST
DTSTART:20221106T060000
END:STANDARD
END:VTIMEZONE
BEGIN:VEVENT
DTSTART;TZID=America/New_York:20220402T090000
DTEND;TZID=America/New_York:20220402T150000
DTSTAMP:20260424T174147
CREATED:20220304T205335Z
LAST-MODIFIED:20220304T205335Z
UID:25296-1648890000-1648911600@ebay.huntsphoto.com
SUMMARY:Hunt's Portrait Workshop: Posing for Couples
DESCRIPTION:Saturday April 2nd\, 9am-3pm • Hunt’s Photo\, Manchester \nFeaturing posing techniques with couples \nRecommended Prerequisite: Basic knowledge of your camera\, interest in portraits \nInstructor: Rebecca Wade and Paul Nelson \nClass Size: Maximum 8 attendees \n                                                                                                                                                                                                                                                                                                                                                                                                                                                                                                                                                                                                                                                                                                                                                                                                                                                                                                                                                                                                                                                                                                                                                                                                                                                                                                                                                                                                                                                                                                                                                                                                                                                                                                                                                                                                                                                                                                                                                                                                                                                                                                                                                                                                                            \nWorkshop Description \nWorkshop Description\nJoin Hunt’s Photo Education for another entry in our series of portrait workshops where we will be emphasizing posing couples! This class is designed for photographers who want to learn how to pose couples\, and put their subjects at ease. This specific class will be held in a studio setting using natural light and a backdrop\, with the option to move outdoors—weather permitting. We will spend the bulk of the day photographing couples and discussing different settings.   \nCOVID-19 Policies on Masks and Social Distancing\nUntil further notice\, we will be requiring masks for our indoor classes. We also ask that you socially distance whenever possible.\nAs always\, if you are sick or feeling unwell\, STAY HOME! We will gladly give you a credit towards a future class. \nRegister here\n***Having trouble registering? You can also register by clicking here! \n\nIf you are attending this workshop\, we will send out more specific instructions to you a few days prior to the workshop. Please note: Some slight details above can be subject to change. This email will detail any of those minor changes. \nPlease read Hunt’s Terms & Conditions before signing up. \nGear\n•A standard zoom lens is always a good option\n•Portrait lenses range from 85mm to 130mm. Those lenses are recommended\n•You may choose a wider lens\, such as a 35mm or 50mm\, but be aware they will include more of the background\n•Feel free to bring snacks and water.\n•Bring an extra camera battery and memory cards.\n•As always\, bring your enthusiasm and creative thoughts!
URL:https://ebay.huntsphoto.com/calendar/hunts-portrait-workshop-posing-for-couples/
CATEGORIES:Hunt's Photo Walks,Hunt's Photo, Manchester,Instructor: Paul N.,Instructor: Rebecca W.
ATTACH;FMTTYPE=image/jpeg:https://ebay.huntsphoto.com/wp-content/uploads/2022/03/CouplesPosingA38A5169web.jpg
END:VEVENT
BEGIN:VEVENT
DTSTART;TZID=America/New_York:20220402T100000
DTEND;TZID=America/New_York:20220402T140000
DTSTAMP:20260424T174147
CREATED:20220303T205935Z
LAST-MODIFIED:20220303T205935Z
UID:25294-1648893600-1648908000@ebay.huntsphoto.com
SUMMARY:Toy Photography Workshop- Hunt's Photo\, Melrose
DESCRIPTION:Saturday April 2nd\, 10am-2pm • Hunt’s Photo\, Melrose \nInstructor: Emily Hojnowski \nFeaturing hands-on instruction on everything macro…with toys! \nRecommended prerequisite: Basic knowledge of your camera \nGroup Size: Limited to 8 attendees \n                                                                                                                                                                                                                                                                                                                                                                                                                                                                                                                                                                                                                                                                                                                                                                                                                                                                                                                                                                                                                                                                                                                                                                                                                                                                                                                                                                                                                                                                                                                                                                                                                                                                                                                                                                                                                                                                                                                                                                                                                                                                                                                                                                                                                                                                                                                                                                                                                                           \nWorkshop Description\nCome see your photography through the eyes of a kid and transform your toys into life size photos!\nIn this dual macro/still life class\, we’ll spend our day creating a variety of still life set ups\, unique macro scenarios\, different lighting techniques\, compositions\, and how to tell a story when working with toys. We will cover exposure\, composition\, how to use macro lenses and extension tubes\, how to set up lighting\, how to use light modifiers and more!  \nWe will be bringing lots of toys and other props to photograph for this workshop. However\, we find in our macro workshops that our attendees value shooting some things of their own as much if not more than what we bring. So\, while we will have those toys and props\, feel free to bring your own! \nCOVID-19 Policies on Masks and Social Distancing\nUntil further notice\, we will be requiring masks for our indoor classes. We also ask that you socially distance whenever possible.\nAs always\, if you are sick or feeling unwell\, STAY HOME! We will gladly give you a credit towards a future class. \nRegister here\n***Having trouble registering? You can also register by clicking here! \n\nIf you are attending this workshop\, we will send out more specific instructions to you a few days prior to the workshop. Please note: Some slight details above can be subject to change. This email will detail any of those minor changes. \nPlease read Hunt’s Terms & Conditions before signing up. \nGear \n•A Macro lens will be your best lens of choice for this workshop. Remember\, we have a rental department at rentals.huntsphoto.com\n•Alternatively\, you could consider a prime lens (ex 50mm) or a long telephoto zoom lens\, but macro is still best\n•Macro filters or extension tubes could also work\n•We will be bringing lots of toys and other props to photograph for this workshop. However\, we find in our macro workshops that our attendees value shooting some things of their own as much if not more than what we bring. So\, while we will have those toys and props\, feel free to bring your own!\n•Make sure to bring your tripod with a quick release plate and a shutter release\, if you have one.\n•Feel free to bring snacks and water\n•Bring an extra camera battery and memory cards.\n•As always\, bring your enthusiasm and creative thoughts!
URL:https://ebay.huntsphoto.com/calendar/toy-photography-workshop-hunts-photo-melrose/
CATEGORIES:Hunt's Photo Walks,Hunt's Photo, Melrose,Instructor: Emily H.
ATTACH;FMTTYPE=image/jpeg:https://ebay.huntsphoto.com/wp-content/uploads/2022/03/@hojphoto_toys-7257web.jpg
END:VEVENT
END:VCALENDAR