BEGIN:VCALENDAR
VERSION:2.0
PRODID:-//Hunt&#039;s Photo Education - ECPv6.1.3//NONSGML v1.0//EN
CALSCALE:GREGORIAN
METHOD:PUBLISH
X-WR-CALNAME:Hunt&#039;s Photo Education
X-ORIGINAL-URL:https://ebay.huntsphoto.com
X-WR-CALDESC:Events for Hunt&#039;s Photo Education
REFRESH-INTERVAL;VALUE=DURATION:PT1H
X-Robots-Tag:noindex
X-PUBLISHED-TTL:PT1H
BEGIN:VTIMEZONE
TZID:America/New_York
BEGIN:DAYLIGHT
TZOFFSETFROM:-0500
TZOFFSETTO:-0400
TZNAME:EDT
DTSTART:20210314T070000
END:DAYLIGHT
BEGIN:STANDARD
TZOFFSETFROM:-0400
TZOFFSETTO:-0500
TZNAME:EST
DTSTART:20211107T060000
END:STANDARD
END:VTIMEZONE
BEGIN:VEVENT
DTSTART;TZID=America/New_York:20210504T190000
DTEND;TZID=America/New_York:20210504T201500
DTSTAMP:20260421T153126
CREATED:20210325T051425Z
LAST-MODIFIED:20220106T201048Z
UID:21419-1620154800-1620159300@ebay.huntsphoto.com
SUMMARY:Online: Digital Photography Basics 1- Exposure\, The Big Three Settings\, Modes\, and More
DESCRIPTION:Recommended prerequisite: \nWe recommend you take this class if you have a DSLR or mirrorless camera \n“Bridge” cameras are also acceptable \nInstructor: Emily Hojnowski \nClass Level: Basic \n\n                                                                                                                                                                                                                                                                                                                           Polo at Myopia\, Fast Shutter Speed\, Low Depth of Field                                                                                                                                                                                                                Portrait of Lucy\, Low Depth of Field                                                                                                                                                                                                               Copley Square at Night\, long shutter speed\, high depth of field                                                                                                                                                                                                               Flower Close up\, macro photograph; low depth of field                                                                                                                                                                          \n\nBelow the course description (but before registration) will be a short explanation on how the class will run.\n\nDo you have a new DSLR that you have no idea how to use? Have you had your camera for 6 months\, a year or more and want to take better pictures? Are you putting your camera away because you just don’t see the difference between your expensive camera and your smart phone?\n\nLearn to fully utilize your cameras potentials! Harness your creative power with photography!\n\nThis is one of the first classes to consider when you’re getting started with your Digital SLR or Mirrorless camera. We will discuss Exposure (how light works with the camera)\, the Big Three Settings (Aperture\, Shutter Speed\, & ISO)\, how they affect your picture and how to set them\, and what mode to set it to on your camera! We’ll discuss changing depth-of-field (controlling what’s in focus in the background\, stopping or blurring the action in your scene\, and many other basic picture-taking techniques. We recommend taking this class prior to Digital Photography Basics 2\, which is the next logical step!\n\nJoin us to start learning about Digital Photography!\n\nRegistering and what is needed\nAfter you register for this class\, you will receive a confirmation email that will include information about how to access the online class\, including an online ID code that you will need to get into the class. Make sure to save this information. We will also send a reminder email about 48 hours prior to the class time with that same information.\n\nLayout of the class\nThe class will begin promptly at the time listed. The majority of the class–roughly 1 hour– will be a presentation on the topic\, followed by a short Q&A. During the class\, you are welcome to type in questions in the Chat box if you have specific questions as they are asked. We will do our best to answer those questions\, but if not\, feel free to ask them at the end.\n\n“You Are Being Recorded” (And Other Note Related Items)\nWe will be recording this class! The video will be available for download about 24-hours after the class for all attendees\, so don’t worry about taking unending notes. We will send this link attendees to download and rewatch at any time. In addition to this\, we will generally send out a PDF of the presentation (when applicable) and handouts on the topic. If handouts and PDFs are included\, we will send it out with the link for the video.\n\nCan’t attend the class? \nIf you can’t attend the class but still want to download the video\, no problem: Just sign up for the class! You don’t need to attend and we will send the video and PDF link the next day!\n\nWant to get this class after it’s been run?\nIf you want to purchase this or any other of the classes we have done\, you can certainly do so. Just send us an email at classes@huntsphoto.com and we can send you the invoice. (We prefer having folks in our classes\, but this option is available as well if you want to see it!)\n\nNo online classes should be shared and cannot be shared in a public environment\, including with camera clubs \nThe online content is the copyright of Hunt’s Photo Education and/or the Instructor. Please support our education team and instructors by not sharing this material! We appreciate your support\, and it’s thanks to that support that we are able to continue producing content!\n\n\nRegister here\n***Having trouble registering? You can also register by clicking here!\n\n\nPlease read Hunt’s Terms & Conditions before signing up.
URL:https://ebay.huntsphoto.com/calendar/online-digital-photography-basics-1-exposure-the-big-three-settings-modes-and-more-2-2021-05-04/
CATEGORIES:Beginner Classes,Instructor: Emily H.,Online!
ATTACH;FMTTYPE=image/jpeg:https://ebay.huntsphoto.com/wp-content/uploads/2017/08/Beginner-9865.jpg
END:VEVENT
BEGIN:VEVENT
DTSTART;TZID=America/New_York:20210505T190000
DTEND;TZID=America/New_York:20210505T203000
DTSTAMP:20260421T153126
CREATED:20210421T024946Z
LAST-MODIFIED:20210421T025718Z
UID:21493-1620241200-1620246600@ebay.huntsphoto.com
SUMMARY:Online: Tripods! Tips & Tricks!
DESCRIPTION:Wednesday May 5th\, 7-8:15pm EST • Online! \nRecommended prerequisite: None \nInstructor: Emily Hojnowski \nClass Level: Basic \nWant to get this class after it’s been run?– We have an online store where you can purchase all our previously run classes here: https://ebay.huntsphoto.com/buy-previous-courses/ \nBelow the course description (but before registration) will be a short explanation on how the class will run. \nWhat’s the deal with tripods? Often\, we get questions about what is important when purchasing a tripod and why we might choose one tripod over another. Even more often\, we will be on photo walks and attendees will come with tripods that just don’t “fit the bill”–in other words\, they wobble\, they don’t get tall enough\, and their end result (the photograph) isn’t tack-sharp. Even other times\, our attendees are flummoxed as to how to set up a tripod.\nBut no longer! This course will teach you all about tripods\, including what options to look for\, the varying parts of a tripod\, and how to use one properly. Come join us as we get you more stable! \nRegistering and what is needed\nAfter you register for this class\, you will receive a confirmation email that will include information about how to access the online class\, including an online ID code that you will need to get into the class. Make sure to save this information. We will also send a reminder email about 48 hours prior to the class time with that same information. \nLayout of the class\nThe class will begin promptly at the time listed. The majority of the class–roughly 1 hour– will be a presentation on the topic\, followed by a short Q&A. During the class\, you are welcome to type in questions in the Chat box if you have specific questions as they are asked. We will do our best to answer those questions\, but if not\, feel free to ask them at the end. \nWant to get this class after it’s been run?– We have an online store where you can purchase all our previously run classes here: https://ebay.huntsphoto.com/buy-previous-courses/ \nRegister here\n***Having trouble registering? You can also register by clicking here!\n \nPlease read Hunt’s Terms & Conditions before signing up.
URL:https://ebay.huntsphoto.com/calendar/online-tripods-tips-tricks-2/
CATEGORIES:Beginner Classes,Instructor: Emily H.,Online!
ATTACH;FMTTYPE=image/jpeg:https://ebay.huntsphoto.com/wp-content/uploads/2020/03/tripod.jpg
END:VEVENT
BEGIN:VEVENT
DTSTART;TZID=America/New_York:20210508T090000
DTEND;TZID=America/New_York:20210508T130000
DTSTAMP:20260421T153126
CREATED:20210421T152901Z
LAST-MODIFIED:20210421T152901Z
UID:21557-1620464400-1620478800@ebay.huntsphoto.com
SUMMARY:Beginner Photography in the Field: Castle Island\, Boston
DESCRIPTION:Recommended prerequisite: \nWe recommend you take this class if you have a DSLR or mirrorless camera \n“Bridge” cameras are also acceptable \nAll Skill Levels Welcome \nInstructor: Emily Hojnowski \nClass Size: 8 attendees \nClass Description\nLearning about photography can be a real challenge. There are so many pieces to the puzzle of photography\, some of which use confusing terminology. And while we also offer other wonderful Beginner Photography classes to get you started\, nothing is truly the same as hands-on in-the-field! It’s important to fully understand the “why” and “how” of your camera settings. \nIn this outdoor\, hands-on class\, you’ll learn all about the basics of photography. We will discuss Exposure (how light works with the camera)\, the Big Three Settings (Aperture\, Shutter Speed\, & ISO)\, how they affect your picture and how to set them\, and what mode to set it to on your camera! We’ll discuss changing depth-of-field (controlling what’s in focus in the background)\, stopping or blurring the action in your scene\, and many other basic picture-taking techniques. This will be an excellent opportunity to learn about your camera in a fun and safe environment! Join us to strengthen your photographic knowledge! \nIn this session of Beginner Photography in the Field…\n…we will be going to Castle Island in South Boston. Jutting out into the Boston Harbor from South Boston lies the unique and beautiful Castle Island\, along with one of its main attractions\, the historic Fort Independence. During the summer months\, the boulevard that guides you around the strip of land buzzes with activity. Fort Independence overlooks the entire area on a hilltop. With a 360-degree hillside view and panoramas onto the bay and into Boston\, as well as the lively activity\, Castle Island is breathtaking in the summer months. This is an excellent area to learn about photography with a variety of fine-details and interesting scenes that can lead to terrific photographs.   \nA Guideline for our in-person workshops during the era of COVID-19\nHunt’s Photo Education remains dedicated to the health and safety of every single attendee\, student\, and customer\, first and foremost. We also are committed to the best possible learning experience. We have put forth rules and guidelines for Photo Workshops that occur during the era of COVID.\n•We will have no more than 6-8 attendees per Photo Workshop with a single instructor\n•We ask that all attendees wear a mask. (Please make sure the mask covers your mouth and nose.)\n•We ask that all attendees socially distance 6 feet from one another\, unless you are attending with the other person\n•Hunt’s Photo Educators will be unable to physically handle others’ cameras\n•Consider bringing sanitizing wipes and hand sanitizer\n•If you are sick or feeling unwell\, stay home! We will gladly give you credit towards a future class! \nThese guidelines will stay in place until further notice. We appreciate your patience and understanding during this time. If you have any questions\, feel free to contact us at classes@huntsphoto.com. \nRegister here\n***Having trouble registering? You can also register by clicking here!\n \nIf you are attending this workshop\, we will send out more specific instructions to you a few days prior. Please note: Some slight details above can be subject to change. This email will detail any of those minor changes.\nPlease read Hunt’s Terms & Conditions before signing up. \nDress and Gear \n•Make sure to dress accordingly with the most current weather report.\n•Make sure to bring your camera and any lenses you want to use. 1-2 lenses should be fine\, but but be advised to bring only what you want to carry.\n•Bring an extra camera battery (make sure to charge it!) and memory cards.\n•You are welcome to bring a tripod\, but you don’t need to.\n•Feel free to bring snacks and water.\n•As always\, bring your enthusiasm and creative thoughts! \nPlease note\n•There are bathrooms located on the premises of Castle Island\n•There is a large parking lot next to Castle Island. Parking is free and generally very open in the morning.
URL:https://ebay.huntsphoto.com/calendar/beginner-photography-in-the-field-castle-island-boston/
CATEGORIES:Beginner Classes,Instructor: Emily H.
ATTACH;FMTTYPE=image/jpeg:https://ebay.huntsphoto.com/wp-content/uploads/2021/02/@hojphoto_lensbaby-8385.jpg
END:VEVENT
BEGIN:VEVENT
DTSTART;TZID=America/New_York:20210511T190000
DTEND;TZID=America/New_York:20210511T203000
DTSTAMP:20260421T153126
CREATED:20210317T164448Z
LAST-MODIFIED:20220111T044700Z
UID:21464-1620759600-1620765000@ebay.huntsphoto.com
SUMMARY:Online: Digital Photography Basics 2- Focus\, Lenses\, Depth of Field\, RAW and More
DESCRIPTION:Recommended prerequisite: \nWe recommend you take this class if you have a DSLR or mirrorless camera \n“Bridge” cameras are also acceptable \nInstructor: Emily Hojnowski \nClass Level: Basic \n\n\n                                                                                                                                                                                                                                                                                                                           Polo at Myopia\, Fast Shutter Speed\, Low Depth of Field                                                                                                                                                                                                                Portrait of Lucy\, Low Depth of Field                                                                                                                                                                                                               Copley Square at Night\, long shutter speed\, high depth of field                                                                                                                                                                                                               Flower Close up\, macro photograph; low depth of field                                                                                                                                                                          \n\nBelow the course description (but before registration) will be a short explanation on how the class will run.\n\nIn a continuation of our Digital Photography Basics 1 class\, this course continues by discussing more very important elements\, including how to get better results with focusing\, depth of field\, photographing in RAW vs JPEG and more! This course offers an excellent opportunity to continue learning about the many elements of Digital Photography!\n\nJoin us as we continue learning about Digital Photography!\n\nRegistering and what is needed\nAfter you register for this class\, you will receive a confirmation email that will include information about how to access the online class\, including an online ID code that you will need to get into the class. Make sure to save this information. We will also send a reminder email about 48 hours prior to the class time with that same information.\n\nLayout of the class\nThe class will begin promptly at the time listed. The majority of the class–roughly 1 hour– will be a presentation on the topic\, followed by a short Q&A. During the class\, you are welcome to type in questions in the Chat box if you have specific questions as they are asked. We will do our best to answer those questions\, but if not\, feel free to ask them at the end.\n\n“You Are Being Recorded” (And Other Note Related Items)\nWe will be recording this class! The video will be available for download about 24-hours after the class for all attendees\, so don’t worry about taking unending notes. We will send this link attendees to download and rewatch at any time. In addition to this\, we will generally send out a PDF of the presentation (when applicable) and handouts on the topic. If handouts and PDFs are included\, we will send it out with the link for the video.\n\nCan’t attend the class? \nIf you can’t attend the class but still want to download the video\, no problem: Just sign up for the class! You don’t need to attend and we will send the video and PDF link the next day!\n\nWant to get this class after it’s been run?\nIf you want to purchase this or any other of the classes we have done\, you can certainly do so. Just send us an email at classes@huntsphoto.com and we can send you the invoice. (We prefer having folks in our classes\, but this option is available as well if you want to see it!)\n\nNo online classes should be shared and cannot be shared in a public environment\, including with camera clubs \nThe online content is the copyright of Hunt’s Photo Education and/or the Instructor. Please support our education team and instructors by not sharing this material! We appreciate your support\, and it’s thanks to that support that we are able to continue producing content!\n\nRegister here\n\n\n\nPlease read Hunt’s Terms & Conditions before signing up.
URL:https://ebay.huntsphoto.com/calendar/online-digital-photography-basics-2-focus-lenses-depth-of-field-raw-and-more-2-2021-05-11/
CATEGORIES:Beginner Classes,Instructor: Emily H.,Online!
ATTACH;FMTTYPE=image/jpeg:https://ebay.huntsphoto.com/wp-content/uploads/2017/08/Beginner-9865.jpg
END:VEVENT
BEGIN:VEVENT
DTSTART;TZID=America/New_York:20210518T190000
DTEND;TZID=America/New_York:20210518T201500
DTSTAMP:20260421T153126
CREATED:20200325T024143Z
LAST-MODIFIED:20220106T200649Z
UID:21739-1621364400-1621368900@ebay.huntsphoto.com
SUMMARY:Online: Get Organized: File Management 101
DESCRIPTION:Below the course description (but before registration) will be a short explanation on how the class will run. \nDo you love taking photos but are unsure of what to do with them? Do you leave images on your memory card or scattered throughout your computer in various folders? This class is all about organizing your computer files to make them easier to find. Join Hunt’s Photo Educator Emily Hojnowski as she answers the age old question “What do I do with all of these images now that I’ve taken them!?” This course will cover the following topics:\n•Creating a file management system\n•Where to store your images\n•File naming\n•Raw vs JPG\n•and more!  \nRegistering and what is needed\nAfter you register for this class\, you will receive a confirmation email that you have signed up. About 24 hours prior to the class time\, we will send out an email with the weblink for you to follow as well as information on how to access the class online. (It’s pretty easy\, but we’ll walk you through it in a quick online video!) \nLayout of the class\nThe class will begin promptly at the time listed. The majority of the class–roughly 1 hour– will be a presentation on the topic\, followed by a short Q&A. During the class\, you are welcome to type in questions in the Chat box if you have specific questions as they are asked. We will do our best to answer those questions\, but if not\, feel free to ask them at the end. \nRegister here\n***Having trouble registering? You can also register by clicking here!\n \nPlease read Hunt’s Terms & Conditions before signing up.
URL:https://ebay.huntsphoto.com/calendar/online-get-organized-file-management-101-2021-05-18/
CATEGORIES:Beginner Classes,Instructor: Emily H.,Online!
ATTACH;FMTTYPE=image/jpeg:https://ebay.huntsphoto.com/wp-content/uploads/2016/05/MoabJuniper4.jpg
END:VEVENT
END:VCALENDAR