BEGIN:VCALENDAR
VERSION:2.0
PRODID:-//Hunt&#039;s Photo Education - ECPv6.1.3//NONSGML v1.0//EN
CALSCALE:GREGORIAN
METHOD:PUBLISH
X-WR-CALNAME:Hunt&#039;s Photo Education
X-ORIGINAL-URL:https://ebay.huntsphoto.com
X-WR-CALDESC:Events for Hunt&#039;s Photo Education
REFRESH-INTERVAL;VALUE=DURATION:PT1H
X-Robots-Tag:noindex
X-PUBLISHED-TTL:PT1H
BEGIN:VTIMEZONE
TZID:America/New_York
BEGIN:DAYLIGHT
TZOFFSETFROM:-0500
TZOFFSETTO:-0400
TZNAME:EDT
DTSTART:20210314T070000
END:DAYLIGHT
BEGIN:STANDARD
TZOFFSETFROM:-0400
TZOFFSETTO:-0500
TZNAME:EST
DTSTART:20211107T060000
END:STANDARD
END:VTIMEZONE
BEGIN:VEVENT
DTSTART;TZID=America/New_York:20210917T170000
DTEND;TZID=America/New_York:20210917T210000
DTSTAMP:20260422T142915
CREATED:20210825T043100Z
LAST-MODIFIED:20210825T043100Z
UID:23079-1631898000-1631912400@ebay.huntsphoto.com
SUMMARY:Beginner Photography in the Field: The Zakim Bridge
DESCRIPTION:Friday\, September 17th\, 5-9pm • Cambridge\, MA \nRecommended prerequisite: \nWe recommend you take this class if you have a DSLR or mirrorless camera \n“Bridge” cameras are also acceptable \nAll Skill Levels Welcome \nInstructor: Emily Hojnowski \nClass Size: 8 attendees \n                                                                                                                                                                                                                                                                                                                                                                                                                                                                                                                                                                                                                                                                                                                                                                                                                                                                                                                                                                                                                                                                                                                                                                                                                                                                                                                                                                                                                                                                                                                                                                                                                                                                                                                                                                                                                                                                                                                                                                                                                                                                                                                                                                                                                                                                                                                                                                                                                                           \nClass Description\nLearning about photography can be a real challenge. There are so many pieces to the puzzle of photography\, some of which use confusing terminology. And while we also offer other wonderful Beginner Photography classes to get you started\, nothing is truly the same as hands-on in-the-field! It’s important to fully understand the “why” and “how” of your camera settings. \nIn this outdoor\, hands-on class\, you’ll learn all about the basics of photography. We will discuss Exposure (how light works with the camera)\, the Big Three Settings (Aperture\, Shutter Speed\, & ISO)\, how they affect your picture and how to set them\, and what mode to set it to on your camera! We’ll discuss changing depth-of-field (controlling what’s in focus in the background)\, stopping or blurring the action in your scene\, and many other basic picture-taking techniques. This will be an excellent opportunity to learn about your camera in a fun and safe environment! Join us to strengthen your photographic knowledge! \nIn this session of Beginner Photography in the Field…\n…we will be going to the Zakim Bridge from Cambridge to Boston.  Boston and Cambridge are vibrant\, colorful cities after dark. Despite the limitations of darkness there is still great detail and color to be captured through your lenses. Our walk will take us along the Charles River to the Zakim Bridge. During this session of Beginner Photography in the Field\, you will learn about photography in the field at the Zakim Bridge and surrounding areas during blue hour\, sunset\, and civil twilight. This is a classic location and a terrific chance to learn about long-exposures. If you’re a beginner and you also want to learn about how to shoot in low-light and night situations\, this is a great opportunity! (Honestly\, it’s really a great opportunity for ANYONE that’s a beginner!) Bring your camera and your enthusiasm to learn all about photography in a hands-on\, real-life environment!\nAnd yes\, you’ll end up with images in the end like those you see here. \nUpdated COVID-19 Policies for outdoor Hunt’s Photo Walks and Workshops\nHunt’s Photo Education is aligning with CDC and state guidelines and will no longer require face masks for our outdoor Photo Walks. If you are more comfortable wearing a mask\, please feel free to do so. We also recommend bringing a mask\, just in case. We also ask that you maintain social distance of 6 feet from one another.\nHunt’s Photo Education will still adhere to our 8 person attendee maximum per Photo Walk with a single instructor (unless otherwise noted).\nAs always\, if you are sick or feeling unwell\, STAY HOME! We will gladly give you a credit towards a future walk. \nThese guidelines will stay in place until further notice. We appreciate your patience and understanding during this time. If you have any questions\, feel free to contact us at classes@huntsphoto.com. \nRegister here\n***Having trouble registering? You can also register by clicking here!\n \nIf you are attending this workshop\, we will send out more specific instructions to you a few days prior. Please note: Some slight details above can be subject to change. This email will detail any of those minor changes.\nPlease read Hunt’s Terms & Conditions before signing up. \nDress and Gear \n•Make sure to dress accordingly with the most current weather report.\n•Make sure to bring your camera and any lenses you want to use. 1-2 lenses should be fine\, but but be advised to bring only what you want to carry.\n•Bring an extra camera battery (make sure to charge it!) and memory cards.\n•You are welcome to bring a tripod\, but you don’t need to.\n•Feel free to bring snacks and water.\n•As always\, bring your enthusiasm and creative thoughts!
URL:https://ebay.huntsphoto.com/calendar/beginner-photography-in-the-field-the-zakim-bridge/
CATEGORIES:Beginner Classes,Hunt's Photo Walks,Instructor: Emily H.
ATTACH;FMTTYPE=image/jpeg:https://ebay.huntsphoto.com/wp-content/uploads/2021/05/@hojphoto_northpointpark-8647.jpg
END:VEVENT
END:VCALENDAR