BEGIN:VCALENDAR
VERSION:2.0
PRODID:-//Hunt&#039;s Photo Education - ECPv6.1.3//NONSGML v1.0//EN
CALSCALE:GREGORIAN
METHOD:PUBLISH
X-ORIGINAL-URL:https://ebay.huntsphoto.com
X-WR-CALDESC:Events for Hunt&#039;s Photo Education
REFRESH-INTERVAL;VALUE=DURATION:PT1H
X-Robots-Tag:noindex
X-PUBLISHED-TTL:PT1H
BEGIN:VTIMEZONE
TZID:America/New_York
BEGIN:DAYLIGHT
TZOFFSETFROM:-0500
TZOFFSETTO:-0400
TZNAME:EDT
DTSTART:20190310T070000
END:DAYLIGHT
BEGIN:STANDARD
TZOFFSETFROM:-0400
TZOFFSETTO:-0500
TZNAME:EST
DTSTART:20191103T060000
END:STANDARD
END:VTIMEZONE
BEGIN:VEVENT
DTSTART;TZID=America/New_York:20190106T110000
DTEND;TZID=America/New_York:20190106T150000
DTSTAMP:20260420T105253
CREATED:20181128T172403Z
LAST-MODIFIED:20191121T191710Z
UID:11907-1546772400-1546786800@ebay.huntsphoto.com
SUMMARY:Lightroom to Photoshop and Back Again- Hunt's Photo\, Melrose
DESCRIPTION:Hunt’s Photo Education often promotes the idea of using Adobe Lightroom for most basic editing\, as the program’s interface for editing multiple images is fairly intuitive and is designed specifically for photographers. Lightroom can do quite a bit\, but there are times when Adobe Photoshop can do a better job. But where can we benefit from using Photoshop as opposed to Lightroom?\nOur course\, Lightroom to Photoshop and Back Again\, does exactly what the title says\, by starting in Lightroom\, then bringing images into Photoshop\, and then sending them back to Lightroom. We will begin by making basic changes to the images in Lightroom\, then bring them to Photoshop to fine-tune them and make the corrections that we either cannot make in Lightroom or ones that would be easier or better quality to make in Photoshop. Since Lightroom functions as an organizer as well as an editor\, we will finish by bringing the images back into Lightroom.\nIn this course we will learn:\n•When and why to use PS over LR\n•What are Layers?\n•Basic Photoshop workflow\n•Removing objects\n•Basic adjustments\n•Adding text \nWe recommend bringing a laptop for this class with Adobe Lightroom CC Classic and Adobe Photoshop CC installed. Please be advised: Lightroom CC Classic and Photoshop CC are the only versions we recommend for this class. Please make sure they are both downloaded and make sure you can open them prior to arriving. Also\, please be advised that Adobe Photoshop Elements and older versions of Photoshop have very different layouts and will not translate as well for this class.  \n \nPlease read Hunt’s Terms & Conditions before signing up.
URL:https://ebay.huntsphoto.com/calendar/lightroom-to-photoshop-and-back-again-hunts-photo-melrose/
LOCATION:Hunt’s Photo\, Melrose\, 100 Main St.\, Melrose\, MA\, 02176\, United States
CATEGORIES:Editing & Printing Classes,Hunt's Photo, Melrose,Instructor: Ron P.
ATTACH;FMTTYPE=image/jpeg:https://ebay.huntsphoto.com/wp-content/uploads/2018/11/Photoshop-for-Lightroom.jpg
END:VEVENT
BEGIN:VEVENT
DTSTART;TZID=America/New_York:20190119T090000
DTEND;TZID=America/New_York:20190119T120000
DTSTAMP:20260420T105253
CREATED:20181120T221947Z
LAST-MODIFIED:20181127T133400Z
UID:11742-1547888400-1547899200@ebay.huntsphoto.com
SUMMARY:Shooting  and Editing in B&W- Hunt's Photo\, Melrose
DESCRIPTION:Let’s take your Black and White imagery from drab to dramatic! Join Hunt’s Photo Education as we teach how to “see” in black and white and establish what makes a good black and white photo. We will begin the class by discussing the techniques needed to shoot the best images and transition to how to best edit these images in Lightroom. \nA sample of topics to be discussed: \n•What makes a good B&W image\n•LR workflow for B&W images\n•What is sharp vs. what is not\n•What is textured vs. smooth\n•Whites & Blacks vs Highlights & Shadows\n•Local adjustments in Lightroom\n•High key\, low key\, and other B&W styles \nFeel free to bring your camera with a lens and memory card for the first half of the class and then your laptop for the second half of the class. We will provide images for you to work on in black & white\, which we will be demoing on screen at the same time. \nTo sign up in Melrose…
URL:https://ebay.huntsphoto.com/calendar/shooting-and-editing-in-bw/
LOCATION:Hunt’s Photo\, Melrose\, 100 Main St.\, Melrose\, MA\, 02176\, United States
CATEGORIES:Beginner Classes,Editing & Printing Classes,Hunt's Photo, Melrose,Instructor: Emily H.
ATTACH;FMTTYPE=image/jpeg:https://ebay.huntsphoto.com/wp-content/uploads/2018/11/@hojphoto_BW_lowres-8652.jpg
END:VEVENT
BEGIN:VEVENT
DTSTART;TZID=America/New_York:20190124T180000
DTEND;TZID=America/New_York:20190124T203000
DTSTAMP:20260420T105253
CREATED:20181130T062818Z
LAST-MODIFIED:20200303T040107Z
UID:12024-1548352800-1548361800@ebay.huntsphoto.com
SUMMARY:Adobe Lightroom Classic\, Part 2 of 2- Hunt's Photo\, Providence
DESCRIPTION:In our Providence locations\, this course is split into two consecutive weeks\, 2.5 hours each week \nDeveloped by photographers\, for photographers\, Adobe Lightroom provides amateur enthusiast and photographers with the necessary tools for basic image management and high-level image post-production.  From highlight to shadow\, contrast and brightness\, then color correction to cropping\, Lightroom provides all of the necessary tools to adjust and print your image files.  This course focuses on how to organize your images for quick retrieval via keywords\, ratings\, etc\, demonstrates the basic tools and processes available within Lightroom to both manage and process images quickly and efficiently. \nAn important note about this course! There are now a few different versions of Adobe Lightroom right now. This course is specifically on Adobe Lightroom Classic. The other version of Lightroom\, commonly known as “Adobe Lightroom” (yes\, we understand you may be confused by this) is a more mobile and cloud-based program. The look and feel of the program is completely different– This course is specifically on Adobe Lightroom Classic.  If you are unsure\, feel free to email us at classes@huntsphoto.com. Important: If you are taking this course\, make sure to download/update the program in advance\, as you will not be able to download the program at the store. Older versions\, such as Lightroom 5 or 6\, are also acceptable\, though not all functions will be available.
URL:https://ebay.huntsphoto.com/calendar/adobe-lightroom-basics-part-2-of-2-hunts-photo-providence/
LOCATION:Hunt’s Photo\, Providence\, 571 N. Main St\, Providence\, RI\, 02904\, United States
CATEGORIES:Editing & Printing Classes,Hunt's Photo, Providence,Instructor: Mike R.
ATTACH;FMTTYPE=image/jpeg:https://ebay.huntsphoto.com/wp-content/uploads/2016/03/Adobe-Lightroom-Image.jpg
END:VEVENT
BEGIN:VEVENT
DTSTART;TZID=America/New_York:20190129T180000
DTEND;TZID=America/New_York:20190129T200000
DTSTAMP:20260420T105253
CREATED:20181121T064117Z
LAST-MODIFIED:20190528T021104Z
UID:11797-1548784800-1548792000@ebay.huntsphoto.com
SUMMARY:Lightroom Editing for Landscapes- Hunt's Photo\, Melrose
DESCRIPTION:Do you want your landscape photos to show off the beauty and feeling of the moment that you took them? Join Hunt’s Instructor Emily Hojnowski as she goes through her Lightroom workflow step-by-step to get your best landscape images. \nIn this course we will cover: \n•Discussion of exposure for landscapes\n•Basic Global edits for landscape imagery\n•Toning your image\n•Graduated filters\, adjustment brushes and other local adjustments\n•Panorama stitching\n•And more! \nWe recommend bringing a laptop for this class with Adobe Lightroom CC Classic installed. We will provide images for you to work on in black & white\, which we will be demoing on screen at the same time. \n \nPlease read Hunt’s Terms & Conditions before signing up.
URL:https://ebay.huntsphoto.com/calendar/lightroom-editing-for-landscapes-hunts-photo-melrose/
LOCATION:Hunt’s Photo\, Melrose\, 100 Main St.\, Melrose\, MA\, 02176\, United States
CATEGORIES:Editing & Printing Classes,Hunt's Photo, Melrose,Instructor: Emily H.
ATTACH;FMTTYPE=image/jpeg:https://ebay.huntsphoto.com/wp-content/uploads/2018/11/@hojphoto_Landscape_lowres-9190.jpg
END:VEVENT
END:VCALENDAR