BEGIN:VCALENDAR
VERSION:2.0
PRODID:-//Hunt&#039;s Photo Education - ECPv6.1.3//NONSGML v1.0//EN
CALSCALE:GREGORIAN
METHOD:PUBLISH
X-ORIGINAL-URL:https://ebay.huntsphoto.com
X-WR-CALDESC:Events for Hunt&#039;s Photo Education
REFRESH-INTERVAL;VALUE=DURATION:PT1H
X-Robots-Tag:noindex
X-PUBLISHED-TTL:PT1H
BEGIN:VTIMEZONE
TZID:America/New_York
BEGIN:DAYLIGHT
TZOFFSETFROM:-0500
TZOFFSETTO:-0400
TZNAME:EDT
DTSTART:20170312T070000
END:DAYLIGHT
BEGIN:STANDARD
TZOFFSETFROM:-0400
TZOFFSETTO:-0500
TZNAME:EST
DTSTART:20171105T060000
END:STANDARD
END:VTIMEZONE
BEGIN:VEVENT
DTSTART;TZID=America/New_York:20170923T060000
DTEND;TZID=America/New_York:20170923T110000
DTSTAMP:20260419T163240
CREATED:20170919T022733Z
LAST-MODIFIED:20170919T022733Z
UID:8394-1506146400-1506164400@ebay.huntsphoto.com
SUMMARY:Hunt's Photo Walk: Sunrise at Portland Head Light
DESCRIPTION:Join instructor Rick Berk for a sunrise photo walk at Portland Head Light\, followed by a walk around the Old Port in Portland.  On the walk\, we will cover exposure\, composition\, depth of field\, concepts in black and white\, natural lighting\, knowledge of your camera\, and more. Photographers of all skill levels are encouraged to attend.\nFor more information\, click here.
URL:https://ebay.huntsphoto.com/calendar/hunts-photo-walk-sunrise-at-portland-head-light/
CATEGORIES:Hunt's Photo Walks
ATTACH;FMTTYPE=image/jpeg:https://ebay.huntsphoto.com/wp-content/uploads/2017/08/20170423_PortlandHead_0003web.jpg
END:VEVENT
BEGIN:VEVENT
DTSTART;TZID=America/New_York:20170923T120000
DTEND;TZID=America/New_York:20170923T160000
DTSTAMP:20260419T163240
CREATED:20170919T023119Z
LAST-MODIFIED:20190422T143825Z
UID:8396-1506168000-1506182400@ebay.huntsphoto.com
SUMMARY:Hunt's Photo Walk: Mt. Holyoke College Greenhouse & Campus
DESCRIPTION:Join Hunt’s Education for a walk on one of the “Seven Sisters” colleges\, as we photograph the Talcott Greenhouse\, botanical gardens\, Mt. Holyoke Library and more!\nFor more information\, click here.
URL:https://ebay.huntsphoto.com/calendar/hunts-photo-walk-mt-holyoke-college-greenhouse-campus/
CATEGORIES:Hunt's Photo Walks
ATTACH;FMTTYPE=image/jpeg:https://ebay.huntsphoto.com/wp-content/uploads/2016/08/MtHolyoke.jpg
END:VEVENT
BEGIN:VEVENT
DTSTART;TZID=America/New_York:20170928T173000
DTEND;TZID=America/New_York:20170928T210000
DTSTAMP:20260419T163240
CREATED:20170919T023353Z
LAST-MODIFIED:20180618T162611Z
UID:8398-1506619800-1506632400@ebay.huntsphoto.com
SUMMARY:Hunt's Photo Walk: Charles River & BU Footbridge
DESCRIPTION:Our walk will take us along the Charles River to the BU Footbridge. We will then photograph both the BU footbridge from the land\, and also the Charles River from the footbridge\, utilizing the evening light\, civil twilight\, and night time light. \nFor more information\, click here.
URL:https://ebay.huntsphoto.com/calendar/hunts-photo-walk-charles-river-bu-footbridge/
CATEGORIES:Hunt's Photo Walks
ATTACH;FMTTYPE=image/jpeg:https://ebay.huntsphoto.com/wp-content/uploads/2017/08/XT15789-1-4.jpg
END:VEVENT
BEGIN:VEVENT
DTSTART;TZID=America/New_York:20170929T173000
DTEND;TZID=America/New_York:20170929T223000
DTSTAMP:20260419T163240
CREATED:20170919T024004Z
LAST-MODIFIED:20170919T024004Z
UID:8400-1506706200-1506724200@ebay.huntsphoto.com
SUMMARY:Hunt's Photo Walk: Boston After Dark- Fan Pier
DESCRIPTION:We will walk to one of the best locations for shooting the skyline\, the historic harbor\, and the areas around Fan Pier\, then continue to the Channel to photograph some of the cities highlights. \nFor more information\, click here.
URL:https://ebay.huntsphoto.com/calendar/fan-pier/
CATEGORIES:Hunt's Photo Walks
ATTACH;FMTTYPE=image/jpeg:https://ebay.huntsphoto.com/wp-content/uploads/2015/11/File11-scaled.jpg
END:VEVENT
END:VCALENDAR