BEGIN:VCALENDAR
VERSION:2.0
PRODID:-//Hunt&#039;s Photo Education - ECPv6.1.3//NONSGML v1.0//EN
CALSCALE:GREGORIAN
METHOD:PUBLISH
X-ORIGINAL-URL:https://ebay.huntsphoto.com
X-WR-CALDESC:Events for Hunt&#039;s Photo Education
REFRESH-INTERVAL;VALUE=DURATION:PT1H
X-Robots-Tag:noindex
X-PUBLISHED-TTL:PT1H
BEGIN:VTIMEZONE
TZID:America/New_York
BEGIN:DAYLIGHT
TZOFFSETFROM:-0500
TZOFFSETTO:-0400
TZNAME:EDT
DTSTART:20180311T070000
END:DAYLIGHT
BEGIN:STANDARD
TZOFFSETFROM:-0400
TZOFFSETTO:-0500
TZNAME:EST
DTSTART:20181104T060000
END:STANDARD
END:VTIMEZONE
BEGIN:VEVENT
DTSTART;TZID=America/New_York:20180204T130000
DTEND;TZID=America/New_York:20180204T170000
DTSTAMP:20260425T202416
CREATED:20171129T162805Z
LAST-MODIFIED:20180112T175231Z
UID:9086-1517749200-1517763600@ebay.huntsphoto.com
SUMMARY:Hunt's Photo Walks: Sports & Action- Northeastern University Women's Basketball
DESCRIPTION:Join instructor Don Toothaker for a series of photo walks photographing action in live hockey. Thanks to our friends at Northeastern University\, we have been given permission to bring small groups to specific games at Northeastern to photograph these fast-paced\, intense matchups!\nOn these dates\, we will spend a few hours working on shooting action\, proper white balance\, panning action sequences\, auto-focus for action\, and subject development. Basketball and hockey are exciting fast-paced sports full of excitement. We will capture the action!\n•Friday January 12th\, 6-10pm • Cabot Center\, NU vs College of Charleston\n•Sunday February 4th\, 1-5pm • Cabot Center\, NU vs Delaware \nFor more information and to register\, click here. \nMake sure to register for the correct date and time
URL:https://ebay.huntsphoto.com/calendar/hunts-photo-walks-sports-action-northeastern-university-womens-basketball-2018-02-04/
CATEGORIES:Hunt's Photo Walks
ATTACH;FMTTYPE=image/jpeg:https://ebay.huntsphoto.com/wp-content/uploads/2015/12/Basketball-Northeastern.jpg
END:VEVENT
BEGIN:VEVENT
DTSTART;TZID=America/New_York:20180216T160000
DTEND;TZID=America/New_York:20180216T200000
DTSTAMP:20260425T202416
CREATED:20171129T161637Z
LAST-MODIFIED:20171129T161637Z
UID:9078-1518796800-1518811200@ebay.huntsphoto.com
SUMMARY:Hunt's Photo Walk: Boston After Dark- Science & North Point Parks
DESCRIPTION:Join instructor Don Toothaker for a night walk on the border of Cambridge and Boston at the Museum of Science & North Point Park. During the walk\, we will discuss Subject Development\, Image Composition\, Long Exposures\, Black and White Photography and Architectural Photography.\nFor more information and to register\, click here. \n\nPlease read Hunt’s Terms & Conditions before signing up.
URL:https://ebay.huntsphoto.com/calendar/hunts-photo-walk-boston-after-dark-science-north-point-parks/
CATEGORIES:Hunt's Photo Walks,Photo Walks in Greater Boston
ATTACH;FMTTYPE=image/jpeg:https://ebay.huntsphoto.com/wp-content/uploads/2017/04/Museum-of-Science.jpg
END:VEVENT
BEGIN:VEVENT
DTSTART;TZID=America/New_York:20180217T100000
DTEND;TZID=America/New_York:20180217T140000
DTSTAMP:20260425T202416
CREATED:20171202T225855Z
LAST-MODIFIED:20181127T133331Z
UID:9165-1518861600-1518876000@ebay.huntsphoto.com
SUMMARY:Hunt's Photo Walk: The Flume & Ice Climbing
DESCRIPTION:The Flume is an 800-foot long natural gorge that for generations has drawn outdoor enthusiasts\, hikers\, and photographers from New England and beyond to explore its impressive granite walls\, waterfall\, and stream.  Known as a popular spring\, summer\, and fall destination primarily\, the Flume also boasts exciting activity during winter months as well.   We will hike into the Flume and photograph colorful climbers as they ascend and descend the 90-foot ice covered walls of the Flume.  If weather permits we will also explore The Basin for some winter and ice scenes.  After shooting\, we will head to nearby North Woodstock NH for some hot lunch and a visit to a classic country store.\nFor more information and to register\, click here.\n\nPlease read Hunt’s Terms & Conditions before signing up.\nIf you are attending this walk\, we will send out more specific instructions to you a few days prior to the walk. Please note: Some slight details above can be subject to change. This email will detail any of those minor changes.
URL:https://ebay.huntsphoto.com/calendar/hunts-photo-walk-the-flume-ice-climbing/
CATEGORIES:Hunt's Photo Walks,Instructor: Don T.,Instructor: Harper H.,Photo Walks in New Hampshire & Maine
ATTACH;FMTTYPE=image/jpeg:https://ebay.huntsphoto.com/wp-content/uploads/2017/12/Flume-8948.jpg
END:VEVENT
BEGIN:VEVENT
DTSTART;TZID=America/New_York:20180218T110000
DTEND;TZID=America/New_York:20180218T150000
DTSTAMP:20260425T202416
CREATED:20171203T174915Z
LAST-MODIFIED:20180116T205051Z
UID:9196-1518951600-1518966000@ebay.huntsphoto.com
SUMMARY:Macro & Tabletop Workshop
DESCRIPTION:Too often we feel that our photography comes to a halt during inclement weather.  However\, there is ample opportunity to make use of our creativity while staying indoors.  Many household items\, cut flowers\, books\, antiques\, jewelry\, and glassware all make for wonderful subjects while using natural window light.  Every table in your house can become a landscape of opportunity with some imagination and creativity.\nFor more information and to register\, click here. \n \nPlease read Hunt’s Terms & Conditions before signing up.
URL:https://ebay.huntsphoto.com/calendar/macro-tabletop-workshop/
CATEGORIES:Hunt's Photo Walks,Misc. Workshops & Seminars
ATTACH;FMTTYPE=image/jpeg:https://ebay.huntsphoto.com/wp-content/uploads/2017/12/Tea-Cup-.jpg
END:VEVENT
BEGIN:VEVENT
DTSTART;TZID=America/New_York:20180224T100000
DTEND;TZID=America/New_York:20180224T140000
DTSTAMP:20260425T202416
CREATED:20180124T221118Z
LAST-MODIFIED:20190130T024613Z
UID:9367-1519466400-1519480800@ebay.huntsphoto.com
SUMMARY:Hunt's Photo Walk: The Botanic Gardens at Smith College
DESCRIPTION:Join Hunt’s Photo Education for a walk through the lush greenhouse and botanic garden at Smith College. During this walk we will discuss different ways to capture plants life in an up close\, personal\, and unique way.\nOften\, the winter can be a difficult time to photograph under good lighting conditions. The Botanic Gardens of Smith College offer both excellent subject matter and an optimal environment in which to photograph— warm\, and indoors\, but with outdoor lighting! The Botanic Gardens are split into a variety of areas\, showing off just some of Smith’s 7\,000 plant varieties. This walk is an excellent chance to work on fine-tuning exposure\, focus\, and composition!\n*Please note: Due to the general cold weather we expect in February\, this walk will concentrate on only the Lyman Conservatory\, unless the weather allows us to get outside!\n\nIf you are attending this walk\, we will send out more specific instructions to you a few days prior to the walk. Please note: Some slight details above can be subject to change. This email will detail any of those minor changes.\nPlease read Hunt’s Terms & Conditions before signing up.
URL:https://ebay.huntsphoto.com/calendar/hunts-photo-walk-the-botanic-gardens-at-smith-college/
CATEGORIES:Hunt's Photo Walks,Instructor: Trisha S.,Photo Walks in Western Massachusetts
ATTACH;FMTTYPE=image/jpeg:https://ebay.huntsphoto.com/wp-content/uploads/2017/01/IMG_3815-scaled.jpg
END:VEVENT
BEGIN:VEVENT
DTSTART;TZID=America/New_York:20180224T130000
DTEND;TZID=America/New_York:20180224T180000
DTSTAMP:20260425T202416
CREATED:20171129T221443Z
LAST-MODIFIED:20180530T221622Z
UID:9108-1519477200-1519495200@ebay.huntsphoto.com
SUMMARY:Hunt's Photo Walk: Harvard Square in the Evening
DESCRIPTION:Join Hunt’s Photo Education for a photo walk in Harvard Square. This is a walk that will challenge your abilities\, but will ultimately be a rewarding experience! We will be focusing on street photography during the day\, low-light shooting as we approach dusk\, and long exposures in both the civil twilight and at night. Our walk will lead us in and out of Harvard Square.\nFor more information and to register\, click here.\n \nPlease read Hunt’s Terms & Conditions before signing up.
URL:https://ebay.huntsphoto.com/calendar/hunts-photo-walk-the-streets-of-harvard-square/
CATEGORIES:Hunt's Photo Walks
ATTACH;FMTTYPE=image/jpeg:https://ebay.huntsphoto.com/wp-content/uploads/2015/04/Harvard-Streaking.jpg
END:VEVENT
END:VCALENDAR