BEGIN:VCALENDAR
VERSION:2.0
PRODID:-//Hunt&#039;s Photo Education - ECPv6.1.3//NONSGML v1.0//EN
CALSCALE:GREGORIAN
METHOD:PUBLISH
X-WR-CALNAME:Hunt&#039;s Photo Education
X-ORIGINAL-URL:https://ebay.huntsphoto.com
X-WR-CALDESC:Events for Hunt&#039;s Photo Education
REFRESH-INTERVAL;VALUE=DURATION:PT1H
X-Robots-Tag:noindex
X-PUBLISHED-TTL:PT1H
BEGIN:VTIMEZONE
TZID:America/New_York
BEGIN:DAYLIGHT
TZOFFSETFROM:-0500
TZOFFSETTO:-0400
TZNAME:EDT
DTSTART:20190310T070000
END:DAYLIGHT
BEGIN:STANDARD
TZOFFSETFROM:-0400
TZOFFSETTO:-0500
TZNAME:EST
DTSTART:20191103T060000
END:STANDARD
END:VTIMEZONE
BEGIN:VEVENT
DTSTART;TZID=America/New_York:20190201T110000
DTEND;TZID=America/New_York:20190201T150000
DTSTAMP:20260421T091056
CREATED:20181121T065920Z
LAST-MODIFIED:20200129T145631Z
UID:11806-1549018800-1549033200@ebay.huntsphoto.com
SUMMARY:Hunt's Photo Walk: Charles River Museum of Industry & Innovation
DESCRIPTION:Join Hunt’s Photo Education for a look into the past at the Charles River Museum of Industry in Waltham. In this workshop\, we will discuss Subject Development\, Image Composition\, Macro Photography\, HDR\, Black and White Photography\, and Architectural Photography.\nThe industrial revolution changed our country\, and the world\, forever.  The Charles River Museum of Industry is currently housed in what is considered the first ever factory in America. In Waltham\, the closed factory now plays the role of housing a history of the tools and machinery used in industry. This walk is an excellent chance to photograph the grit of the previous centuries under the Industrial Revolution\, and is a chance to work in low-light environments where the lighting sources cannot be controlled and focus on macro photography.\nFor the bulk of the time\, we will explore the interior of the museum\, looking for images that tell the significant historic story they offer.  If weather allows\, we will also photograph on the exterior of the location. Join us for a creative day of looking into the past! \n \nIf you are attending this walk\, we will send out more specific instructions to you a few days prior to the walk. Please note: Some slight details above can be subject to change. This email will detail any of those minor changes.\nPlease read Hunt’s Terms & Conditions before signing up.
URL:https://ebay.huntsphoto.com/calendar/hunts-photo-walk-charles-river-museum-of-industry-innovation/
CATEGORIES:Hunt's Photo Walks,Instructor: Don T.,Instructor: Ron P.,Photo Walks in Greater Boston
ATTACH;FMTTYPE=image/jpeg:https://ebay.huntsphoto.com/wp-content/uploads/2019/02/poppit.jpg
END:VEVENT
BEGIN:VEVENT
DTSTART;TZID=America/New_York:20190209T070000
DTEND;TZID=America/New_York:20190209T110000
DTSTAMP:20260421T091056
CREATED:20190115T022132Z
LAST-MODIFIED:20200210T033429Z
UID:12176-1549695600-1549710000@ebay.huntsphoto.com
SUMMARY:Hunt's Photo Walk: Early Morning Light at Fan Pier
DESCRIPTION:Join Hunt’s Photo Education for a morning along Boston’s historic waterfront area.  We will touch upon numerous aspects of photography\, including image composition\, architectural photography\, exposure and how to make creative images in the early morning light. (Please note: This isn’t necessarily a “sunrise” walk\, but instead an “early morning light” walk.)\nBoston is a vibrant\, colorful city\, and in early morning\, we can capture that terrific color and some terrific scenes! We will start by photographing the skyline and harbor and move to other areas around Fan Pier. We will search out interesting areas and construct beautiful imagery during this time.\n***Please Note: This is an outdoor walk in February\, which means it is weather dependent. It will likely be somewhat cold\, and we will take short breaks indoors to review images in order to maintain for this time. Should the weather inhibit this walk\, you are entitled to a full refund. \n\nIf you are attending this walk\, we will send out more specific instructions to you a few days prior to the walk. Please note: Some slight details above can be subject to change. Our follow-up email will detail any of those minor changes.\nPlease read Hunt’s Terms & Conditions before signing up.
URL:https://ebay.huntsphoto.com/calendar/hunts-photo-walk-early-morning-light-at-fan-pier/
CATEGORIES:Hunt's Photo Walks,Instructor: Ron P.,Photo Walks in Greater Boston
ATTACH;FMTTYPE=image/jpeg:https://ebay.huntsphoto.com/wp-content/uploads/2019/01/10494318_258276571032425_3568330695439802744_o-1.jpg
END:VEVENT
END:VCALENDAR