BEGIN:VCALENDAR
VERSION:2.0
PRODID:-//Hunt&#039;s Photo Education - ECPv6.1.3//NONSGML v1.0//EN
CALSCALE:GREGORIAN
METHOD:PUBLISH
X-WR-CALNAME:Hunt&#039;s Photo Education
X-ORIGINAL-URL:https://ebay.huntsphoto.com
X-WR-CALDESC:Events for Hunt&#039;s Photo Education
REFRESH-INTERVAL;VALUE=DURATION:PT1H
X-Robots-Tag:noindex
X-PUBLISHED-TTL:PT1H
BEGIN:VTIMEZONE
TZID:America/New_York
BEGIN:DAYLIGHT
TZOFFSETFROM:-0500
TZOFFSETTO:-0400
TZNAME:EDT
DTSTART:20190310T070000
END:DAYLIGHT
BEGIN:STANDARD
TZOFFSETFROM:-0400
TZOFFSETTO:-0500
TZNAME:EST
DTSTART:20191103T060000
END:STANDARD
END:VTIMEZONE
BEGIN:VEVENT
DTSTART;TZID=America/New_York:20190112T090000
DTEND;TZID=America/New_York:20190112T170000
DTSTAMP:20260423T121916
CREATED:20181128T191328Z
LAST-MODIFIED:20191123T054042Z
UID:11959-1547283600-1547312400@ebay.huntsphoto.com
SUMMARY:Hunt's Portrait Walk: Portrait Lighting Bootcamp
DESCRIPTION:Join Hunt’s Photo Education for our Portrait Lighting Bootcamp\, where we will workshop portraits using practical lighting options. Lighting can be intimidating\, whether using a speedlight on camera (or off) or a studio strobe. Our goal is to get each attendee more comfortable with the basics of lighting\, demonstrate how and why to set up lights in certain ways\, and how to create stunning portraits with these lights. \nIn the workshop\, we will create three basic setups with models at each location: Creative lighting portraits; corporate head shots; and full-length portraits. We will utilize both studio strobes and speedlights in order to get you comfortable with using both.  \nMost importantly\, attendees will be guiding the setup (and take down) of all the gear. This allows for more hands-on working with everything involved with studio lighting\, from the light to the light stand to the background.\nAttendees are encouraged to bring their own gear\, but we will begin with gear that anyone can use\, including: \n-Elinchrom Strobes\n-Speedlights (both brand–Nikon\, Canon\, Sony– and non-brand specific–Phottix\, etc.)\n-Phottix & Pocket Wizard Radio Triggers\n-Sekonic Lightmeters\n-Tethering capabilities for applicable cameras \nWhat to bring:\n-Camera with fully charged battery\n-Memory cards\n-For lenses\, consider bringing lenses between 50mm and 100mm. Prime lenses with low apertures are a great option\, but zoom lenses that fit this range will also work fine.\n-You are welcome to bring your own speedlights and triggers\, but we will begin the day using generic options. \nLayout of the day: \n9am- Introductions\, brief presentation on lighting\, camera setup\,\n10:30am- Demoing of setups\n11:30am- Short lunch break\n12-4pm- Photographing with models. We will have about 4 hours in three setups.\n4-5pm- Review of images & takeaways from the day
URL:https://ebay.huntsphoto.com/calendar/hunts-portrait-walk-portrait-lighting-bootcamp/
LOCATION:Hunt’s Photo\, Melrose\, 100 Main St.\, Melrose\, MA\, 02176\, United States
CATEGORIES:Hunt's Photo Walks,Hunt's Photo Workshops,Hunt's Photo, Melrose,Instructor: Don T.,Instructor: Emily H.,Instructor: Paul N.,Lighting & Flash Classes
ATTACH;FMTTYPE=image/jpeg:https://ebay.huntsphoto.com/wp-content/uploads/2019/04/Doug.jpg
END:VEVENT
END:VCALENDAR