BEGIN:VCALENDAR
VERSION:2.0
PRODID:-//Hunt&#039;s Photo Education - ECPv6.1.3//NONSGML v1.0//EN
CALSCALE:GREGORIAN
METHOD:PUBLISH
X-ORIGINAL-URL:https://ebay.huntsphoto.com
X-WR-CALDESC:Events for Hunt&#039;s Photo Education
REFRESH-INTERVAL;VALUE=DURATION:PT1H
X-Robots-Tag:noindex
X-PUBLISHED-TTL:PT1H
BEGIN:VTIMEZONE
TZID:America/New_York
BEGIN:DAYLIGHT
TZOFFSETFROM:-0500
TZOFFSETTO:-0400
TZNAME:EDT
DTSTART:20190310T070000
END:DAYLIGHT
BEGIN:STANDARD
TZOFFSETFROM:-0400
TZOFFSETTO:-0500
TZNAME:EST
DTSTART:20191103T060000
END:STANDARD
END:VTIMEZONE
BEGIN:VEVENT
DTSTART;TZID=America/New_York:20190802T190000
DTEND;TZID=America/New_York:20190802T220000
DTSTAMP:20260422T191242
CREATED:20190711T214547Z
LAST-MODIFIED:20190711T214811Z
UID:13361-1564772400-1564783200@ebay.huntsphoto.com
SUMMARY:Hunt's Photo Walk: Piers Park\, East Boston
DESCRIPTION:Join Hunt’s Photo Education for a photo walk at Piers Park in East Boston. During the walk\, we will discuss shooting in lower light with an emphasis on night photography. This will include assistance with exposure\, composition\, focusing\, use of tripods\, and a myriad of other settings and concepts! \nMuch of East Boston consists of dense residential neighborhoods\, in part as a carryover from the area’s heavy influx of immigration at the turn of the previous century\, and in part to its proximity to downtown Boston. Piers Park was developed in the mid-1990s as a contrast to this\, offering beautiful landscaping\, natural vegetation\, and stunning views of downtown Boston. On this walk\, we will photograph the grounds of Piers Park and the skyline during blue hour\, sunset\, and civil twilight. Photographers of all levels are welcome! \n  \n \nIf you are attending this walk\, we will send out more specific instructions to you a few days prior to the walk. Please note: Some slight details above can be subject to change. This email will detail any of those minor changes.\nPlease read Hunt’s Terms & Conditions before signing up.\nIf you are interested in learning a little more about your camera (or anything else photographic-related) prior to the walk\, we would love to have you for a Custom 1-on-1 class.  \nAttendees should have: \nDigital Camera and Lens\nMemory Card\nTripod \nSuggested Items Attendees should have: \nVarious lenses\nExtra memory cards\nExtra camera battery\nFlashlight\nSnacks\nWater
URL:https://ebay.huntsphoto.com/calendar/hunts-photo-walk-piers-park-east-boston-2/
CATEGORIES:Hunt's Photo Walks,Instructor: Emily H.,Instructor: Ron P.,Photo Walks in Greater Boston
ATTACH;FMTTYPE=image/jpeg:https://ebay.huntsphoto.com/wp-content/uploads/2017/03/Piers-Park-East-Boston-Don-Toothaker-Edited_BW-20140717-_DET5078-122-294.jpg
END:VEVENT
END:VCALENDAR