BEGIN:VCALENDAR
VERSION:2.0
PRODID:-//Hunt&#039;s Photo Education - ECPv6.1.3//NONSGML v1.0//EN
CALSCALE:GREGORIAN
METHOD:PUBLISH
X-WR-CALNAME:Hunt&#039;s Photo Education
X-ORIGINAL-URL:https://ebay.huntsphoto.com
X-WR-CALDESC:Events for Hunt&#039;s Photo Education
REFRESH-INTERVAL;VALUE=DURATION:PT1H
X-Robots-Tag:noindex
X-PUBLISHED-TTL:PT1H
BEGIN:VTIMEZONE
TZID:America/New_York
BEGIN:DAYLIGHT
TZOFFSETFROM:-0500
TZOFFSETTO:-0400
TZNAME:EDT
DTSTART:20190310T070000
END:DAYLIGHT
BEGIN:STANDARD
TZOFFSETFROM:-0400
TZOFFSETTO:-0500
TZNAME:EST
DTSTART:20191103T060000
END:STANDARD
END:VTIMEZONE
BEGIN:VEVENT
DTSTART;TZID=America/New_York:20190928T080000
DTEND;TZID=America/New_York:20190928T160000
DTSTAMP:20260425T113301
CREATED:20190820T173633Z
LAST-MODIFIED:20190820T173633Z
UID:13655-1569657600-1569686400@ebay.huntsphoto.com
SUMMARY:Hunt's Photo Workshop: HDR\, ft Horn Pond
DESCRIPTION:Join Hunt’s Photo Education for a workshop on how to create photographs in the field suitable for creating HDR images\, and how to easily process them using Adobe Lightroom. \nThe problem: Often when we photograph\, there are very bright areas and very dark areas\, and the camera’s sensor (or film) cannot accurately create detail in all of those areas. Examples of this are photographs of the sky and a shadowy landscape\, or perhaps a photograph of the inside of a building (dark) looking to the outside (bright).\nThe solution: HDR. \nHigh Dynamic Range (HDR) has existed in photography for almost as long as photography has existed. Originally\, film photographers would take two (or more) exposures and combine them in post-production\, as film simply did not have the latitude (or “dynamic range”) to capture both areas accurately.  In the example of the landscape with the sky\, photographers could photograph the sky at one exposure to obtain detail\, then separately photograph the landscape at a separate exposure. Modern digital camera sensors have improved upon that dynamic range\, but we still can benefit from High Dynamic Range in Post-Production. \nIn this workshop\, we will begin by photographing in the field at Horn Pond in Woburn with a short class and discussion about camera settings and the morning’s goals. We will then workshop how to best take photographs for HDR by bracketing exposure. We will then break and drive separately to our store at Hunt’s Photo in Melrose for post-processing the bracketed photographs using Adobe Lightroom. \nPlease note: Many programs offer HDR processing of images through bracketing\, but this course will specifically be using Adobe Lightroom. We separately have offered (and will offer again) courses using Adobe Photoshop\, but this course will not cover Photoshop. \n \nIf you are attending this walk\, we will send out more specific instructions to you a few days prior to the walk. However\, be advised we will be meeting at Horn Pond in Woburn. Please note: Some slight details above can be subject to change. This email will detail any of those minor changes.\nPlease read Hunt’s Terms & Conditions before signing up.
URL:https://ebay.huntsphoto.com/calendar/hunts-photo-workshop-hdr-ft-horn-pond/
CATEGORIES:Hunt's Photo Walks,Hunt's Photo Workshops,Instructor: Emily H.,Instructor: Ron P.,Photo Walks in Greater Boston
ATTACH;FMTTYPE=image/jpeg:https://ebay.huntsphoto.com/wp-content/uploads/2018/05/Horn-Pond.jpg
END:VEVENT
END:VCALENDAR