BEGIN:VCALENDAR
VERSION:2.0
PRODID:-//Hunt&#039;s Photo Education - ECPv6.1.3//NONSGML v1.0//EN
CALSCALE:GREGORIAN
METHOD:PUBLISH
X-ORIGINAL-URL:https://ebay.huntsphoto.com
X-WR-CALDESC:Events for Hunt&#039;s Photo Education
REFRESH-INTERVAL;VALUE=DURATION:PT1H
X-Robots-Tag:noindex
X-PUBLISHED-TTL:PT1H
BEGIN:VTIMEZONE
TZID:America/New_York
BEGIN:DAYLIGHT
TZOFFSETFROM:-0500
TZOFFSETTO:-0400
TZNAME:EDT
DTSTART:20200308T070000
END:DAYLIGHT
BEGIN:STANDARD
TZOFFSETFROM:-0400
TZOFFSETTO:-0500
TZNAME:EST
DTSTART:20201101T060000
END:STANDARD
END:VTIMEZONE
BEGIN:VEVENT
DTSTART;TZID=America/New_York:20200229T090000
DTEND;TZID=America/New_York:20200229T140000
DTSTAMP:20260419T211853
CREATED:20200114T050901Z
LAST-MODIFIED:20200211T045149Z
UID:15333-1582966800-1582984800@ebay.huntsphoto.com
SUMMARY:Macro & Close Up Photography Workshop- Hunt's Photo\, Providence
DESCRIPTION:Too often we feel that our photography comes to a halt during inclement weather. However\, there is ample opportunity to make use of our creativity while staying indoors. Many household items– cut flowers\, books\, antiques\, jewelry\, and glassware– all make for wonderful subjects while using natural window light. Every table in your house can become a landscape of opportunity with some imagination and creativity. \nWe will spend our day creating a variety of still life set ups\, unique macro scenarios\, and learning about the use of light and light modifiers.\nIn this workshop we will cover exposure\, composition\, how to use macro lenses and extension tubes\, how to set up lighting\, how to use light modifiers and more! \nWe will be bringing lots of props and flowers to photograph for this workshop. However\, we found on the last couple macro workshops that our attendees value shooting some things of their own as much if not more than what we bring. So\, while we will have props\, feel free to bring your own props\, trinkets\, and other things that may (or may not) be important to you! \n \nPlease read Hunt’s Terms & Conditions before signing up.
URL:https://ebay.huntsphoto.com/calendar/macro-close-up-photography-workshop-hunts-photo-providence/
CATEGORIES:Hunt's Photo Walks,Hunt's Photo, Providence,Instructor: Mike R.,Instructor: Ron P.,Photo Walks in Rhode Island & Connecticut
ATTACH;FMTTYPE=image/jpeg:https://ebay.huntsphoto.com/wp-content/uploads/2018/06/Macro6.jpg
END:VEVENT
END:VCALENDAR