BEGIN:VCALENDAR
VERSION:2.0
PRODID:-//Hunt&#039;s Photo Education - ECPv6.1.3//NONSGML v1.0//EN
CALSCALE:GREGORIAN
METHOD:PUBLISH
X-ORIGINAL-URL:https://ebay.huntsphoto.com
X-WR-CALDESC:Events for Hunt&#039;s Photo Education
REFRESH-INTERVAL;VALUE=DURATION:PT1H
X-Robots-Tag:noindex
X-PUBLISHED-TTL:PT1H
BEGIN:VTIMEZONE
TZID:America/New_York
BEGIN:DAYLIGHT
TZOFFSETFROM:-0500
TZOFFSETTO:-0400
TZNAME:EDT
DTSTART:20190310T070000
END:DAYLIGHT
BEGIN:STANDARD
TZOFFSETFROM:-0400
TZOFFSETTO:-0500
TZNAME:EST
DTSTART:20191103T060000
END:STANDARD
END:VTIMEZONE
BEGIN:VEVENT
DTSTART;TZID=America/New_York:20190323T130000
DTEND;TZID=America/New_York:20190323T160000
DTSTAMP:20260425T063431
CREATED:20190125T043134Z
LAST-MODIFIED:20190402T161439Z
UID:12209-1553346000-1553356800@ebay.huntsphoto.com
SUMMARY:Advanced Printing Techniques- Printing in Adobe Lightroom\, Hunt's Photo\, Melrose
DESCRIPTION:For ages\, darkroom printing was an art form that was destined only for those that had a darkroom. Now they practically give digital printers away\, and what darkroom techniques were sequestered to your basement can now be duplicated in a corner office.\nBut Digital Printing\, while simple in concept\, has a myriad number of curiosities and questions associated with it. Among the issues printers run into are color correction\, proper exposure\, ability to utilize multiple papers\, understanding how to edit for print\, how to print in black and white\, and why and when to use certain tools. In this course\, we will answer these questions\, as well as refer back to some of the more basic elements of digital printing\, including ICC profiles\, monitor calibration\, and more!\nThis class is for anyone that has set up their printer and understands some of the basic concept of printing\, but is having issues producing consistent results\, or wants to go further in understanding how to achieve the best printing results! We love printing\, and we want to share that love of printing with you! You do not need to own a printer\, but it helps. We recommend Canon or Epson. \nWhile the time is limited\, we invite you to bring one or two potential images with you (on a memory card or thumb drive) that may be used in the class for demonstration. RAW files are recommended. \nFor more basic techniques in printing\, our Intro to Digital Printing course is recommended. \nTo register in Melrose…
URL:https://ebay.huntsphoto.com/calendar/advanced-printing-techniques-printing-in-adobe-lightroom-hunts-photo-melrose/
LOCATION:Hunt’s Photo\, Melrose\, 100 Main St.\, Melrose\, MA\, 02176\, United States
CATEGORIES:Editing & Printing Classes,Hunt's Photo, Melrose,Instructor: Paul N.
ATTACH;FMTTYPE=image/jpeg:https://ebay.huntsphoto.com/wp-content/uploads/2018/09/Basic-Printing-Image-2.jpg
END:VEVENT
END:VCALENDAR