BEGIN:VCALENDAR
VERSION:2.0
PRODID:-//Hunt&#039;s Photo Education - ECPv6.1.3//NONSGML v1.0//EN
CALSCALE:GREGORIAN
METHOD:PUBLISH
X-ORIGINAL-URL:https://ebay.huntsphoto.com
X-WR-CALDESC:Events for Hunt&#039;s Photo Education
REFRESH-INTERVAL;VALUE=DURATION:PT1H
X-Robots-Tag:noindex
X-PUBLISHED-TTL:PT1H
BEGIN:VTIMEZONE
TZID:America/New_York
BEGIN:DAYLIGHT
TZOFFSETFROM:-0500
TZOFFSETTO:-0400
TZNAME:EDT
DTSTART:20190310T070000
END:DAYLIGHT
BEGIN:STANDARD
TZOFFSETFROM:-0400
TZOFFSETTO:-0500
TZNAME:EST
DTSTART:20191103T060000
END:STANDARD
END:VTIMEZONE
BEGIN:VEVENT
DTSTART;TZID=America/New_York:20190601T130000
DTEND;TZID=America/New_York:20190601T200000
DTSTAMP:20260423T005634
CREATED:20190501T121856Z
LAST-MODIFIED:20190717T172616Z
UID:12950-1559394000-1559419200@ebay.huntsphoto.com
SUMMARY:Lighting with Speedlights: Outdoor Portraits using Flash
DESCRIPTION:Many people know how to take an adequate portrait in natural light\, but how can we integrate flash into the mix and why is it important? How can we turn a drab\, overcast day into something with a little pop? How can we counter harsh shadows on a bright and sunny day and still get worthwhile shots? Your flash can be the answer\, and it opens up a world of creativity once you understand how to set it\, modify it\, and integrate it into your portraits! \nOur Outdoor Portraits Using Flash workshop will cover these questions by discussing\, demonstrating\, and then practicing with models how to effectively use your flash outdoors in some basic ways. In this workshop\, we will work with flash both on the camera and off the camera with triggers. For those applicable cameras\, we will begin to work with high speed sync.\nWe will begin photographing in normal afternoon light and work our way into the evening to demonstrate the effect  \nIntegrating flash into outdoor portraits is an excellent way to liven up your portraits. \nAttendees are also encouraged to bring their own gear\, but we will begin with gear that anyone can use\, including: \n-A Variety of brands of Speedlights\n-Phottix & Pocket Wizard Triggers\n-Westcott & Phottix Softboxes\n-Rogue Flashbender products \nWhat to bring:\n-Camera with fully charged battery\n-Memory cards\n-For lenses\, consider bringing lenses between 50mm and 100mm. Prime lenses with low apertures are a great option\, but zoom lenses that fit this range will also work fine.\n-You are welcome to bring your own speedlights and triggers\, but we will begin the day using generic options. \nLayout of the day: \n1pm- Introductions\, brief presentation/discussion on exposure & speedlights\, camera setup\n2pm- Demoing shooting\n3-7pm- Photographing with models. We will have this time to photograph models\, split into multiple groups.
URL:https://ebay.huntsphoto.com/calendar/lighting-with-speedlights-outdoor-portraits-using-flash/
CATEGORIES:Hunt's Photo Walks,Hunt's Photo Workshops,Hunt's Photo, Melrose,Instructor: Paul N.,Instructor: Ron P.,Lighting & Flash Classes
ATTACH;FMTTYPE=image/jpeg:https://ebay.huntsphoto.com/wp-content/uploads/2019/05/Brit-09331.jpg
END:VEVENT
END:VCALENDAR