BEGIN:VCALENDAR
VERSION:2.0
PRODID:-//Hunt&#039;s Photo Education - ECPv6.1.3//NONSGML v1.0//EN
CALSCALE:GREGORIAN
METHOD:PUBLISH
X-ORIGINAL-URL:https://ebay.huntsphoto.com
X-WR-CALDESC:Events for Hunt&#039;s Photo Education
REFRESH-INTERVAL;VALUE=DURATION:PT1H
X-Robots-Tag:noindex
X-PUBLISHED-TTL:PT1H
BEGIN:VTIMEZONE
TZID:America/New_York
BEGIN:DAYLIGHT
TZOFFSETFROM:-0500
TZOFFSETTO:-0400
TZNAME:EDT
DTSTART:20190310T070000
END:DAYLIGHT
BEGIN:STANDARD
TZOFFSETFROM:-0400
TZOFFSETTO:-0500
TZNAME:EST
DTSTART:20191103T060000
END:STANDARD
END:VTIMEZONE
BEGIN:VEVENT
DTSTART;TZID=America/New_York:20191108T110000
DTEND;TZID=America/New_York:20191108T150000
DTSTAMP:20260422T210839
CREATED:20191031T141057Z
LAST-MODIFIED:20191031T141248Z
UID:14361-1573210800-1573225200@ebay.huntsphoto.com
SUMMARY:Sigma fp Camera Launch\, Hunt's Photo\, Melrose
DESCRIPTION:Friday November 8th\, 11am-3pm • Hunt’s Photo\, Melrose \nThe Sigma fp camera is a game changer. It is the world’s smallest and lightest “pocketable full-frame” camera. Meant bridge photographic gaps combining photography\, video and cinematography\, it’s a camera that offers superior performance\, a wide range of lenses\, high portability and the highest image quality.  Come and meet the fp\, experience all it has to offer with a hands-on experience. We’ve got experts to walk you through the camera and how it works\, it’s features and benefits and how it fits your particular photographic style\, needs\, goals and aspirations. Please join us at Hunt’s Photo in Melrose for an afternoon of fp demonstration on November 8th\, 11am-3pm. \nRegistration is not required but is appreciated! \nLet us know you’re coming!
URL:https://ebay.huntsphoto.com/calendar/sigma-fp-camera-launch/
CATEGORIES:Hunt's Photo, Melrose,Misc. Workshops & Seminars
ATTACH;FMTTYPE=image/jpeg:https://ebay.huntsphoto.com/wp-content/uploads/2019/10/fp-Oct-Retail-Facebook-1200x628-4.jpg
END:VEVENT
END:VCALENDAR