BEGIN:VCALENDAR
VERSION:2.0
PRODID:-//Hunt&#039;s Photo Education - ECPv6.1.3//NONSGML v1.0//EN
CALSCALE:GREGORIAN
METHOD:PUBLISH
X-WR-CALNAME:Hunt&#039;s Photo Education
X-ORIGINAL-URL:https://ebay.huntsphoto.com
X-WR-CALDESC:Events for Hunt&#039;s Photo Education
REFRESH-INTERVAL;VALUE=DURATION:PT1H
X-Robots-Tag:noindex
X-PUBLISHED-TTL:PT1H
BEGIN:VTIMEZONE
TZID:America/New_York
BEGIN:DAYLIGHT
TZOFFSETFROM:-0500
TZOFFSETTO:-0400
TZNAME:EDT
DTSTART:20190310T070000
END:DAYLIGHT
BEGIN:STANDARD
TZOFFSETFROM:-0400
TZOFFSETTO:-0500
TZNAME:EST
DTSTART:20191103T060000
END:STANDARD
END:VTIMEZONE
BEGIN:VEVENT
DTSTART;TZID=America/New_York:20191117T110000
DTEND;TZID=America/New_York:20191117T170000
DTSTAMP:20260420T132236
CREATED:20191022T201745Z
LAST-MODIFIED:20191022T202124Z
UID:14319-1573988400-1574010000@ebay.huntsphoto.com
SUMMARY:Panasonic Demo Days- Hunt's Photo\, Melrose
DESCRIPTION:Sunday November 17th\, 11am-5pm • Hunt’s Photo\, Melrose \nCome in and visit with Panasonic rep Brandon Cortez and experience the Lumix quality. Brandon will be on site to answer all questions\, including questions on the new Panasonic S1 and S1R\, Panasonic’s new full-frame mirrorless. Try out the gear and ask plenty of questions! \nRegistration is not required but is appreciated! \nLet us know you’re coming in Melrose
URL:https://ebay.huntsphoto.com/calendar/panasonic-demo-days-melrose/
CATEGORIES:Hunt's Photo, Melrose
ATTACH;FMTTYPE=image/jpeg:https://ebay.huntsphoto.com/wp-content/uploads/2019/02/event-panasonic-s1-s1r.jpg
END:VEVENT
END:VCALENDAR