BEGIN:VCALENDAR
VERSION:2.0
PRODID:-//Hunt&#039;s Photo Education - ECPv6.1.3//NONSGML v1.0//EN
CALSCALE:GREGORIAN
METHOD:PUBLISH
X-ORIGINAL-URL:https://ebay.huntsphoto.com
X-WR-CALDESC:Events for Hunt&#039;s Photo Education
REFRESH-INTERVAL;VALUE=DURATION:PT1H
X-Robots-Tag:noindex
X-PUBLISHED-TTL:PT1H
BEGIN:VTIMEZONE
TZID:America/New_York
BEGIN:DAYLIGHT
TZOFFSETFROM:-0500
TZOFFSETTO:-0400
TZNAME:EDT
DTSTART:20220313T070000
END:DAYLIGHT
BEGIN:STANDARD
TZOFFSETFROM:-0400
TZOFFSETTO:-0500
TZNAME:EST
DTSTART:20221106T060000
END:STANDARD
END:VTIMEZONE
BEGIN:VEVENT
DTSTART;TZID=America/New_York:20220312T100000
DTEND;TZID=America/New_York:20220312T140000
DTSTAMP:20260419T214948
CREATED:20220210T174415Z
LAST-MODIFIED:20220210T174415Z
UID:25126-1647079200-1647093600@ebay.huntsphoto.com
SUMMARY:Lensbaby Macro Photography Workshop
DESCRIPTION:Saturday March 12th\, 10am-2pm • Hunt’s Photo\, Melrose \nInstructor: Emily Hojnowski \nFeaturing hands-on instruction on everything macro! \nRecommended prerequisite: Basic knowledge of your camera \nGroup Size: Limited to 8 attendees \nWorkshop Description\nLensbaby lenses are a unique series of lenses\, available for most camera systems that give a variety of looks and effects. From swirling bokeh to dramatic vignettes\, velvety glows to swirly blurs\, and often with a bright sharp center\, these lenses present a unique style for the user experience. Lensbaby lenses are also not always the easiest to use or understand and require a lot of practice and fine-tuning.\nIn this workshop\, we will be working exclusively with Lensbaby to create Macro (and Tabletop) images. We will begin with a demo discussing using Lensbaby\, how to factor in lighting\, and creating macro setups\, and then dive right into individuals photographing their own setups.\nThis will be an excellent way to workshop your lens and is recommended for anyone that has struggled with or has questions on Lensbaby! \nCOVID-19 Policies on Masks and Social Distancing\nUntil further notice\, we will be requiring masks for our indoor classes. We also ask that you socially distance whenever possible.\nAs always\, if you are sick or feeling unwell\, STAY HOME! We will gladly give you a credit towards a future class. \nRegister here\n***Having trouble registering? You can also register by clicking here! \n\nIf you are attending this workshop\, we will send out more specific instructions to you a few days prior to the workshop. Please note: Some slight details above can be subject to change. This email will detail any of those minor changes. \nPlease read Hunt’s Terms & Conditions before signing up. \nGear \n•Bring your camera with memory cards and an extra battery\, as we’ll be doing a lot of shooting.\n•Your Lensbaby lens is essential for this workshop. Bring it!\n•Macro filters or extension tubes can also be used\n•Any Lensbaby attachment can also be used\n•For this workshop\, we always recommend bringing personal items that are special to you. Props\, trinkets\, jewelry\, flowers\, or even small toys are welcome. We will also have a large collection of items\, but if you have something of your own\, consider bringing it. Just remember- it should be small\, so don’t bring anything giant unless you want to photograph it very close-up.\n•Make sure to bring your tripod with a quick release plate and a shutter release\, if you have one.\n•Feel free to bring snacks and water\n•Bring an extra camera battery and memory cards.\n•As always\, bring your enthusiasm and creative thoughts!
URL:https://ebay.huntsphoto.com/calendar/lensbaby-macro-photography-workshop/
CATEGORIES:Hunt's Photo Workshops,Hunt's Photo, Melrose,Instructor: Emily H.
ATTACH;FMTTYPE=image/jpeg:https://ebay.huntsphoto.com/wp-content/uploads/2021/02/@hojphoto_lensbaby-0868.jpg
END:VEVENT
END:VCALENDAR