BEGIN:VCALENDAR
VERSION:2.0
PRODID:-//Hunt&#039;s Photo Education - ECPv6.1.3//NONSGML v1.0//EN
CALSCALE:GREGORIAN
METHOD:PUBLISH
X-WR-CALNAME:Hunt&#039;s Photo Education
X-ORIGINAL-URL:https://ebay.huntsphoto.com
X-WR-CALDESC:Events for Hunt&#039;s Photo Education
REFRESH-INTERVAL;VALUE=DURATION:PT1H
X-Robots-Tag:noindex
X-PUBLISHED-TTL:PT1H
BEGIN:VTIMEZONE
TZID:America/New_York
BEGIN:DAYLIGHT
TZOFFSETFROM:-0500
TZOFFSETTO:-0400
TZNAME:EDT
DTSTART:20190310T070000
END:DAYLIGHT
BEGIN:STANDARD
TZOFFSETFROM:-0400
TZOFFSETTO:-0500
TZNAME:EST
DTSTART:20191103T060000
END:STANDARD
END:VTIMEZONE
BEGIN:VEVENT
DTSTART;TZID=America/New_York:20190302T100000
DTEND;TZID=America/New_York:20190302T150000
DTSTAMP:20260421T114627
CREATED:20181210T173708Z
LAST-MODIFIED:20181210T173708Z
UID:12113-1551520800-1551538800@ebay.huntsphoto.com
SUMMARY:Macro & Tabletop Workshop- Hunt's Photo\, Melrose
DESCRIPTION:Too often we feel that our photography comes to a halt during inclement weather. However\, there is ample opportunity to make use of our creativity while staying indoors. Many household items– cut flowers\, books\, antiques\, jewelry\, and glassware– all make for wonderful subjects while using natural window light. Every table in your house can become a landscape of opportunity with some imagination and creativity. \nWe will spend our day creating a variety of still life set ups\, unique macro scenarios\, and learning about the use of light and light modifiers.\nIn this workshop we will cover exposure\, composition\, how to use macro lenses and extension tubes\, how to set up lighting\, how to use light modifiers and more!
URL:https://ebay.huntsphoto.com/calendar/macro-tabletop-workshop-hunts-photo-melrose/
LOCATION:Hunt’s Photo\, Melrose\, 100 Main St.\, Melrose\, MA\, 02176\, United States
CATEGORIES:Hunt's Photo Walks,Hunt's Photo Workshops,Hunt's Photo, Melrose,Instructor: Don T.,Instructor: Emily H.
ATTACH;FMTTYPE=image/jpeg:https://ebay.huntsphoto.com/wp-content/uploads/2018/12/macro-.jpg
END:VEVENT
BEGIN:VEVENT
DTSTART;TZID=America/New_York:20190316T060000
DTEND;TZID=America/New_York:20190316T100000
DTSTAMP:20260421T114627
CREATED:20190130T024842Z
LAST-MODIFIED:20190313T212205Z
UID:12239-1552716000-1552730400@ebay.huntsphoto.com
SUMMARY:Hunt's Photo Walk: Sunrise at Nubble Light & York Beach
DESCRIPTION:Join Hunt’s Photo Education on a sunrise/morning walk of Nubble Light and York Beach.  On the walk\, we will discuss elements of sunrise and early morning photography\, including proper exposure\, image composition\, HDR\, Black & White Photography and more. Photographers of all skill levels are encouraged to attend.\nNubble Light is a premiere destination for photographers. The Lighthouse is a simple beauty to behold\, with solid and simple colors that photograph well\, but under different lighting conditions can create vibrant\, striking images. We will photograph Nubble Light in this very light at sunrise\, then continue along to nearby York Beach. Both locations offer a wonderful history and tradition that lend well to storytelling through photography. \n\nIf you are attending this walk\, we will send out more specific instructions to you a few days prior to the walk. However\, be advised we will be meeting at Sohier Park (Nubble Lighthouse) at the time listed. Please note: Some slight details above can be subject to change. This email will detail any of those minor changes.\nPlease read Hunt’s Terms & Conditions before signing up.
URL:https://ebay.huntsphoto.com/calendar/hunts-photo-walk-sunrise-at-nubble-light-york-beach/
CATEGORIES:Hunt's Photo Walks,Instructor: Don T.,Instructor: Ron P.,Photo Walks in New Hampshire & Maine
ATTACH;FMTTYPE=image/jpeg:https://ebay.huntsphoto.com/wp-content/uploads/2016/07/Nubble-Light-The-Nubble_DT69897-15.jpg
END:VEVENT
BEGIN:VEVENT
DTSTART;VALUE=DATE:20190317
DTEND;VALUE=DATE:20190327
DTSTAMP:20260421T114627
CREATED:20180620T162015Z
LAST-MODIFIED:20181127T133952Z
UID:10551-1552780800-1553644799@ebay.huntsphoto.com
SUMMARY:Hunt's Photo Adventure: Cuba- Real & Raw
DESCRIPTION:Simply put\, Cuba is like no other place on earth.  The spellbinding history from the early Carribean-Spanish explorers to the mid- twentieth century reads like a legendary novel.  Life for the Cuban people changed dramatically in the 1960’s.  It’s as if the country was placed in a time capsule for fifty years and suddenly emerged\, opening the doors to all who wish to explore.  One can certainly feel the complexities of Cuba’s history and the strength of those who call it their home.  The music makes you dance and the arts convey the struggles and triumphs.  The ranchers are as rugged as the untouched land and the cigars are worth the trip alone.  Cuba is absolutely fascinating. \nHunt’s Photo and Don Toothaker want to welcome guest instructor Laura L. Gingerich to this photography workshop.  We plan to challenge you to slow down\, think\, observe\, anticipate and feel each and every shot.  Our days will be full of photographic opportunities\, instruction and discussion as we experience a very unique look into the heart and soul of Cuba. \nPlease note that this workshop is being coordinated by our travel agency. Because of this\, please note that registration and payment are handled by the agency. Registration and more detailed itinerary information can be found here.
URL:https://ebay.huntsphoto.com/calendar/hunts-photo-adventure-cuba-real-raw/
CATEGORIES:Hunt's Photo Adventures,Instructor: Don T.
ATTACH;FMTTYPE=image/jpeg:https://ebay.huntsphoto.com/wp-content/uploads/2017/12/Cuba-29134.jpg
END:VEVENT
BEGIN:VEVENT
DTSTART;TZID=America/New_York:20190330T090000
DTEND;TZID=America/New_York:20190330T170000
DTSTAMP:20260421T114627
CREATED:20190131T222753Z
LAST-MODIFIED:20190321T123532Z
UID:12306-1553936400-1553965200@ebay.huntsphoto.com
SUMMARY:Capture to Edit & Print: Macro in Black & White- Hunt's Photo\, Melrose
DESCRIPTION:Join Hunt’s Photo Education as we workshop how to “see”\, effectively compose and create macro images\, and finally edit in black & white.  \nCapture to Edit & Print is an intermediate workshop that focuses not only on photography\, but also on the process of editing\, this time specifically in black & white\, and printing.  We will begin by presenting some of things that we look for in the process of developing a black & white composition\, including such varied aspects from camera settings to choice of subject. We will spend a good deal of time creating and photographing compositions\, then move into the process of editing them in the classroom.  ***As an additional bonus\, we will also be creating one print a piece of something created during the day using Moab’s Fine Art papers. \nAttendees are encouraged to bring their computers–laptops or all-in-ones are fine (iMacs are welcome)–in order to do their own editing. Attendees should have Adobe Lightroom and/or Photoshop on their computer or a comparable program. We will be available to help with the processing of images during this time\, but we will also give live editing demonstrations. We will then view these edits\, critique\, and discuss them with the rest of the class.\nThis will be a fun and challenging workshop that will walk you through a very unique\, but storied process: Black & White. \nApproximate schedule for the day:\n9am- Introductions\, discussion black & white composition\, settings\, etc\n10am- Photographing\n1pm- Short lunch break; quick cleanup of macro setups (Attendees are encouraged to bring a bagged lunch and take a short break during this time) At this time\, we will have a short discussion about the editing process in black & white\n2pm- Editing\n4pm- Review & critique\n5pm- End of day \n\nIf you are attending this workshop\, we will send out more specific instructions to you a few days prior to the workshop. Please note: Some slight details above can be subject to change. This email will detail any of those minor changes.\nIf you have specific items that you would like to bring to photograph\, you are welcome to bring them as well. \nPlease read Hunt’s Terms & Conditions before signing up.
URL:https://ebay.huntsphoto.com/calendar/capture-edit-macro-in-black-white-2/
LOCATION:Hunt’s Photo\, Melrose\, 100 Main St.\, Melrose\, MA\, 02176\, United States
CATEGORIES:Editing & Printing Classes,Hunt's Photo Walks,Hunt's Photo Workshops,Hunt's Photo, Melrose,Instructor: Don T.,Instructor: Emily H.,Instructor: Paul N.
ATTACH;FMTTYPE=image/jpeg:https://ebay.huntsphoto.com/wp-content/uploads/2019/01/BlackWhiteFlower.jpg
END:VEVENT
END:VCALENDAR