BEGIN:VCALENDAR
VERSION:2.0
PRODID:-//Hunt&#039;s Photo Education - ECPv6.1.3//NONSGML v1.0//EN
CALSCALE:GREGORIAN
METHOD:PUBLISH
X-WR-CALNAME:Hunt&#039;s Photo Education
X-ORIGINAL-URL:https://ebay.huntsphoto.com
X-WR-CALDESC:Events for Hunt&#039;s Photo Education
REFRESH-INTERVAL;VALUE=DURATION:PT1H
X-Robots-Tag:noindex
X-PUBLISHED-TTL:PT1H
BEGIN:VTIMEZONE
TZID:America/New_York
BEGIN:DAYLIGHT
TZOFFSETFROM:-0500
TZOFFSETTO:-0400
TZNAME:EDT
DTSTART:20190310T070000
END:DAYLIGHT
BEGIN:STANDARD
TZOFFSETFROM:-0400
TZOFFSETTO:-0500
TZNAME:EST
DTSTART:20191103T060000
END:STANDARD
END:VTIMEZONE
BEGIN:VEVENT
DTSTART;TZID=America/New_York:20190406T160000
DTEND;TZID=America/New_York:20190406T200000
DTSTAMP:20260420T225913
CREATED:20190314T022222Z
LAST-MODIFIED:20190314T022249Z
UID:12586-1554566400-1554580800@ebay.huntsphoto.com
SUMMARY:Hunt's Photo Walk: Mills & Waterways of Lowell
DESCRIPTION:Join Hunt’s Photo Education for a walk in downtown Lowell\, Massachusetts to photograph the Mills & Waterways. On this walk\, we will work on architectural photography\, Image composition\, Black and White Photography\, and other ways of creating images expressively.\nThe city of Lowell is a wonderful example of an old New England mill town. A city that was once dominant in the textile industry\, Lowell’s population boomed during much of the 19th century\, peaking in the early 20th century. Lowell\, nicknamed “Mill City”\, still retains much of its’ early 20th century look (and charm)\, with many old mills being converted to apartments\, artist spaces\, shops and more.  On this walk\, we will photograph around many of the mill areas and along the beautiful Merrimack River with the many bridges and cobblestone walkways. Photographers of all skill levels are welcome. \n \nIf you are attending this walk\, we will send out more specific instructions to you a few days prior to the walk. Please note: Some slight details above can be subject to change. This email will detail any of those minor changes.\nPlease read Hunt’s Terms & Conditions before signing up.
URL:https://ebay.huntsphoto.com/calendar/hunts-photo-walk-mills-waterways-of-lowell/
CATEGORIES:Hunt's Photo Walks,Instructor: Don T.,Instructor: Ron P.
ATTACH;FMTTYPE=image/jpeg:https://ebay.huntsphoto.com/wp-content/uploads/2019/01/DSCF5224-1.jpg
END:VEVENT
BEGIN:VEVENT
DTSTART;TZID=America/New_York:20190415T150000
DTEND;TZID=America/New_York:20190419T110000
DTSTAMP:20260420T225913
CREATED:20180831T203611Z
LAST-MODIFIED:20181127T134310Z
UID:11232-1555340400-1555671600@ebay.huntsphoto.com
SUMMARY:Hunt's Photo Adventure: Wild Horses in Utah
DESCRIPTION:This is a unique photography workshop right out of “The Old West”!  Wild Horses have occupied this mountainous region of Utah since the late 1800’s. The herd is approximately 200 – 250 horses and is the largest herd of wild horses in the west.  Mares and stallions average around 800 to 1000 pounds. The colors within the herd are brown\, bay\, paint\, sorrel\, roan\, buckskin\, black\, palomino\, and gray. The variety is endless due to the frequent breeding within the herd. There are many foal\, yearlings and colts that roam with the herd. The horses are in good condition and are frequently seen in the vicinity of the Pony Express Trail in the valley floor. On this workshop\, we will photograph the wild horses as well as other local scenes and wildlife.\nTo make only a deposit\, select the “Deposit Only” box below. All payments are due 30 days prior to the workshop. If the workshop is sold out\, you can join our waitlist or contact us at classes@huntsphoto.com.  \n \nUpon signing up for this walk\, you will receive a confirmation email. This will list more specific instructions regarding this workshop\, including a questionnaire we’d like for you to fill out to better get to know you.\nPlease read our  Cancellation Policy before signing up.
URL:https://ebay.huntsphoto.com/calendar/hunts-photo-adventure-wild-horses-in-utah/
CATEGORIES:Hunt's Photo Adventures,Instructor: Don T.
ATTACH;FMTTYPE=image/jpeg:https://ebay.huntsphoto.com/wp-content/uploads/2018/08/UtahWildHorses-10-3.jpg
END:VEVENT
BEGIN:VEVENT
DTSTART;TZID=America/New_York:20190425T180000
DTEND;TZID=America/New_York:20190425T220000
DTSTAMP:20260420T225913
CREATED:20190313T172246Z
LAST-MODIFIED:20190404T125949Z
UID:12574-1556215200-1556229600@ebay.huntsphoto.com
SUMMARY:Hunt's Photo Walk: Boston After Dark- The Longfellow Bridge & Memorial Drive
DESCRIPTION:Join Hunt’s Photo Education for a night photo walk along Memorial Drive featuring the newly lit up Longfellow Bridge. During the walk\, we will discuss many of the aspects of photographing in low light and at night\, including exposure\, focusing\, composition\, and more. Photographers of all levels are welcome!\nWe will spend a good deal of time photographing the Longfellow Bridge from numerous angles and at different times of the evening. We will also spend time along the Memorial Drive\, making use of evening light\, civil twilight\, and night time. \n\nIf you are attending this walk\, we will send out more specific instructions to you a few days prior to the walk. However\, please be advised we will be meeting in Cambridge. Please note: Some slight details above can be subject to change. Our follow-up email will detail any of those minor changes.
URL:https://ebay.huntsphoto.com/calendar/hunts-photo-walk-boston-after-dark-the-longfellow-bridge-memorial-drive/
CATEGORIES:Hunt's Photo Walks,Instructor: Don T.,Instructor: Ron P.,Photo Walks in Greater Boston
ATTACH;FMTTYPE=image/jpeg:https://ebay.huntsphoto.com/wp-content/uploads/2019/03/Longfellow-Bridge-Boston-4.jpg
END:VEVENT
BEGIN:VEVENT
DTSTART;TZID=America/New_York:20190426T080000
DTEND;TZID=America/New_York:20190426T120000
DTSTAMP:20260420T225913
CREATED:20190318T031835Z
LAST-MODIFIED:20190515T193005Z
UID:12614-1556265600-1556280000@ebay.huntsphoto.com
SUMMARY:Hunt's Photo Walk: Macro in the Spring at Stevens-Coolidge
DESCRIPTION:Join Hunt’s Photo Education on a beautiful and unique photo walk photographing plants and flowers with an emphasis on macro photography. During this walk\, we will work on use of color\, close up/macro photography\, use of tripods\, depth of field\, exposure and use of reflectors/diffusers.\nThe Stevens-Coolidge Place is a unique estate in North Andover that benefits from a beautiful indoor space\, but is also quite famous for beautifully maintained grounds that include a rose garden\, greenhouse\, and more. Hunt’s Photo Education is extremely happy to be working in cooperation with the Stevens-Coolidge Place! More information on the Stevens-Coolidge Place and its history can be found here.\n\nIf you are attending this walk\, we will send out more specific instructions to you a few days prior to the walk. However\, be advised we will be meeting at the Stevens-Coolidge Place at the time listed. Please note: Some slight details above can be subject to change. This email will detail any of those minor changes.\nPlease read Hunt’s Terms & Conditions before signing up.
URL:https://ebay.huntsphoto.com/calendar/hunts-photo-walk-macro-in-the-spring-at-stevens-coolidge/
CATEGORIES:Hunt's Photo Walks,Instructor: Don T.
ATTACH;FMTTYPE=image/jpeg:https://ebay.huntsphoto.com/wp-content/uploads/2018/10/IMG_6433.jpg
END:VEVENT
END:VCALENDAR