BEGIN:VCALENDAR
VERSION:2.0
PRODID:-//Hunt&#039;s Photo Education - ECPv6.1.3//NONSGML v1.0//EN
CALSCALE:GREGORIAN
METHOD:PUBLISH
X-WR-CALNAME:Hunt&#039;s Photo Education
X-ORIGINAL-URL:https://ebay.huntsphoto.com
X-WR-CALDESC:Events for Hunt&#039;s Photo Education
REFRESH-INTERVAL;VALUE=DURATION:PT1H
X-Robots-Tag:noindex
X-PUBLISHED-TTL:PT1H
BEGIN:VTIMEZONE
TZID:America/New_York
BEGIN:DAYLIGHT
TZOFFSETFROM:-0500
TZOFFSETTO:-0400
TZNAME:EDT
DTSTART:20190310T070000
END:DAYLIGHT
BEGIN:STANDARD
TZOFFSETFROM:-0400
TZOFFSETTO:-0500
TZNAME:EST
DTSTART:20191103T060000
END:STANDARD
END:VTIMEZONE
BEGIN:VEVENT
DTSTART;TZID=America/New_York:20190803T090000
DTEND;TZID=America/New_York:20190803T170000
DTSTAMP:20260424T065109
CREATED:20190619T213937Z
LAST-MODIFIED:20190620T035329Z
UID:13295-1564822800-1564851600@ebay.huntsphoto.com
SUMMARY:Personal Vision Shootout: Redcoats & Rebels at Olde Sturbridge Village
DESCRIPTION:Join Hunt’s Photo Education for a Personal Vision Shootout at Olde Sturbridge Village. This comprehensive walk is geared toward intermediate and advanced photographers. During the walk\, we will “strengthen your photographic muscles” by challenging you to work outside of your comfort zone while also developing cohesion in the photographic work you produce.  \nLocated an hour west of Boston\, Sturbridge Village is a proud replication of an 18th century New England town. Sturbridge Village is a living history museum that features many authentic period buildings and homes to explore and enjoy. The village is also inhabited by re-enactors who provide colorful insight to life in New England during the 18th century. Sturbridge Village is a wonderful destination for a multitude of photographic opportunities as well as a glimpse into a bygone era. \nOur emphasis for the weekend will be on the OSV event Redcoats and Rebels. For the weekend\, Olde Sturbridge Village will be turned into a military camp from the Revolutionary Period. We will work to document the fine details of the uniforms\, the camps\, the personalities\, and the stories of this period of history. This will a complex task\, and as part of our Personal Vision Shootout\, we will have a working assignment as part of our visit for the day. This will be a fun and challenging day with many unique photographic possibilities! \nPlease note: the cost of your ticket includes the cost of your admission to Olde Sturbridge Village.
URL:https://ebay.huntsphoto.com/calendar/personal-vision-shootout-redcoats-rebels-at-olde-sturbridge-village/
CATEGORIES:Hunt's Photo Walks,Instructor: Don T.,Personal Vision Shootout
ATTACH;FMTTYPE=image/jpeg:https://ebay.huntsphoto.com/wp-content/uploads/2019/06/RedcoatsRebels-23041.jpg
END:VEVENT
BEGIN:VEVENT
DTSTART;TZID=America/New_York:20190807T150000
DTEND;TZID=America/New_York:20190811T110000
DTSTAMP:20260424T065109
CREATED:20180831T202357Z
LAST-MODIFIED:20181127T134203Z
UID:11222-1565190000-1565521200@ebay.huntsphoto.com
SUMMARY:Hunt's Photo Adventure: Old Quebec City
DESCRIPTION:One of Canada’s most historic and picturesque destinations is located just north of New England in the province of Quebec.   Old Québec City sits along the Saint Lawrence River where it retains much of its old world charm.   Fortifications\, narrow streets\, colorful buildings\, and dramatic attractions such as the famous Château Frontenac Hotel\, Citadelle of Québec\, and the Petit Champlain makes Old Quebec City a fantastic destination for all photographers.\nYour passport is required for this workshop.\nOur hotel\, the Hotel Manoir Victoria\, built in 1830 is a grand old Victorian hotel (4 Star rated) in the heart of Quebec!\nTo make only a deposit\, select the “Deposit Only” box below. All payments are due 30 days prior to the workshop. If the workshop is sold out\, you can join our waitlist or contact us at classes@huntsphoto.com \n \nUpon signing up for this walk\, you will receive a confirmation email. This will list more specific instructions regarding this workshop.\nPlease read our  Cancellation Policy before signing up.
URL:https://ebay.huntsphoto.com/calendar/hunts-photo-adventure-old-quebec-city-2/
CATEGORIES:Hunt's Photo Adventures,Instructor: Don T.
ATTACH;FMTTYPE=image/jpeg:https://ebay.huntsphoto.com/wp-content/uploads/2019/08/XP26291.jpg
END:VEVENT
BEGIN:VEVENT
DTSTART;TZID=America/New_York:20190817T130000
DTEND;TZID=America/New_York:20190817T200000
DTSTAMP:20260424T065109
CREATED:20190523T195439Z
LAST-MODIFIED:20190813T174602Z
UID:13123-1566046800-1566072000@ebay.huntsphoto.com
SUMMARY:Hunt's Portrait Workshops: Natural Light Series- Urban- Beacon Hill
DESCRIPTION:Join Hunt’s Photo Education for our summer series of natural light portrait workshops\, featuring Rural\, Urban\, & Decay. On these workshops\, we will emphasize creating portraits using available light through subject placement and composition through the aid of diffusers and reflectors. We will also discuss Subject Development\, Exposure\, Black and White Photography\, and more. Photographers of all skill levels are encouraged to attend. \nThe emphasis of each workshop date will differ slightly.  \n  For our “Urban” portrait workshop\, we will be photographing in Boston on Beacon Hill\, utilizing the colorful homes\, greenery\, and cobblestone streets as a backdrop. We will be able to mix the colonial and urban of Beacon Hill with the natural beauty of portraits.\nIn each of these environments\, we will be looking for very different looks in our portraits. We will have 1 instructor and 1 model for every 3-4 attendees. Depending on your level of experience\, we will assist in all levels\, from basic camera settings to finding and utilizing good light to working with (posing/directing) models.\nEach of these workshops will be a unique experience.  \nTo sign up for Natural Light Portraits: Urban- Beacon Hill\, Boston\, on August 17th…\n \nPlease read Hunt’s Terms & Conditions before signing up.\nIf you are interested in learning a little more about your camera (or anything else photographic-related) prior to the walk\, we would love to have you for a Custom 1-on-1 class.
URL:https://ebay.huntsphoto.com/calendar/hunts-portrait-workshops-natural-light-series-urban-beacon-hill/
CATEGORIES:Hunt's Photo Walks,Hunt's Photo Workshops,Instructor: Don T.,Instructor: Ron P.,Lighting & Flash Classes,Photo Walks in Greater Boston
ATTACH;FMTTYPE=image/jpeg:https://ebay.huntsphoto.com/wp-content/uploads/2018/05/Natural-Portrait-1.jpg
END:VEVENT
BEGIN:VEVENT
DTSTART;TZID=America/New_York:20190822T150000
DTEND;TZID=America/New_York:20190825T110000
DTSTAMP:20260424T065109
CREATED:20180831T202141Z
LAST-MODIFIED:20181127T134156Z
UID:11220-1566486000-1566730800@ebay.huntsphoto.com
SUMMARY:Hunt's Photo Adventure: Boston in Black & White
DESCRIPTION:Black and white photography is not only alive and well in the digital age\, but it is better than ever before.  Personal growth in photography is rooted in the fundamentals of exposure and composition and no genre teaches you more about each than working in monochrome.  Boston is a vibrant\, photogenic city full of tones\, textures\, and details that lend themselves very well to seeing\, thinking\, and creating in black and white.  During the weekend we will seek out\, discuss\, and demonstrate characteristics that make for strong black and white images.  While photographing a variety of scenarios emphasis will be placed on cultivating subject development\, strong compositions\, and using light and shadow.\nTo make only a deposit\, select the “Deposit Only” box below. All payments are due 30-days prior to the workshop. \n \nUpon signing up for this walk\, you will receive a confirmation email. This will list more specific instructions regarding this workshop.\nPlease read our  Cancellation Policy before signing up.
URL:https://ebay.huntsphoto.com/calendar/hunts-photo-adventure-boston-in-black-white/
CATEGORIES:Hunt's Photo Adventures,Instructor: Don T.
ATTACH;FMTTYPE=image/jpeg:https://ebay.huntsphoto.com/wp-content/uploads/2018/08/20160624-_XT11981-Edit-1.jpg
END:VEVENT
BEGIN:VEVENT
DTSTART;TZID=America/New_York:20190829T180000
DTEND;TZID=America/New_York:20190829T220000
DTSTAMP:20260424T065109
CREATED:20190813T021958Z
LAST-MODIFIED:20190813T021958Z
UID:13625-1567101600-1567116000@ebay.huntsphoto.com
SUMMARY:Hunt's Photo Walk: Boston After Dark- Fireworks!
DESCRIPTION:Join Hunt’s Photo Education for a photo walk in East Boston\, in which we will do some photography during blue hour and into the evening light\, culminating with Boston’s yearly late-August fireworks. We will photograph towards the harbor and the city for the majority of the evening\, which will yield drastically different scenarios as the light changes. This is an excellent opportunity to get assistance on photographing fireworks\, and during a time that isn’t the Fourth of July!\nDuring this walk\, we will discuss shooting in lower light with an emphasis on night photography. This will include assistance with exposure\, composition\, focusing\, use of tripods\, and a myriad of other settings and concepts! \n \nIf you are attending this walk\, we will send out more specific instructions to you a few days prior to the walk\, including meeting location. Please note: Some slight details above can be subject to change. This email will detail any of those minor changes.\nPlease read Hunt’s Terms & Conditions before signing up.\nIf you are interested in learning a little more about your camera (or anything else photographic-related) prior to the walk\, we would love to have you for a Custom 1-on-1 class.
URL:https://ebay.huntsphoto.com/calendar/hunts-photo-walk-boston-after-dark-fireworks/
CATEGORIES:Hunt's Photo Walks,Instructor: Don T.,Instructor: Ron P.,Photo Walks in Greater Boston
ATTACH;FMTTYPE=image/jpeg:https://ebay.huntsphoto.com/wp-content/uploads/2019/08/fireworks3.jpg
END:VEVENT
BEGIN:VEVENT
DTSTART;TZID=America/New_York:20190830T180000
DTEND;TZID=America/New_York:20190830T220000
DTSTAMP:20260424T065109
CREATED:20190723T040414Z
LAST-MODIFIED:20191016T205223Z
UID:13477-1567188000-1567202400@ebay.huntsphoto.com
SUMMARY:Hunt's Photo Walk: The North End at Night
DESCRIPTION:Join Hunt’s Photo Education for a photo walk in the historic North End of Boston. During the walk\, we will discuss shooting in lower light with an emphasis on night photography. This will include assistance with exposure\, composition\, focusing\, use of tripods\, and a myriad of other settings and concepts. \nBoston is often referred to as a “city of neighborhoods”. One of the city’s most notable neighborhoods\, and its oldest\, is the North End. Beginning in the 1600s this is where immigrants to the New World entered the city for the first time\, which made the North End a busy\, vibrant center of activity. Today\, this tightly knit area is known as “Little Italy” given the prominent Italian-American influence and population found here. Quaint eateries\, fine restaurants\, and historic locations are characteristics that make the North End one of Boston’s premier destinations. \nThis walk is also an excellent chance to work on street photography. During the first few hours\, our light will start to change\, giving us some excellent opportunities at casual portraits and street scenes. As we move into more of the nighttime light\, we will shift to long exposures. Join us for this very diverse photo walk! \n \nIf you are attending this walk\, we will send out more specific instructions to you a few days prior to the walk. Please note: Some slight details above can be subject to change. This email will detail any of those minor changes.\nPlease read Hunt’s Terms & Conditions before signing up.\nIf you are interested in learning a little more about your camera (or anything else photographic-related) prior to the walk\, we would love to have you for a Custom 1-on-1 class.
URL:https://ebay.huntsphoto.com/calendar/hunts-photo-walk-the-north-end-at-night/
CATEGORIES:Hunt's Photo Walks,Instructor: Don T.,Instructor: Ron P.,Photo Walks in Greater Boston
ATTACH;FMTTYPE=image/jpeg:https://ebay.huntsphoto.com/wp-content/uploads/2019/08/Don-Toothaker-_ZZ72796.jpg
END:VEVENT
BEGIN:VEVENT
DTSTART;TZID=America/New_York:20190831T170000
DTEND;TZID=America/New_York:20190831T210000
DTSTAMP:20260424T065109
CREATED:20190723T042211Z
LAST-MODIFIED:20190723T042211Z
UID:13490-1567270800-1567285200@ebay.huntsphoto.com
SUMMARY:Hunt's Photo Walk: Sunset at Rockport
DESCRIPTION:Join Hunt’s Photo Education on a late afternoon/sunset walk of Rockport and its harbor\, Bearskin Neck\, and other points of interest. The walk will begin at 5pm and conclude after sunset. We will discuss Exposure\, Subject Development\, Image Composition\, HDR\, Black & White Photography and more. Photographers of all skill levels are encouraged to attend.\n\nRockport is a premiere destination for photographers. The town is an eclectic mix of unique storefronts\, a beautiful harbor\, boats\, and a rich fishing tradition that offers a wide variety of photographic subjects.\nThis walk is an excellent opportunity both for those just starting out as well as the well-seasoned photographer. For those starting out\, there are many excellent opportunities to work on composition and subject development\, and also see how the light changes and affects your photographs throughout the evening. For the well-seasoned photographer\, Rockport has just so much of interest to offer that you can work on creating more complex compositions and other advanced themes in your work. This is truly one of the best places at any level to photograph.
URL:https://ebay.huntsphoto.com/calendar/hunts-photo-walk-sunset-at-rockport/
CATEGORIES:Hunt's Photo Walks,Instructor: Don T.,Photo Walks in Greater Boston
ATTACH;FMTTYPE=image/jpeg:https://ebay.huntsphoto.com/wp-content/uploads/2017/06/low-depth-of-field-rockport.jpg
END:VEVENT
END:VCALENDAR