BEGIN:VCALENDAR
VERSION:2.0
PRODID:-//Hunt&#039;s Photo Education - ECPv6.1.3//NONSGML v1.0//EN
CALSCALE:GREGORIAN
METHOD:PUBLISH
X-WR-CALNAME:Hunt&#039;s Photo Education
X-ORIGINAL-URL:https://ebay.huntsphoto.com
X-WR-CALDESC:Events for Hunt&#039;s Photo Education
REFRESH-INTERVAL;VALUE=DURATION:PT1H
X-Robots-Tag:noindex
X-PUBLISHED-TTL:PT1H
BEGIN:VTIMEZONE
TZID:America/New_York
BEGIN:DAYLIGHT
TZOFFSETFROM:-0500
TZOFFSETTO:-0400
TZNAME:EDT
DTSTART:20210314T070000
END:DAYLIGHT
BEGIN:STANDARD
TZOFFSETFROM:-0400
TZOFFSETTO:-0500
TZNAME:EST
DTSTART:20211107T060000
END:STANDARD
END:VTIMEZONE
BEGIN:VEVENT
DTSTART;TZID=America/New_York:20210501T173000
DTEND;TZID=America/New_York:20210501T203000
DTSTAMP:20260422T220210
CREATED:20210421T061426Z
LAST-MODIFIED:20210428T141541Z
UID:21530-1619890200-1619901000@ebay.huntsphoto.com
SUMMARY:Hunt's Photo Walk: Copley Square at Night
DESCRIPTION:Featuring architecture\, sunset\, low light and night photography\, all in glorious black & white \nRecommended prerequisite: Working knowledge of your camera We also recommend having some of the knowledge from our Beginner Photography class \nAll Skill Levels Welcome \nInstructor: Don Toothaker \nClass Size: Maximum 8 attendees \n\n\nWalk Description\nJoin Hunt’s Photo Education for a photo walk in around Copley Square in downtown Boston. On the walk\, we will discuss Subject Development\, Image Composition\, Long Exposures\, Black and White Photography\, and Architectural Photography. Photographers of all skill levels are encouraged to attend.\n\nCopley Square is a bustling area\, excellent for both street scenes\, as well as architecture. During this walk\, we will photograph the courtyard around the Boston Public Library\, then move out into Copley Plaza and begin to photograph the exterior of Trinity Church\, reflections\, street activity\, and other details of city life. \n\n\n\nA Guideline for Photo Walks during the era of COVID-19Hunt’s Photo Education remains dedicated to the health and safety of every single attendee\, student\, and customer\, first and foremost. We also are committed to the best possible learning experience. We have put forth rules and guidelines for Photo Walks that occur during the era of COVID.•We will have no more than 6-8 attendees per Photo Walk with a single instructor•We ask that all attendees wear a mask. (Please make sure the mask covers your mouth and nose.)•We ask that all attendees socially distance 6 feet from one another\, unless you are attending with the other person•Hunt’s Photo Educators will be unable to physically handle others’ cameras•Consider bringing sanitizing wipes and hand sanitizer•If you are sick or feeling unwell\, stay home! We will gladly give you credit towards a future walk! \nThese guidelines will stay in place until further notice. We appreciate your patience and understanding during this time. If you have any questions\, feel free to contact us at classes@huntsphoto.com. \nRegister here\n***Having trouble registering? You can also register by clicking here!\n\n\n\n\nIf you are attending this walk\, we will send out more specific instructions to you a few days prior to the walk. Please note: Some slight details above can be subject to change. This email will detail any of those minor changes.Please read Hunt’s Terms & Conditions before signing up. \n\n\n\nDress and Gear \n\n\n\n•Make sure to dress accordingly with the most current weather report.•Consider bringing wide angle or standard zoom lenses\, and a telephoto zoom lens•A prime lens (or even a macro) may also suit you well.•You can bring a telephoto zoom lens\, but be advised to bring only what you want to carry.•Make sure to bring your tripod with a quick release plate and a shutter release\, if you have one.•Feel free to bring snacks and water\, and a flashlight will likely help as well.•Bring an extra camera battery and memory cards.•As always\, bring your enthusiasm and creative thoughts!
URL:https://ebay.huntsphoto.com/calendar/hunts-photo-walk-copley-square-at-night/
CATEGORIES:Hunt's Photo Walks,Instructor: Don T.
ATTACH;FMTTYPE=image/jpeg:https://ebay.huntsphoto.com/wp-content/uploads/2020/06/20160716-_XE21876-1-Edit.jpg
END:VEVENT
BEGIN:VEVENT
DTSTART;TZID=America/New_York:20210506T190000
DTEND;TZID=America/New_York:20210506T200000
DTSTAMP:20260422T220210
CREATED:20210426T030852Z
LAST-MODIFIED:20210426T030852Z
UID:21575-1620327600-1620331200@ebay.huntsphoto.com
SUMMARY:Online: Personal Vision Series- Spring in Motion
DESCRIPTION:Presentation: Thursday May 6th\, 7-8pm • Online! \nImage Review/Critique: Thursday May 13th\, 7-9pm • Online! \nRecommended prerequisite: \nInstructor: Don Toothaker \nClass Size: Limited to 8 attendees \nBelow the course description (but before registration) will be a short explanation on how the class will run. \nJoin Hunt’s Photo Education as we help grow your knowledge\, creativity\, and artistic expression with our expanded Personal Vision Series. These classes are designed to provide you time\, opportunity\, and guidance in shaping your creative photographic voice. We will give an overview on a specific topic in an online class session\, then give you time to go into the field by yourself (or with someone else\, if you choose) to complete an assignment based on that topic. We will reconvene a few days later for an online image review to discuss elements of your images.\nThe Personal Vision Series is a crossroads of many different ideas that we offer with Hunt’s Photo Education: Topic-based instruction/classes\, Photo Walks\, & Image Reviews. However\, unlike a Photo Walk where we will all take a certain direction\, for the “Walk” portion\, you will be asked to journey out on your own to photograph. This will cause you to be the driving force of your creativity and vision!\nThis week’s topic is Spring in Motion. We will have an instructional online presentation on May 6th from 7-8pm and will reconvene for our Image Review on May 13th from 7-9pm. You will have that time period in between to photograph and edit our assignment.\nYour personal creative voice is critical to your growth as a photographer and as an artist. Join us for to help grow that voice! \nRegistering and what is needed\nAfter you register for this class\, you will receive a confirmation email that will include information about how to access the online class\, including an online ID code that you will need to get into the class. Make sure to save this information. We will also send a reminder email about 24 hours prior to the class time with that same information. \n“You Are Being Recorded” (And Other Note Related Items)\nWe will be recording this class! The video will be available for download about 24-hours after the class for all attendees\, so don’t worry about taking unending notes. We will send this link attendees to download and rewatch at any time. \nNo online classes should be shared and cannot be shared in a public environment\, including with camera clubs\nThe online content is the copyright of Hunt’s Photo Education and/or the Instructor. Please support our education team and instructors by not sharing this material! We appreciate your support\, and it’s thanks to that support that we are able to continue producing content! \nRegister here\n*Please note: We have been experiencing issues with registration on the Safari web browser\, so you may want to consider using an alternative browser such as Google Chrome or Firefox. To register\, you will need to disable pop-up blockers.  If you are unsure\, you can watch this short video or go to this website to learn how to disable pop-up blockers.  \nRegister Here\n***Having trouble registering? You can also register by clicking here! \n \nPlease read Hunt’s Terms & Conditions before signing up.
URL:https://ebay.huntsphoto.com/calendar/online-personal-vision-series-spring-in-motion/
CATEGORIES:Instructor: Don T.,Online!
ATTACH;FMTTYPE=image/jpeg:https://ebay.huntsphoto.com/wp-content/uploads/2017/03/Don-Toothaker-20150918-_DT17721-34.jpg
END:VEVENT
BEGIN:VEVENT
DTSTART;TZID=America/New_York:20210507T173000
DTEND;TZID=America/New_York:20210507T203000
DTSTAMP:20260422T220210
CREATED:20210421T061426Z
LAST-MODIFIED:20210421T061426Z
UID:21599-1620408600-1620419400@ebay.huntsphoto.com
SUMMARY:Hunt's Photo Walk: Copley Square at Night
DESCRIPTION:Featuring architecture\, sunset\, low light and night photography\, all in glorious black & white \nRecommended prerequisite: Working knowledge of your camera We also recommend having some of the knowledge from our Beginner Photography class \nAll Skill Levels Welcome \nInstructor: Don Toothaker \nClass Size: Maximum 8 attendees \n\n\nWalk Description\nJoin Hunt’s Photo Education for a photo walk in around Copley Square in downtown Boston. On the walk\, we will discuss Subject Development\, Image Composition\, Long Exposures\, Black and White Photography\, and Architectural Photography. Photographers of all skill levels are encouraged to attend.\n\nCopley Square is a bustling area\, excellent for both street scenes\, as well as architecture. During this walk\, we will photograph the courtyard around the Boston Public Library\, then move out into Copley Plaza and begin to photograph the exterior of Trinity Church\, reflections\, street activity\, and other details of city life. \n\n\n\nA Guideline for Photo Walks during the era of COVID-19Hunt’s Photo Education remains dedicated to the health and safety of every single attendee\, student\, and customer\, first and foremost. We also are committed to the best possible learning experience. We have put forth rules and guidelines for Photo Walks that occur during the era of COVID.•We will have no more than 6-8 attendees per Photo Walk with a single instructor•We ask that all attendees wear a mask. (Please make sure the mask covers your mouth and nose.)•We ask that all attendees socially distance 6 feet from one another\, unless you are attending with the other person•Hunt’s Photo Educators will be unable to physically handle others’ cameras•Consider bringing sanitizing wipes and hand sanitizer•If you are sick or feeling unwell\, stay home! We will gladly give you credit towards a future walk! \nThese guidelines will stay in place until further notice. We appreciate your patience and understanding during this time. If you have any questions\, feel free to contact us at classes@huntsphoto.com. \nRegister here\n***Having trouble registering? You can also register by clicking here!\n\n\n\n\nIf you are attending this walk\, we will send out more specific instructions to you a few days prior to the walk. Please note: Some slight details above can be subject to change. This email will detail any of those minor changes.Please read Hunt’s Terms & Conditions before signing up. \n\n\n\nDress and Gear \n\n\n\n•Make sure to dress accordingly with the most current weather report.•Consider bringing wide angle or standard zoom lenses\, and a telephoto zoom lens•A prime lens (or even a macro) may also suit you well.•You can bring a telephoto zoom lens\, but be advised to bring only what you want to carry.•Make sure to bring your tripod with a quick release plate and a shutter release\, if you have one.•Feel free to bring snacks and water\, and a flashlight will likely help as well.•Bring an extra camera battery and memory cards.•As always\, bring your enthusiasm and creative thoughts!
URL:https://ebay.huntsphoto.com/calendar/hunts-photo-walk-copley-square-at-night-2021-05-07/
CATEGORIES:Hunt's Photo Walks,Instructor: Don T.
ATTACH;FMTTYPE=image/jpeg:https://ebay.huntsphoto.com/wp-content/uploads/2020/06/20160716-_XE21876-1-Edit.jpg
END:VEVENT
BEGIN:VEVENT
DTSTART;TZID=America/New_York:20210508T140000
DTEND;TZID=America/New_York:20210508T180000
DTSTAMP:20260422T220210
CREATED:20210426T155000Z
LAST-MODIFIED:20210426T155000Z
UID:21595-1620482400-1620496800@ebay.huntsphoto.com
SUMMARY:Hunt's Portrait Workshop: Portraits with Natural Light (and Flash!)
DESCRIPTION:Featuring portraits in natural light & flash! \nRecommended prerequisite: Working knowledge of your camera  We also recommend having some of the knowledge from our Beginner Photography class \nAll Skill Levels Welcome \nInstructors: Don Toothaker & Paul Nelson \nClass Size: Maximum 10 attendees \n                                                                                                                                                                                                                                                                                                                                                                                                                                                                                                                                                                                                                                                                                                                                                                                                                                                                                                                                                                                                                                                                                                                                                                                                                                                                                                                                                                 \nJoin Hunt’s Photo Education for another entry in our series of portrait workshops where we will be working in natural light and mixing it up with flash! We will emphasize creating portraits using available light through subject placement and composition through the aid of diffusers and reflectors. We will then separately demonstrate reasons to add in flash.  \nWe will begin photographing mid-day in the sunlight (and shade) and work to sunset. We will then utilize lower light techniques and photograph during twilight for some spectacular portrait results!  \nFor this workshop\, you are welcome to bring your own flashes and light modifiers (soft boxes\, etc)\, but you also can use what we have with us as well. Photographers of all skill levels are encouraged to attend. \nFor our meeting location\, we have chosen downtown Haverhill\, Massachusetts. With a variety of brick buildings and urban environments\, downtown Haverhill (or any downtown area) can offer a wonderful variety of shooting environments. This workshop will help emphasize those capabilities. \nA Guideline for Photo Walks during the era of COVID-19 \nHunt’s Photo Education remains dedicated to the health and safety of every single attendee\, student\, and customer\, first and foremost. We also are committed to the best possible learning experience. We have put forth rules and guidelines for Photo Walks that occur during the era of COVID.\n•We will have no more than 6-8 attendees per Photo Walk with a single instructor\n•We ask that all attendees wear a mask. (Please make sure the mask covers your mouth and nose.)\n•We ask that all attendees socially distance 6 feet from one another\, unless you are attending with the other person\n•Hunt’s Photo Educators will be unable to physically handle others’ cameras\n•Consider bringing sanitizing wipes and hand sanitizer\n•If you are sick or feeling unwell\, stay home! We will gladly give you credit towards a future walk!\nThese guidelines will stay in place until further notice. We appreciate your patience and understanding during this time. If you have any questions\, feel free to contact us at classes@huntsphoto.com. \nRegister Here\n***Having trouble registering? You can also register by clicking here! \n \nIf you are attending this walk\, we will send out more specific instructions to you a few days prior to the walk. Please note: Some slight details above can be subject to change. This email will detail any of those minor changes.\nPlease read Hunt’s Terms & Conditions before signing up. \nDress and Gear \n•Make sure to dress accordingly with the most current weather report.\n•Wear good walking shoes!\n•A standard zoom lens is a good starting point\n•Portrait lenses range from 85mm to 130mm. Those lenses are recommended\n•You may choose a wider lens\, such as a 35mm or 50mm\, but be aware they will include more of the background\n•You are welcome to bring your own flash and light modifier (soft box\, etc)\, or you may use what we have\n•Feel free to bring reflectors\n•You may bring a tripod\, but only bring what you want to carry\n•Feel free to bring snacks and water.\n•Bring an extra camera battery and memory cards.\n•As always\, bring your enthusiasm and creative thoughts!
URL:https://ebay.huntsphoto.com/calendar/hunts-portrait-workshop-portraits-with-natural-light-and-flash/
CATEGORIES:Hunt's Photo Walks,Instructor: Don T.,Instructor: Paul N.,Lighting & Flash Classes
ATTACH;FMTTYPE=image/jpeg:https://ebay.huntsphoto.com/wp-content/uploads/2020/10/StanleyBendersNaturalFlash-01536.jpg
END:VEVENT
BEGIN:VEVENT
DTSTART;TZID=America/New_York:20210513T190000
DTEND;TZID=America/New_York:20210513T210000
DTSTAMP:20260422T220210
CREATED:20210426T030852Z
LAST-MODIFIED:20210426T030852Z
UID:21577-1620932400-1620939600@ebay.huntsphoto.com
SUMMARY:Online: Personal Vision Series- Spring in Motion
DESCRIPTION:Presentation: Thursday May 6th\, 7-8pm • Online! \nImage Review/Critique: Thursday May 13th\, 7-9pm • Online! \nRecommended prerequisite: \nInstructor: Don Toothaker \nClass Size: Limited to 8 attendees \nBelow the course description (but before registration) will be a short explanation on how the class will run. \nJoin Hunt’s Photo Education as we help grow your knowledge\, creativity\, and artistic expression with our expanded Personal Vision Series. These classes are designed to provide you time\, opportunity\, and guidance in shaping your creative photographic voice. We will give an overview on a specific topic in an online class session\, then give you time to go into the field by yourself (or with someone else\, if you choose) to complete an assignment based on that topic. We will reconvene a few days later for an online image review to discuss elements of your images.\nThe Personal Vision Series is a crossroads of many different ideas that we offer with Hunt’s Photo Education: Topic-based instruction/classes\, Photo Walks\, & Image Reviews. However\, unlike a Photo Walk where we will all take a certain direction\, for the “Walk” portion\, you will be asked to journey out on your own to photograph. This will cause you to be the driving force of your creativity and vision!\nThis week’s topic is Spring in Motion. We will have an instructional online presentation on May 6th from 7-8pm and will reconvene for our Image Review on May 13th from 7-9pm. You will have that time period in between to photograph and edit our assignment.\nYour personal creative voice is critical to your growth as a photographer and as an artist. Join us for to help grow that voice! \nRegistering and what is needed\nAfter you register for this class\, you will receive a confirmation email that will include information about how to access the online class\, including an online ID code that you will need to get into the class. Make sure to save this information. We will also send a reminder email about 24 hours prior to the class time with that same information. \n“You Are Being Recorded” (And Other Note Related Items)\nWe will be recording this class! The video will be available for download about 24-hours after the class for all attendees\, so don’t worry about taking unending notes. We will send this link attendees to download and rewatch at any time. \nNo online classes should be shared and cannot be shared in a public environment\, including with camera clubs\nThe online content is the copyright of Hunt’s Photo Education and/or the Instructor. Please support our education team and instructors by not sharing this material! We appreciate your support\, and it’s thanks to that support that we are able to continue producing content! \nRegister here\n*Please note: We have been experiencing issues with registration on the Safari web browser\, so you may want to consider using an alternative browser such as Google Chrome or Firefox. To register\, you will need to disable pop-up blockers.  If you are unsure\, you can watch this short video or go to this website to learn how to disable pop-up blockers.  \nRegister Here\n***Having trouble registering? You can also register by clicking here! \n \nPlease read Hunt’s Terms & Conditions before signing up.
URL:https://ebay.huntsphoto.com/calendar/online-personal-vision-series-spring-in-motion-2021-05-13/
CATEGORIES:Instructor: Don T.,Online!
ATTACH;FMTTYPE=image/jpeg:https://ebay.huntsphoto.com/wp-content/uploads/2017/03/Don-Toothaker-20150918-_DT17721-34.jpg
END:VEVENT
BEGIN:VEVENT
DTSTART;VALUE=DATE:20210519
DTEND;VALUE=DATE:20210524
DTSTAMP:20260422T220210
CREATED:20210303T193939Z
LAST-MODIFIED:20210303T193939Z
UID:19375-1621382400-1621814399@ebay.huntsphoto.com
SUMMARY:Hunt's Photo Adventure: Mid-Coast Maine and Pemaquid Point Lighthouse
DESCRIPTION:The coast of Maine is distinctive\, beautiful\, and highly photogenic. The many small towns of Mid Coast Maine are home to a dramatic shoreline\, quaint fishing harbors\, and dramatic lighthouses. Our time here we will also feature looking for osprey and eagles as they prey on alewife during their annual spawning run at the Fish Ladder. Each location makes for a dynamic destination that will challenge photographers of every skill level. \nWe will maximize our time in the field shooting a multitude of subjects as well as incorporating classroom instruction\, critiques\, and photographic discussion each day.  \nSome of the Locations we will visit:\n	Pemaquid Point Lighthouse\n	Marshall Point Lighthouse\n	Shaws Wharf\n        Damariscotta and the Fish Ladder\n	New Harbor\n	Port Clyde\n	Wiscasset\n	Moodys Diner \nIn this workshop we will cover:\n\nExposure\nComposition\nMetering\nUse of Lenses\nUse of Light Modifiers\nSubject Development\nCreative Thinking\nShooting in Low Light\nLong Exposures\nUse of Filters (polarizers and ND)\nImage Processing\nImage Review\nImage Critiquing \nWhat’s included:\n•In-field instruction at each location\n•Image Discussion and Review \nWhat’s not included:\n•COVID restrictions limit us from being able to ride together. We will all be taking separate vehicles to our locations.\n•Cost of food\n•Cost of hotel (We will be staying at the Hotel Pemaquid\, 309 Bristol Road\, New Harbor ME\, 04554\, 207-677-2312) \nState Policies Regarding COVID-19\n•Every state in New England has different policies for COVID. Please make sure you read and understand the state policies prior to signing up. You can find them here:\n Massachusetts\nNew Hampshire\nMaine\nRhode Island\n Connecticut\nVermont \nA Guideline for Photo Adventures during the era of COVID-19\nHunt’s Photo Education remains dedicated to the health and safety of every single attendee\, student\, and customer\, first and foremost. We also are committed to the best possible learning experience. We have put forth rules and guidelines for Photo Walks and Adventures that occur during the era of COVID.\n•We will have no more than 6-8 attendees per Photo Walk with a single instructor\n•We ask that all attendees wear a mask. (Please make sure the mask covers your mouth and nose.)\n•We ask that all attendees socially distance 6 feet from one another\, unless you are attending with the other person\n•Hunt’s Photo Educators will be unable to physically handle others’ cameras\n•Consider bringing sanitizing wipes and hand sanitizer\n•At this time\, COVID restrictions limit us from being able to ride together. We will all be taking separate vehicles to our locations. \nPlease read our  Cancellation Policy before signing up. \nUpon signing up for this walk\, you will receive a confirmation email. This will list more specific instructions regarding this workshop.\nPlease read our  Cancellation Policy before signing up.
URL:https://ebay.huntsphoto.com/calendar/hunts-photo-adventure-mid-coast-maine-and-pemaquid-point-lighthouse-2/
CATEGORIES:Hunt's Photo Adventures,Instructor: Don T.
ATTACH;FMTTYPE=image/jpeg:https://ebay.huntsphoto.com/wp-content/uploads/2017/12/Pemaquid-23568.jpg
END:VEVENT
BEGIN:VEVENT
DTSTART;TZID=America/New_York:20210525T190000
DTEND;TZID=America/New_York:20210525T203000
DTSTAMP:20260422T220210
CREATED:20210504T015940Z
LAST-MODIFIED:20210504T015940Z
UID:21718-1621969200-1621974600@ebay.huntsphoto.com
SUMMARY:Online: Q&A with Hunt's Photo Education (Free!)
DESCRIPTION:Tuesday May 25th\, 7-8:30pm • Online! \nPanelists: Hunt’s Photo Educators Don Toothaker\, Emily Hojnowski\, and Paul Nelson \nYou ask the questions and Hunt’s Photo Education will try to answer!\nOn Tuesday\, May 25th at 7pm\, Hunt’s Photo Educators Don Toothaker\, Emily Hojnowski\, and Paul Nelson will hold a panel discussion and answer questions from attendees about anything photography-related!\nA few days prior to the session\, we will send out a link where you can write up a question. We won’t be able to answer ALL of your questions\, but we will take a deep dive into your topics and do our best to answer them as best as possible!  We will do our best to create a wide variety of topics and interests for the time allotted!\nJoin us for this relaxed\, fun evening with Hunt’s Photo Education! \n“You Are Being Recorded”\nWe will be recording this class! The video will be available for download about 24-hours after the class for all attendees\, so don’t worry about taking unending notes. We will send this link attendees to download and rewatch at any time.  \nRegister below \n***Having trouble registering? You can also register by clicking here!
URL:https://ebay.huntsphoto.com/calendar/online-qa-with-hunts-photo-education-free/
CATEGORIES:Instructor: Don T.,Instructor: Emily H.,Instructor: Paul N.,Online!
ATTACH;FMTTYPE=image/jpeg:https://ebay.huntsphoto.com/wp-content/uploads/2019/11/Longfellow.jpg
END:VEVENT
END:VCALENDAR