BEGIN:VCALENDAR
VERSION:2.0
PRODID:-//Hunt&#039;s Photo Education - ECPv6.1.3//NONSGML v1.0//EN
CALSCALE:GREGORIAN
METHOD:PUBLISH
X-ORIGINAL-URL:https://ebay.huntsphoto.com
X-WR-CALDESC:Events for Hunt&#039;s Photo Education
REFRESH-INTERVAL;VALUE=DURATION:PT1H
X-Robots-Tag:noindex
X-PUBLISHED-TTL:PT1H
BEGIN:VTIMEZONE
TZID:America/New_York
BEGIN:DAYLIGHT
TZOFFSETFROM:-0500
TZOFFSETTO:-0400
TZNAME:EDT
DTSTART:20190310T070000
END:DAYLIGHT
BEGIN:STANDARD
TZOFFSETFROM:-0400
TZOFFSETTO:-0500
TZNAME:EST
DTSTART:20191103T060000
END:STANDARD
END:VTIMEZONE
BEGIN:VEVENT
DTSTART;TZID=America/New_York:20190111T180000
DTEND;TZID=America/New_York:20190111T220000
DTSTAMP:20260419T175727
CREATED:20181120T161408Z
LAST-MODIFIED:20181127T132601Z
UID:11720-1547229600-1547244000@ebay.huntsphoto.com
SUMMARY:Hunt's Photo Walks: Sports & Action- College Hockey
DESCRIPTION:Join instructor Don Toothaker for a photo walk shooting live hockey action at historic Matthews Arena in Boston as the Northeastern Huskies women’s hockey team squares off against the women’s team from Boston College. Thanks to our friends at Northeastern University\, we have been given permission to bring small groups to specific games at Northeastern to photograph these fast-paced\, intense matchups!\nThe puck drops at 7pm and we will spend a few hours working on shooting action\, proper white balance\, panning action sequences\, auto-focus for action\, and subject development. Hockey is an exciting fast-paced sports full of excitement. We will capture the action!
URL:https://ebay.huntsphoto.com/calendar/hunts-photo-walks-sports-action-college-hockey/
CATEGORIES:Hunt's Photo Walks,Instructor: Don T.,Instructor: Ron P.,Photo Walks in Greater Boston
ATTACH;FMTTYPE=image/png:https://ebay.huntsphoto.com/wp-content/uploads/2017/01/Hockey.png
END:VEVENT
END:VCALENDAR