BEGIN:VCALENDAR
VERSION:2.0
PRODID:-//Hunt&#039;s Photo Education - ECPv6.1.3//NONSGML v1.0//EN
CALSCALE:GREGORIAN
METHOD:PUBLISH
X-ORIGINAL-URL:https://ebay.huntsphoto.com
X-WR-CALDESC:Events for Hunt&#039;s Photo Education
REFRESH-INTERVAL;VALUE=DURATION:PT1H
X-Robots-Tag:noindex
X-PUBLISHED-TTL:PT1H
BEGIN:VTIMEZONE
TZID:America/New_York
BEGIN:DAYLIGHT
TZOFFSETFROM:-0500
TZOFFSETTO:-0400
TZNAME:EDT
DTSTART:20190310T070000
END:DAYLIGHT
BEGIN:STANDARD
TZOFFSETFROM:-0400
TZOFFSETTO:-0500
TZNAME:EST
DTSTART:20191103T060000
END:STANDARD
END:VTIMEZONE
BEGIN:VEVENT
DTSTART;TZID=America/New_York:20190510T100000
DTEND;TZID=America/New_York:20190512T180000
DTSTAMP:20260425T193915
CREATED:20190420T135207Z
LAST-MODIFIED:20190420T135436Z
UID:12851-1557482400-1557684000@ebay.huntsphoto.com
SUMMARY:The 2019 Hunt's Photo 18th Annual Spring Expo
DESCRIPTION:Join us at Hunt’s Photo for our 2019 Spring Imaging Expo & Sale on May 10th & 11th!\nThe weekend will include FREE educational seminars\, exclusive sales and instant savings\, hands-on product demonstrations with many of our factory reps\, and event pricing on all cameras & lenses.\nThis is a great time to come together with your friends at Hunt’s Photo\, to stop in and say hello\, sit in on a few great presentations\, and check out some great new products!\nTo register for the educational seminars\, click here!\nFor more information on the specifics of our show\, click here!
URL:https://ebay.huntsphoto.com/calendar/hunts-spring-2019-expo/
LOCATION:Hunt’s Photo\, Melrose\, 100 Main St.\, Melrose\, MA\, 02176\, United States
CATEGORIES:Hunt's Photo, Melrose,Instructor: Don T.,Instructor: Emily H.,Instructor: Otha S.,Instructor: Paul N.,Instructor: Ron P.
ATTACH;FMTTYPE=image/jpeg:https://ebay.huntsphoto.com/wp-content/uploads/2019/04/save-the-date2019_paul.jpg
END:VEVENT
BEGIN:VEVENT
DTSTART;TZID=America/New_York:20190511T090000
DTEND;TZID=America/New_York:20190511T140000
DTSTAMP:20260425T193915
CREATED:20190330T023533Z
LAST-MODIFIED:20190330T023533Z
UID:12692-1557565200-1557583200@ebay.huntsphoto.com
SUMMARY:Hunt's Photo Walk: Steampunk in Waltham!
DESCRIPTION:Join Hunt’s Photo Education and very special guest instructor Bob Ring at the world’s largest Steampunk festival in Waltham! On this workshop\, we will work specifically on environmental portraiture in a street photography setting\, with the most outrageous (and awesome) subjects- Steampunk! Photographers of all skill levels are encouraged to attend!\nFounded in 2011\, the Waltham Steampunk Festival is the oldest outdoor Steampunk Festival in the country. Steampunk is an aesthetic and fashion that often mixes old-fashioned design (ex. Victorian/19th century era) with futuristic technology\, or at least futuristic from the design’s standpoint.  As displayed from the images\, the festival is wonderfully eclectic with vibrant colors and designs that render beautifully in the camera! \n \nIf you are attending this walk\, we will send out more specific instructions to you 48-hours prior to the walk. However\, be advised we will be meeting at the Embassy Garage on Pine St. in Waltham at the time listed. Please note: Some slight details above can be subject to change. This email will detail any of those minor changes.\nPlease read Hunt’s Terms & Conditions before signing up.
URL:https://ebay.huntsphoto.com/calendar/hunts-photo-walk-steampunk-in-waltham/
CATEGORIES:Hunt's Photo Walks,Instructor: Don T.,Photo Walks in Greater Boston
END:VEVENT
END:VCALENDAR