BEGIN:VCALENDAR
VERSION:2.0
PRODID:-//Hunt&#039;s Photo Education - ECPv6.1.3//NONSGML v1.0//EN
CALSCALE:GREGORIAN
METHOD:PUBLISH
X-WR-CALNAME:Hunt&#039;s Photo Education
X-ORIGINAL-URL:https://ebay.huntsphoto.com
X-WR-CALDESC:Events for Hunt&#039;s Photo Education
REFRESH-INTERVAL;VALUE=DURATION:PT1H
X-Robots-Tag:noindex
X-PUBLISHED-TTL:PT1H
BEGIN:VTIMEZONE
TZID:America/New_York
BEGIN:DAYLIGHT
TZOFFSETFROM:-0500
TZOFFSETTO:-0400
TZNAME:EDT
DTSTART:20190310T070000
END:DAYLIGHT
BEGIN:STANDARD
TZOFFSETFROM:-0400
TZOFFSETTO:-0500
TZNAME:EST
DTSTART:20191103T060000
END:STANDARD
END:VTIMEZONE
BEGIN:VEVENT
DTSTART;TZID=America/New_York:20190517T140000
DTEND;TZID=America/New_York:20190517T200000
DTSTAMP:20260425T205828
CREATED:20190413T032242Z
LAST-MODIFIED:20190513T134225Z
UID:12756-1558101600-1558123200@ebay.huntsphoto.com
SUMMARY:Hunt's Photo Workshop...on the Water: Whale Watch!
DESCRIPTION:Join us aboard an offshore power catamaran with Capt. John T. Pirie on a private tour available only to Hunt’s Photo Education attendees.  We plan to immerse you in the cetacean feeding frenzy that occurs each Spring as these hungry giants return from their long migration and 4 month fasting period.  One can expect to see a variety of cetaceans\, birds and occasionally fish such as tuna and sharks.  Whales such as Humpback\, Minke\, Finback\, and the endangered Right Whale frequent the Cape Ann waters during the Spring migration.  We often see large schools of Atlantic White-Sided Dolphins who are always willing to come play around the boat.  The shy Harbor Porpoise may be sighted as well as seals and a large variety of pelagic birdlife.\nWe will depart from Cape Ann Marina onboard the “Orca”– a 26’ twin engine custom-built catamaran.   We will spend 6 hours at sea during prime light and viewing hours.  The trips will be limited to 6 photographers so that your experience is both intimate and personalized.  You will have the opportunity to practice and improve your photography skills while enjoying a remarkable experience amongst feeding cetaceans.\nMore details\, including what to bring and what to expect\, are listed below. \n \nIf you are attending this workshop\, we will send out more specific instructions to you a few days prior to the workshop. However\, be advised we will be meeting at Cape Ann Marina in Gloucester\, MA at the time listed. Please note: Some slight details above can be subject to change. This email will detail any of those minor changes. \nPlease read Hunt’s Terms & Conditions before signing up. Also read a note on sea weather below in “Cancellations”.
URL:https://ebay.huntsphoto.com/calendar/hunts-photo-workshop-on-the-water-whale-watch/
CATEGORIES:Hunt's Photo Walks,Hunt's Photo Workshops,Instructor: Don T.
ATTACH;FMTTYPE=image/jpeg:https://ebay.huntsphoto.com/wp-content/uploads/2019/04/DSC_9227-scaled.jpg
END:VEVENT
END:VCALENDAR