BEGIN:VCALENDAR
VERSION:2.0
PRODID:-//Hunt&#039;s Photo Education - ECPv6.1.3//NONSGML v1.0//EN
CALSCALE:GREGORIAN
METHOD:PUBLISH
X-WR-CALNAME:Hunt&#039;s Photo Education
X-ORIGINAL-URL:https://ebay.huntsphoto.com
X-WR-CALDESC:Events for Hunt&#039;s Photo Education
REFRESH-INTERVAL;VALUE=DURATION:PT1H
X-Robots-Tag:noindex
X-PUBLISHED-TTL:PT1H
BEGIN:VTIMEZONE
TZID:America/New_York
BEGIN:DAYLIGHT
TZOFFSETFROM:-0500
TZOFFSETTO:-0400
TZNAME:EDT
DTSTART:20190310T070000
END:DAYLIGHT
BEGIN:STANDARD
TZOFFSETFROM:-0400
TZOFFSETTO:-0500
TZNAME:EST
DTSTART:20191103T060000
END:STANDARD
END:VTIMEZONE
BEGIN:VEVENT
DTSTART;TZID=America/New_York:20190830T180000
DTEND;TZID=America/New_York:20190830T220000
DTSTAMP:20260420T013610
CREATED:20190723T040414Z
LAST-MODIFIED:20191016T205223Z
UID:13477-1567188000-1567202400@ebay.huntsphoto.com
SUMMARY:Hunt's Photo Walk: The North End at Night
DESCRIPTION:Join Hunt’s Photo Education for a photo walk in the historic North End of Boston. During the walk\, we will discuss shooting in lower light with an emphasis on night photography. This will include assistance with exposure\, composition\, focusing\, use of tripods\, and a myriad of other settings and concepts. \nBoston is often referred to as a “city of neighborhoods”. One of the city’s most notable neighborhoods\, and its oldest\, is the North End. Beginning in the 1600s this is where immigrants to the New World entered the city for the first time\, which made the North End a busy\, vibrant center of activity. Today\, this tightly knit area is known as “Little Italy” given the prominent Italian-American influence and population found here. Quaint eateries\, fine restaurants\, and historic locations are characteristics that make the North End one of Boston’s premier destinations. \nThis walk is also an excellent chance to work on street photography. During the first few hours\, our light will start to change\, giving us some excellent opportunities at casual portraits and street scenes. As we move into more of the nighttime light\, we will shift to long exposures. Join us for this very diverse photo walk! \n \nIf you are attending this walk\, we will send out more specific instructions to you a few days prior to the walk. Please note: Some slight details above can be subject to change. This email will detail any of those minor changes.\nPlease read Hunt’s Terms & Conditions before signing up.\nIf you are interested in learning a little more about your camera (or anything else photographic-related) prior to the walk\, we would love to have you for a Custom 1-on-1 class.
URL:https://ebay.huntsphoto.com/calendar/hunts-photo-walk-the-north-end-at-night/
CATEGORIES:Hunt's Photo Walks,Instructor: Don T.,Instructor: Ron P.,Photo Walks in Greater Boston
ATTACH;FMTTYPE=image/jpeg:https://ebay.huntsphoto.com/wp-content/uploads/2019/08/Don-Toothaker-_ZZ72796.jpg
END:VEVENT
END:VCALENDAR