BEGIN:VCALENDAR
VERSION:2.0
PRODID:-//Hunt&#039;s Photo Education - ECPv6.1.3//NONSGML v1.0//EN
CALSCALE:GREGORIAN
METHOD:PUBLISH
X-ORIGINAL-URL:https://ebay.huntsphoto.com
X-WR-CALDESC:Events for Hunt&#039;s Photo Education
REFRESH-INTERVAL;VALUE=DURATION:PT1H
X-Robots-Tag:noindex
X-PUBLISHED-TTL:PT1H
BEGIN:VTIMEZONE
TZID:America/New_York
BEGIN:DAYLIGHT
TZOFFSETFROM:-0500
TZOFFSETTO:-0400
TZNAME:EDT
DTSTART:20190310T070000
END:DAYLIGHT
BEGIN:STANDARD
TZOFFSETFROM:-0400
TZOFFSETTO:-0500
TZNAME:EST
DTSTART:20191103T060000
END:STANDARD
END:VTIMEZONE
BEGIN:VEVENT
DTSTART;TZID=America/New_York:20191108T153000
DTEND;TZID=America/New_York:20191108T180000
DTSTAMP:20260422T111711
CREATED:20191005T171349Z
LAST-MODIFIED:20191009T161028Z
UID:13957-1573227000-1573236000@ebay.huntsphoto.com
SUMMARY:Hunt's Photo Walk: Postcard Series- The Longfellow Bridge
DESCRIPTION:Join Hunt’s Photo Education for our new Postcard Series of Photo Walks. Our Postcard Series are shorter Photo Walks and focused in concept. While our normal walks are 3-5 hours\, our Postcard series are generally shorter (about 2 hours) and focused on photographing one subject. This one subject is generally that “Postcard Image”\, a unique and distinct looking photograph that everyone loves to have in their portfolio. These walks are excellent for beginners\, as you’re able to concentrate and fine-tune\, as well as intermediate photographers looking for a quick and fun walk. Less walking\, more photographing! \nFor this “Postcard Walk”\, we will be visiting the newly lit up Longfellow Bridge. During the walk\, we will discuss many of the aspects of photographing in low-light and at night\, including exposure\, focusing\, composition\, and more. We will spend a good deal of time photographing the Longfellow Bridge from numerous angles and at different times of the evening. We will make use of evening light\, civil twilight\, and night time. Photographers of all levels are welcome! \n\nIf you are attending this walk\, we will send out more specific instructions to you a few days prior to the walk. However\, please be advised we will be meeting in Cambridge. Please note: Some slight details above can be subject to change. Our follow-up email will detail any of those minor changes.\nPlease read Hunt’s Terms & Conditions before signing up.
URL:https://ebay.huntsphoto.com/calendar/hunts-photo-walk-postcard-series-the-longfellow-bridge/
CATEGORIES:Hunt's Photo Walks,Instructor: Don T.,Instructor: Emily H.,Postcard Walk
ATTACH;FMTTYPE=image/jpeg:https://ebay.huntsphoto.com/wp-content/uploads/2019/03/Longfellow-Bridge-Boston-4.jpg
END:VEVENT
END:VCALENDAR