BEGIN:VCALENDAR
VERSION:2.0
PRODID:-//Hunt&#039;s Photo Education - ECPv6.1.3//NONSGML v1.0//EN
CALSCALE:GREGORIAN
METHOD:PUBLISH
X-WR-CALNAME:Hunt&#039;s Photo Education
X-ORIGINAL-URL:https://ebay.huntsphoto.com
X-WR-CALDESC:Events for Hunt&#039;s Photo Education
REFRESH-INTERVAL;VALUE=DURATION:PT1H
X-Robots-Tag:noindex
X-PUBLISHED-TTL:PT1H
BEGIN:VTIMEZONE
TZID:America/New_York
BEGIN:DAYLIGHT
TZOFFSETFROM:-0500
TZOFFSETTO:-0400
TZNAME:EDT
DTSTART:20210314T070000
END:DAYLIGHT
BEGIN:STANDARD
TZOFFSETFROM:-0400
TZOFFSETTO:-0500
TZNAME:EST
DTSTART:20211107T060000
END:STANDARD
END:VTIMEZONE
BEGIN:VEVENT
DTSTART;TZID=America/New_York:20210507T173000
DTEND;TZID=America/New_York:20210507T203000
DTSTAMP:20260420T180441
CREATED:20210421T061426Z
LAST-MODIFIED:20210421T061426Z
UID:21599-1620408600-1620419400@ebay.huntsphoto.com
SUMMARY:Hunt's Photo Walk: Copley Square at Night
DESCRIPTION:Featuring architecture\, sunset\, low light and night photography\, all in glorious black & white \nRecommended prerequisite: Working knowledge of your camera We also recommend having some of the knowledge from our Beginner Photography class \nAll Skill Levels Welcome \nInstructor: Don Toothaker \nClass Size: Maximum 8 attendees \n\n\nWalk Description\nJoin Hunt’s Photo Education for a photo walk in around Copley Square in downtown Boston. On the walk\, we will discuss Subject Development\, Image Composition\, Long Exposures\, Black and White Photography\, and Architectural Photography. Photographers of all skill levels are encouraged to attend.\n\nCopley Square is a bustling area\, excellent for both street scenes\, as well as architecture. During this walk\, we will photograph the courtyard around the Boston Public Library\, then move out into Copley Plaza and begin to photograph the exterior of Trinity Church\, reflections\, street activity\, and other details of city life. \n\n\n\nA Guideline for Photo Walks during the era of COVID-19Hunt’s Photo Education remains dedicated to the health and safety of every single attendee\, student\, and customer\, first and foremost. We also are committed to the best possible learning experience. We have put forth rules and guidelines for Photo Walks that occur during the era of COVID.•We will have no more than 6-8 attendees per Photo Walk with a single instructor•We ask that all attendees wear a mask. (Please make sure the mask covers your mouth and nose.)•We ask that all attendees socially distance 6 feet from one another\, unless you are attending with the other person•Hunt’s Photo Educators will be unable to physically handle others’ cameras•Consider bringing sanitizing wipes and hand sanitizer•If you are sick or feeling unwell\, stay home! We will gladly give you credit towards a future walk! \nThese guidelines will stay in place until further notice. We appreciate your patience and understanding during this time. If you have any questions\, feel free to contact us at classes@huntsphoto.com. \nRegister here\n***Having trouble registering? You can also register by clicking here!\n\n\n\n\nIf you are attending this walk\, we will send out more specific instructions to you a few days prior to the walk. Please note: Some slight details above can be subject to change. This email will detail any of those minor changes.Please read Hunt’s Terms & Conditions before signing up. \n\n\n\nDress and Gear \n\n\n\n•Make sure to dress accordingly with the most current weather report.•Consider bringing wide angle or standard zoom lenses\, and a telephoto zoom lens•A prime lens (or even a macro) may also suit you well.•You can bring a telephoto zoom lens\, but be advised to bring only what you want to carry.•Make sure to bring your tripod with a quick release plate and a shutter release\, if you have one.•Feel free to bring snacks and water\, and a flashlight will likely help as well.•Bring an extra camera battery and memory cards.•As always\, bring your enthusiasm and creative thoughts!
URL:https://ebay.huntsphoto.com/calendar/hunts-photo-walk-copley-square-at-night-2021-05-07/
CATEGORIES:Hunt's Photo Walks,Instructor: Don T.
ATTACH;FMTTYPE=image/jpeg:https://ebay.huntsphoto.com/wp-content/uploads/2020/06/20160716-_XE21876-1-Edit.jpg
END:VEVENT
END:VCALENDAR