BEGIN:VCALENDAR
VERSION:2.0
PRODID:-//Hunt&#039;s Photo Education - ECPv6.1.3//NONSGML v1.0//EN
CALSCALE:GREGORIAN
METHOD:PUBLISH
X-ORIGINAL-URL:https://ebay.huntsphoto.com
X-WR-CALDESC:Events for Hunt&#039;s Photo Education
REFRESH-INTERVAL;VALUE=DURATION:PT1H
X-Robots-Tag:noindex
X-PUBLISHED-TTL:PT1H
BEGIN:VTIMEZONE
TZID:America/New_York
BEGIN:DAYLIGHT
TZOFFSETFROM:-0500
TZOFFSETTO:-0400
TZNAME:EDT
DTSTART:20210314T070000
END:DAYLIGHT
BEGIN:STANDARD
TZOFFSETFROM:-0400
TZOFFSETTO:-0500
TZNAME:EST
DTSTART:20211107T060000
END:STANDARD
END:VTIMEZONE
BEGIN:VEVENT
DTSTART;TZID=America/New_York:20210604T070000
DTEND;TZID=America/New_York:20210604T100000
DTSTAMP:20260424T122718
CREATED:20210527T153712Z
LAST-MODIFIED:20210601T015026Z
UID:21945-1622790000-1622800800@ebay.huntsphoto.com
SUMMARY:Hunt's Photo Walk: Great Meadows Wildlife Refuge Nature Walk
DESCRIPTION:Featuring a chance to photograph the wildlife\, specifically birds \nRecommended prerequisite: Working knowledge of your camera  We also recommend having some of the knowledge from our Beginner Photography class \nAll Skill Levels Welcome \nInstructor: Don Toothaker \nClass Size: Maximum 8 attendees \n                                                                                                                                                                                                                                                                                                                                                                                                                                                                                                                                                                                                                                                                                                                                                                                                                                                                                                                                                                                                                                                                                                                                                                                                                                                                                                                                                                \nWalk Description\nJoin Hunt’s Photo Education as we photograph at Great Meadows Wildlife Refuge in Concord\, MA. On this walk\, we will have numerous shooting opportunities\, particularly a chance to photograph the wildlife–birds\, ducks\, eagles\, and more. Photographers of all skill levels are encouraged to attend! \nGreat Meadows Wildlife Refuge is a National Wildlife Refuge and river wetlands conservation area\, home to a variety of waterfowl and birds\, as well as other mammals\, such as deer\, foxes\, beaver\, and more. On this walk\, we will explore the Refuge with the intention of photographing birds and other wildlife! \nPlease note: There will be a good amount of walking on this Photo Walk. Nothing too treacherous\, but make sure to wear comfortable shoes! \nUpdated COVID-19 Policies for outdoor Hunt’s Photo Walks and Workshops\nHunt’s Photo Education is aligning with CDC and state guidelines and will no longer require face masks for our outdoor Photo Walks. If you are more comfortable wearing a mask\, please feel free to do so. We also recommend bringing a mask\, just in case. We also ask that you maintain social distance of 6 feet from one another.\nHunt’s Photo Education will still adhere to our 8 person attendee maximum per Photo Walk with a single instructor (unless otherwise noted).\nAs always\, if you are sick or feeling unwell\, STAY HOME! We will gladly give you a credit towards a future walk. \nThese guidelines will stay in place until further notice. We appreciate your patience and understanding during this time. If you have any questions\, feel free to contact us at classes@huntsphoto.com. \nRegister here \n***Having trouble registering? You can also register by clicking here! \n \nIf you are attending this walk\, we will send out more specific instructions to you a few days prior to the walk. Please note: Some slight details above can be subject to change. This email will detail any of those minor changes.\nPlease read Hunt’s Terms & Conditions before signing up. \nDress and Gear \n•Make sure to dress accordingly with the most current weather report.\n•Wear good walking shoes!\n•Consider bringing a standard zoom lenses.\n•A telephoto zoom lens longer than 300mm is recommended for birds. The longer the better– 400mm-600mm is recommended. If you do not have a lens that can go this length\, we also rent lenses through rentals.huntsphoto.com!\n•You may bring a tripod\, but only bring what you want to carry\n•Feel free to bring snacks and water.\n•Bring an extra camera battery and memory cards.\n•As always\, bring your enthusiasm and creative thoughts!
URL:https://ebay.huntsphoto.com/calendar/hunts-photo-walk-great-meadows-wildlife-refuge-nature-walk-2/
CATEGORIES:Hunt's Photo Walks,Instructor: Don T.
ATTACH;FMTTYPE=image/jpeg:https://ebay.huntsphoto.com/wp-content/uploads/2021/03/ZZ70603.jpg
END:VEVENT
END:VCALENDAR