BEGIN:VCALENDAR
VERSION:2.0
PRODID:-//Hunt&#039;s Photo Education - ECPv6.1.3//NONSGML v1.0//EN
CALSCALE:GREGORIAN
METHOD:PUBLISH
X-ORIGINAL-URL:https://ebay.huntsphoto.com
X-WR-CALDESC:Events for Hunt&#039;s Photo Education
REFRESH-INTERVAL;VALUE=DURATION:PT1H
X-Robots-Tag:noindex
X-PUBLISHED-TTL:PT1H
BEGIN:VTIMEZONE
TZID:America/New_York
BEGIN:DAYLIGHT
TZOFFSETFROM:-0500
TZOFFSETTO:-0400
TZNAME:EDT
DTSTART:20210314T070000
END:DAYLIGHT
BEGIN:STANDARD
TZOFFSETFROM:-0400
TZOFFSETTO:-0500
TZNAME:EST
DTSTART:20211107T060000
END:STANDARD
END:VTIMEZONE
BEGIN:VEVENT
DTSTART;TZID=America/New_York:20210728T190000
DTEND;TZID=America/New_York:20210728T210000
DTSTAMP:20260425T100258
CREATED:20210707T033850Z
LAST-MODIFIED:20210707T033850Z
UID:22404-1627498800-1627506000@ebay.huntsphoto.com
SUMMARY:Hunt's Photo Workshop and Image Review: Macro at Stevens-Coolidge
DESCRIPTION:Featuring Macro Photography at the picturesque Stevens-Coolidge Place followed by an online image review  \nRecommended prerequisite: Working knowledge of your camera  We also recommend having some of the knowledge from our Beginner Photography class \nAll Skill Levels Welcome \nInstructor: Don Toothaker \nClass Size: Maximum 8 attendees \nWalk Description\nJoin Hunt’s Photo Education for a workshop and image review involving the grounds at the Stevens-Coolidge Place in North Andover. During this walk\, we will work on use of color\, close up/macro photography\, use of tripods\, depth of field\, exposure and use of reflectors/diffusers\, all in a different light than we normally photograph on the grounds.\nAfter the workshop\, attendees will have the opportunity to review their images and make some edits. We will then reconvene online with an image review where we will discuss many of the factors that we discussed on the walk portion of the workshop. This workshop is an excellent opportunity to hone in on and develop your photography skills.\nThe Stevens-Coolidge Place is a unique estate in North Andover that benefits from a beautiful indoor space\, but is also quite famous for beautifully maintained grounds that include a rose garden\, greenhouse\, and more. Hunt’s Photo Education is extremely happy to be working in cooperation with the Stevens-Coolidge Place! More information on the Stevens-Coolidge Place and its history can be found here. \nRegister here\n***Having trouble registering? You can also register by clicking here!\n \nIf you are attending this workshop\, we will send out more specific instructions to you a few days prior. Please note: Some slight details above can be subject to change. This email will detail any of those minor changes.\nPlease read Hunt’s Terms & Conditions before signing up. \nDress and Gear: \n•Make sure to dress accordingly with the most current weather report.\n•You may want to consider bringing something to kneel on for the ground\, as you will likely be working near the ground.\n•For lenses\, feel free to bring macro lenses\, extension tubes\, or long focal length lenses. Standard zoom lenses will also come in handy. If you have any small reflectors\, those will also help.\n•Remember to bring your tripod with a quick release plate.\n•Due to rain or dew on the ground\, you will likely want to bring a pad to kneel on.\n•You may also want to consider extra memory cards and an extra battery.\n•A good\, fun attitude is always recommended!
URL:https://ebay.huntsphoto.com/calendar/hunts-photo-workshop-and-image-review-macro-at-stevens-coolidge-2021-07-28/
CATEGORIES:Hunt's Photo Walks,Instructor: Don T.
ATTACH;FMTTYPE=image/jpeg:https://ebay.huntsphoto.com/wp-content/uploads/2018/08/IMG_4798.jpeg
END:VEVENT
END:VCALENDAR