BEGIN:VCALENDAR
VERSION:2.0
PRODID:-//Hunt&#039;s Photo Education - ECPv6.1.3//NONSGML v1.0//EN
CALSCALE:GREGORIAN
METHOD:PUBLISH
X-ORIGINAL-URL:https://ebay.huntsphoto.com
X-WR-CALDESC:Events for Hunt&#039;s Photo Education
REFRESH-INTERVAL;VALUE=DURATION:PT1H
X-Robots-Tag:noindex
X-PUBLISHED-TTL:PT1H
BEGIN:VTIMEZONE
TZID:America/New_York
BEGIN:DAYLIGHT
TZOFFSETFROM:-0500
TZOFFSETTO:-0400
TZNAME:EDT
DTSTART:20210314T070000
END:DAYLIGHT
BEGIN:STANDARD
TZOFFSETFROM:-0400
TZOFFSETTO:-0500
TZNAME:EST
DTSTART:20211107T060000
END:STANDARD
END:VTIMEZONE
BEGIN:VEVENT
DTSTART;TZID=America/New_York:20210917T090000
DTEND;TZID=America/New_York:20210918T133000
DTSTAMP:20260419T090025
CREATED:20210821T034405Z
LAST-MODIFIED:20210821T034405Z
UID:22921-1631869200-1631971800@ebay.huntsphoto.com
SUMMARY:Hunt's Photo Adventure: Diana's Baths and the Kancamagus Highway
DESCRIPTION:Friday September 17th (9am-5pm) & Saturday September 18th (7:30am-1:30pm)\, 2021 • North Conway\, NH \nFeaturing Waterfalls\, Rivers\, and much more in Central New Hampshire \nInstructor: Don Toothaker \nPrice: $295.00 \nRecommended prerequisite: Basic Knowledge of your Camera \nAll Skill Levels Welcome \nGroup Size: Limited to 7 attendees \n                                                                                                                                                                                                                                                                                                                                                                                                                                                                                                                                                                                                                                                                                                                                                                                                                                                                                                                                                                                                                                                                                                                                                                                                                                                                                                                                                                \nAdventure Description\nJoin Hunt’s Photo Education for a short weekend photographing waterfalls\, rivers\, and more in Central New Hampshire! We will start photographing on Friday at Diana’s Baths in North Conway throughout the day on Friday. We will shoot until late in the afternoon and then have dinner and an image review where we will discuss the day. On Saturday\, we will work our way along “the Kanc”\, including Sabbaday Falls\, Rocky Gorge\, Lower Falls and more.  The workshop will conclude at about 1:30pm on Saturday.\nOn this workshop\, we will discuss numerous aspects of photography\, including subject development\, exposure\, black and white photography\, composition\, and more! Photographers of all levels are welcome! \nWhat’s included:\n•In-field instruction at each location\n•Image Discussion and Review \nWhat’s not included:\n•Transportation\n•Cost of food\n•Cost of hotel (We will be staying and meeting at the Comfort Inn and Suites\, North Conway\, NH) \nSkill Sets:  All Levels of Photographers are Welcome\nPhysical Activity:  Medium.  We will experience longer days as well as walking/scrambling over rocky terrain.\nDuring this Workshop We will Cover: \n•	Exposure\n•	Composition\n•	Metering\n•	Use of Lenses\n•	Use of Light Modifiers\n•	Subject Development\n•	Creative Thinking\n•	Shooting in Low Light\n•	Long Exposures\n•	Use of Filters (polarizers and ND)\n•	Image Processing\n•	Image Review\n•	Image Critiquing \nThe cost of this trip does not include the cost of lodging\, transportation\, or meals during the trip. \nRecommended gear:\nCamera\, memory cards\, batteries\nWide angle\, standard\, macro and telephoto lenses (If you are looking for a lens to rent\, you can rent it from us at rentals.huntsphoto.com!)\nTripod\nCable release\nPolarizers and Neutral Density filters if you have them \nTravel information\nWe will be meeting at Diana’s Baths in the morning the first day of the workshop.  \nHotel information\nWe will be staying at the Comfort Inn and Suites\, North Conway\, NH. Please note: Your rooms are NOT included in the cost of your ticket\, but we have rooms set aside. After booking with us\, make sure to call to put your name on one of those rooms. We are listed as the “Hunt’s Photo Group”. \nRegister here\n***Having trouble registering? You can also register by clicking here! \n \nUpon signing up for this walk\, you will receive a confirmation email. This will list more specific instructions regarding this workshop.\nPlease read our  Cancellation Policy before signing up.
URL:https://ebay.huntsphoto.com/calendar/hunts-photo-adventure-dianas-baths-and-the-kancamagus-highway/
CATEGORIES:Hunt's Photo Adventures,Instructor: Don T.
ATTACH;FMTTYPE=image/jpeg:https://ebay.huntsphoto.com/wp-content/uploads/2021/08/XT28795-1.jpg
END:VEVENT
END:VCALENDAR