BEGIN:VCALENDAR
VERSION:2.0
PRODID:-//Hunt&#039;s Photo Education - ECPv6.1.3//NONSGML v1.0//EN
CALSCALE:GREGORIAN
METHOD:PUBLISH
X-ORIGINAL-URL:https://ebay.huntsphoto.com
X-WR-CALDESC:Events for Hunt&#039;s Photo Education
REFRESH-INTERVAL;VALUE=DURATION:PT1H
X-Robots-Tag:noindex
X-PUBLISHED-TTL:PT1H
BEGIN:VTIMEZONE
TZID:America/New_York
BEGIN:DAYLIGHT
TZOFFSETFROM:-0500
TZOFFSETTO:-0400
TZNAME:EDT
DTSTART:20190310T070000
END:DAYLIGHT
BEGIN:STANDARD
TZOFFSETFROM:-0400
TZOFFSETTO:-0500
TZNAME:EST
DTSTART:20191103T060000
END:STANDARD
END:VTIMEZONE
BEGIN:VEVENT
DTSTART;TZID=America/New_York:20190921T130000
DTEND;TZID=America/New_York:20190921T190000
DTSTAMP:20260423T091750
CREATED:20190804T042313Z
LAST-MODIFIED:20190804T042313Z
UID:13597-1569070800-1569092400@ebay.huntsphoto.com
SUMMARY:Hunt's Portrait Workshop: Portraits in Portland\, Using Natural Light & Flash!
DESCRIPTION:Join Hunt’s Photo Education as we continue our portrait workshop sessions by mixing natural light and flash! On these workshops\, we will emphasize creating portraits using available light through subject placement and composition through the aid of diffusers and reflectors\, but then explain when and why to utilize flash\, and how we can achieve extraordinary results with a little bit of knowledge! Photographers of all skill levels are encouraged to attend. \nOn this workshop\, we will utilize iconic Portland Head Light. Portland Head Light is truly a beautiful location\, with a great deal of variety and depth. There’s the lighthouse\, of course\, but there’s also the beach area\, old buildings\, rocky areas\, and a small garden\, all of which makes Portland Head Light an easy location to choose for portraits\, from engagement sessions to senior portraits\, and even fashion.  We will begin this workshop basic and make our way up\, going to different areas to get different effects.\nWe will also integrate in a number of techniques with flash. You do not need to own a flash for this workshop\, but it certainly doesn’t hurt to own one and have an interest in using it! We will integrate in a little bit of flash and end utilizing High Speed Sync (or similar techniques) in our last hour of shooting. \nFor anyone interested in improving working with subjects in natural light situations as well as dabbling in outdoor flash\, this workshop is an excellent opportunity!  \nYou may bring your own gear\, including reflectors and speedlights\, but we will begin with gear that anyone can use\, including:\n-Basic reflectors\n-A Variety of brands of Speedlights\n-Phottix & Pocket Wizard Triggers\n-Westcott & Phottix Softboxes\n-Rogue Flashbender products \nWhat to bring:\n-Camera with fully charged battery\n-Memory cards\n-For lenses\, consider bringing lenses between 50mm and 100mm. Prime lenses with low apertures are a great option\, but zoom lenses that fit this range will also work fine.
URL:https://ebay.huntsphoto.com/calendar/hunts-portrait-workshop-portraits-in-portland-using-natural-light-flash/
CATEGORIES:Hunt's Photo Walks,Hunt's Photo Workshops,Hunt's Photo, South Portland,Instructor: Paul N.,Instructor: Rick B.,Lighting & Flash Classes,Photo Walks in New Hampshire & Maine
ATTACH;FMTTYPE=image/jpeg:https://ebay.huntsphoto.com/wp-content/uploads/2019/08/RB1-Natural-Light.jpg
END:VEVENT
END:VCALENDAR