BEGIN:VCALENDAR
VERSION:2.0
PRODID:-//Hunt&#039;s Photo Education - ECPv6.1.3//NONSGML v1.0//EN
CALSCALE:GREGORIAN
METHOD:PUBLISH
X-WR-CALNAME:Hunt&#039;s Photo Education
X-ORIGINAL-URL:https://ebay.huntsphoto.com
X-WR-CALDESC:Events for Hunt&#039;s Photo Education
REFRESH-INTERVAL;VALUE=DURATION:PT1H
X-Robots-Tag:noindex
X-PUBLISHED-TTL:PT1H
BEGIN:VTIMEZONE
TZID:America/New_York
BEGIN:DAYLIGHT
TZOFFSETFROM:-0500
TZOFFSETTO:-0400
TZNAME:EDT
DTSTART:20190310T070000
END:DAYLIGHT
BEGIN:STANDARD
TZOFFSETFROM:-0400
TZOFFSETTO:-0500
TZNAME:EST
DTSTART:20191103T060000
END:STANDARD
END:VTIMEZONE
BEGIN:VEVENT
DTSTART;TZID=America/New_York:20190823T160000
DTEND;TZID=America/New_York:20190824T140000
DTSTAMP:20260422T044524
CREATED:20190717T185539Z
LAST-MODIFIED:20200304T033510Z
UID:13462-1566576000-1566655200@ebay.huntsphoto.com
SUMMARY:Capture to Print ft. the Lighthouses of Portland
DESCRIPTION:Capture-To-Print is an intermediate workshop that focuses not only on photography\, but also editing and printing!  Half photo workshop\, half editing and printing\, we will take you through the whole process–from Capture to Print— to demonstrate what is important in the field\, how to effectively process photos\, and why printing is a necessity. \nOn this version of Capture to Print\, we will have a late afternoon/sunset photo walk covering three of Portland\, Maine’s most photogenic lighthouses. We’ll start at Bug Light Park to photograph the beloved Portland Breakwater Lighthouse\, also known as Bug Light\, before we head a couple of blocks over to Spring Point Ledge Lighthouse\, on the campus of Southern Maine Community College. Spring Point Ledge Lighthouse is also the site of Fort Preble\, a military fort which was in use from 1802 to 1906. We’ll explore the many opportunities this location offers\, and then head another few miles west to Cape Elizabeth to capture the sunset at Portland Head Lighthouse. Portland Head is located on the grounds of Fort Williams Park\, an old military fort dating back to the Spanish American War. We will explore the grounds and various vantage points on the lighthouse\, and end up in one of the classic spots for sunset.  \nThe next morning\, we will then transition from photographing to editing. Attendees are encouraged to bring their computers–laptops or all-in-ones are fine (iMacs are welcome)–in order to do their own editing. Attendees should have Adobe Lightroom and/or Photoshop on their computer or a comparable program. We will be available to help with the processing of images during this time. Shortly after noon\, we will view these edits\, critique\, and discuss them with the rest of the class while also creating 12×18″ prints.\nThis will be a fun and challenging workshop that will walk you through the full process of creating a photograph. The process of printing is integral to developing one’s photographic vision. \nApproximate schedule for the day:\nFriday\, 4pm- Meet at Bug Light Park. We will photograph there and the other two lighthouses for the evening.\nSaturday\, 8pm- End for the day\nSaturday 10am- Reconvene at Hunt’s Photo\, S. Portland. Begin editing.\n12pm- Review\, critique\, and printing. \n \nIf you are attending this walk\, we will send out more specific instructions to you a few days prior to the walk. However\, be advised we will be meeting at Bug Light Park at the end of Madison Ave in Portland\, Maine at the time listed. Please note: Some slight details above can be subject to change. This email will detail any of those minor changes. \nPlease read Hunt’s Terms & Conditions before signing up. \nAttendees should have: \nDigital Camera and Lens\nMemory Card\nTripod\nFlashlight \nSuggested Items Attendees should have: \nVarious other lenses\nExtra memory cards\nExtra camera battery\nSnacks\nWater
URL:https://ebay.huntsphoto.com/calendar/capture-to-print-ft-the-lighthouses-of-portland/
CATEGORIES:Editing & Printing Classes,Hunt's Photo Walks,Hunt's Photo, South Portland,Instructor: Ray L.,Instructor: Rick B.,Photo Walks in New Hampshire & Maine
ATTACH;FMTTYPE=image/jpeg:https://ebay.huntsphoto.com/wp-content/uploads/2018/09/20170702_SpringPtLedge_0014.jpg
END:VEVENT
END:VCALENDAR