BEGIN:VCALENDAR
VERSION:2.0
PRODID:-//Hunt&#039;s Photo Education - ECPv6.1.3//NONSGML v1.0//EN
CALSCALE:GREGORIAN
METHOD:PUBLISH
X-ORIGINAL-URL:https://ebay.huntsphoto.com
X-WR-CALDESC:Events for Hunt&#039;s Photo Education
REFRESH-INTERVAL;VALUE=DURATION:PT1H
X-Robots-Tag:noindex
X-PUBLISHED-TTL:PT1H
BEGIN:VTIMEZONE
TZID:America/New_York
BEGIN:DAYLIGHT
TZOFFSETFROM:-0500
TZOFFSETTO:-0400
TZNAME:EDT
DTSTART:20210314T070000
END:DAYLIGHT
BEGIN:STANDARD
TZOFFSETFROM:-0400
TZOFFSETTO:-0500
TZNAME:EST
DTSTART:20211107T060000
END:STANDARD
END:VTIMEZONE
BEGIN:VEVENT
DTSTART;TZID=America/New_York:20210209T190000
DTEND;TZID=America/New_York:20210209T203000
DTSTAMP:20260424T102730
CREATED:20210121T173203Z
LAST-MODIFIED:20210121T173203Z
UID:18982-1612897200-1612902600@ebay.huntsphoto.com
SUMMARY:Online: Creative Photography with Lensbaby (Live Demo!)
DESCRIPTION:Want to get this class after it’s been run?– We have an online store where you can purchase all our previously run classes here: https://ebay.huntsphoto.com/buy-previous-courses/ \nBelow the course description (but before registration) will be a short explanation on how the class will run. \nLensbaby lenses are a unique series of lenses\, available for most camera systems that give a variety of looks and effects. From swirling bokeh to dramatic vignettes\, velvety glows to swirly blurs\, and often with a bright sharp center\, these lenses present a unique style for the user experience.\nLensbaby lenses are not always the easiest to use or understand and require a lot of practice and fine-tuning. In this course\, we will cover the types of lenses\, tips on how to use them\, and provide plenty of examples of photos on how to create a unique look.\nWe will also be running this class with a Live Demo\, showing how to use them and displaying resulting images! This will be an excellent way to see the lenses in action and is recommended for anyone with questions on Lensbaby! \nRegistering and what is needed\nAfter you register for this class\, you will receive a confirmation email that will include information about how to access the online class\, including an online ID code that you will need to get into the class. Make sure to save this information. We will also send a reminder email about 24 hours prior to the class time with that same information. \nLayout of the class\nThe class will begin promptly at the time listed. The majority of the class–roughly 1 hour– will be a presentation on the topic\, followed by a short Q&A. During the class\, you are welcome to type in questions in the Chat box if you have specific questions as they are asked. We will do our best to answer those questions\, but if not\, feel free to ask them at the end. \n“You Are Being Recorded” (And Other Note Related Items)\nWe will be recording this class! The video will be available for download about 24-hours after the class for all attendees\, so don’t worry about taking unending notes. We will send this link attendees to download and rewatch at any time. In addition to this\, we will generally send out a PDF of the presentation (when applicable) and handouts on the topic. If handouts and PDFs are included\, we will send it out with the link for the video. \nCan’t attend the class? \nIf you can’t attend the class but still want to download the video\, no problem: Just sign up for the class! You don’t need to attend and we will send the video and PDF link the next day! \nWant to get this class after it’s been run?– We have an online store where you can purchase all our previously run classes here: https://ebay.huntsphoto.com/buy-previous-courses/ \n \nPlease read Hunt’s Terms & Conditions before signing up.
URL:https://ebay.huntsphoto.com/calendar/online-creative-photography-with-lensbaby-live-demo/
CATEGORIES:Instructor: Emily H.,Online!
ATTACH;FMTTYPE=image/jpeg:https://ebay.huntsphoto.com/wp-content/uploads/2020/03/@hojphoto_LensbabyLR-8204.jpg
END:VEVENT
END:VCALENDAR