BEGIN:VCALENDAR
VERSION:2.0
PRODID:-//Hunt&#039;s Photo Education - ECPv6.1.3//NONSGML v1.0//EN
CALSCALE:GREGORIAN
METHOD:PUBLISH
X-WR-CALNAME:Hunt&#039;s Photo Education
X-ORIGINAL-URL:https://ebay.huntsphoto.com
X-WR-CALDESC:Events for Hunt&#039;s Photo Education
REFRESH-INTERVAL;VALUE=DURATION:PT1H
X-Robots-Tag:noindex
X-PUBLISHED-TTL:PT1H
BEGIN:VTIMEZONE
TZID:America/New_York
BEGIN:DAYLIGHT
TZOFFSETFROM:-0500
TZOFFSETTO:-0400
TZNAME:EDT
DTSTART:20180311T070000
END:DAYLIGHT
BEGIN:STANDARD
TZOFFSETFROM:-0400
TZOFFSETTO:-0500
TZNAME:EST
DTSTART:20181104T060000
END:STANDARD
END:VTIMEZONE
BEGIN:VEVENT
DTSTART;TZID=America/New_York:20180701T090000
DTEND;TZID=America/New_York:20180701T180000
DTSTAMP:20260421T044458
CREATED:20180522T161210Z
LAST-MODIFIED:20180522T161210Z
UID:10349-1530435600-1530468000@ebay.huntsphoto.com
SUMMARY:Hunt's Photo Walk: Myopia Polo
DESCRIPTION:Join Hunt’s Photo Education for an action packed photography walk/workshop! On this walk\, we will be giving instruction and photographing the fast-paced sport of Polo at the Myopia Polo Grounds in South Hamilton!\nWe will begin at our classroom at Hunt’s Photo & Video in Melrose\, Massachusetts where we will show images from previous years of photography at Myopia and discuss different techniques of photographing action\, including how to compose and expose\, choose your focus properly\, and stop and pan action. After this\, we will break for lunch (not included) and regroup at the Myopia Polo Grounds in South Hamilton (about a 35-minute drive from our store). Leading up to the match on the grounds\, we will prep by going over the layout of the field and the day\, and also photograph some of the lifestyle of the event\, including the prominent and often posh tailgating! The match will last from about 3pm until about 5:30pm\, with a traditional “fox hunt” as an intermission. (Don’t worry- no foxes will be harmed!) The action\, detail\, and energy is fantastic!\nFor more information and to register\, click here. \nTo Sign up for the event on July 1st
URL:https://ebay.huntsphoto.com/calendar/hunts-photo-walk-myopia-polo/
CATEGORIES:Hunt's Photo Walks,Hunt's Photo, Melrose,Photo Walks in Greater Boston
ATTACH;FMTTYPE=image/jpeg:https://ebay.huntsphoto.com/wp-content/uploads/2016/10/Myopia2.jpg
END:VEVENT
BEGIN:VEVENT
DTSTART;TZID=America/New_York:20180709T180000
DTEND;TZID=America/New_York:20180709T200000
DTSTAMP:20260421T044458
CREATED:20180618T184503Z
LAST-MODIFIED:20180618T184503Z
UID:10499-1531159200-1531166400@ebay.huntsphoto.com
SUMMARY:Hunt's Photo\, S. Portland: An Evening with Photographer Rick Gerrity
DESCRIPTION:Join Rick Gerrity Panasonic/Lumix Global Ambassador on a photographic journey in Monowi\, Nebraska\, the smallest incorporated Ghost Town in the USA: Population “1”. Elsie Eiler is the only remaining resident. Elsie owns and operates the Monowi Bar at 84 years young! In this presentation\, we’ll explore all the old buildings and discuss the equipment and settings used to capture the images in natural light.\nYou’ll also hear all the stories from the cattle ranchers and farmers from the surrounding towns who stop by the bar for drinks and meals. After the presentation\, Rick will give a live demo on simple lighting and how he captures all the people he meets. He will discuss equipment setting as well as lens choices for difficult situations.
URL:https://ebay.huntsphoto.com/calendar/hunts-photo-s-portland-an-evening-with-photographer-rick-gerrity/
CATEGORIES:Hunt's Photo, South Portland,Misc. Workshops & Seminars
ATTACH;FMTTYPE=image/jpeg:https://ebay.huntsphoto.com/wp-content/uploads/2018/06/image001.jpg
END:VEVENT
BEGIN:VEVENT
DTSTART;TZID=America/New_York:20180713T190000
DTEND;TZID=America/New_York:20180713T223000
DTSTAMP:20260421T044458
CREATED:20180618T163516Z
LAST-MODIFIED:20180618T163555Z
UID:10480-1531508400-1531521000@ebay.huntsphoto.com
SUMMARY:Hunt's Photo Walk: Piers Park\, East Boston
DESCRIPTION:Join Hunt’s Photo Education for a photo walk at Piers Park in East Boston. During the walk\, we will discuss shooting in lower light with an emphasis on night photography. This will include assistance with exposure\, composition\, focusing\, use of tripods\, and a myriad of other settings and concepts!\nFor more information and to register\, click here.\n \nIf you are attending this walk\, we will send out more specific instructions to you a few days prior to the walk. Please note: Some slight details above can be subject to change. This email will detail any of those minor changes.\nPlease read Hunt’s Terms & Conditions before signing up.
URL:https://ebay.huntsphoto.com/calendar/hunts-photo-walk-piers-park-east-boston/
CATEGORIES:Hunt's Photo Walks,Photo Walks in Greater Boston
ATTACH;FMTTYPE=image/jpeg:https://ebay.huntsphoto.com/wp-content/uploads/2017/03/Piers-Park-East-Boston-Don-Toothaker-Edited_BW-20140717-_DET5078-122-294.jpg
END:VEVENT
BEGIN:VEVENT
DTSTART;TZID=America/New_York:20180714T100000
DTEND;TZID=America/New_York:20180714T160000
DTSTAMP:20260421T044458
CREATED:20180618T163954Z
LAST-MODIFIED:20180618T163954Z
UID:10482-1531562400-1531584000@ebay.huntsphoto.com
SUMMARY:Personal Vision Shootout: Mystic Seaport
DESCRIPTION:Join Hunt’s Photo Education for a Personal Vision Shootout at Mystic Seaport on the Connecticut shore. This comprehensive walk is geared toward intermediate and advanced photographers. During the walk\, we will “strengthen your photographic muscles” by challenging you to work outside of your comfort zone while also developing cohesion in the photographic work you produce.  \nFor more information and to register\, click here. \n\nIf you are attending this walk\, we will send out more specific instructions to you a few days prior to the walk. Please note: Some slight details above can be subject to change. This email will detail any of those minor changes.\nPlease read Hunt’s Terms & Conditions before signing up.
URL:https://ebay.huntsphoto.com/calendar/personal-vision-shootout-mystic-seaport/
CATEGORIES:Personal Vision Shootout
ATTACH;FMTTYPE=image/jpeg:https://ebay.huntsphoto.com/wp-content/uploads/2018/06/20150410-_DT27670-Edit-32.jpg
END:VEVENT
BEGIN:VEVENT
DTSTART;TZID=America/New_York:20180718T150000
DTEND;TZID=America/New_York:20180723T120000
DTSTAMP:20260421T044458
CREATED:20171101T151836Z
LAST-MODIFIED:20180123T212653Z
UID:8788-1531926000-1532347200@ebay.huntsphoto.com
SUMMARY:Hunt's Photo Adventure: The Bold Coast of Maine
DESCRIPTION:Tucked into the far northeast corner of Maine is the fishing village of Lubec.  Once a thriving fishing community\, Lubec is now a quiet coastal town surrounded by the remnants of their fishing legacy and the rugged\, sprawling Bold Coast.  Lubec features West Quoddy Head Lighthouse\, rustic fishing harbors\, and nearby Campobello Island as well as many photographic opportunities along the coast.  We will spend one day observing and photographing the rare Atlantic Puffin offshore on nearby Machias Seal Island.\nFor more information and to register\, click here. \n\nUpon signing up for this walk\, you will receive a confirmation email. This will list more specific instructions regarding this workshop.\nPlease read our  Cancellation Policy before signing up.
URL:https://ebay.huntsphoto.com/calendar/hunts-photo-adventure-the-bold-coast-of-maine/
LOCATION:Lubec\, ME\, Lubec\, maine
CATEGORIES:Hunt's Photo Adventures
ATTACH;FMTTYPE=image/jpeg:https://ebay.huntsphoto.com/wp-content/uploads/2017/10/XP27710.jpg
END:VEVENT
BEGIN:VEVENT
DTSTART;TZID=America/New_York:20180727T170000
DTEND;TZID=America/New_York:20180729T180000
DTSTAMP:20260421T044458
CREATED:20180522T155034Z
LAST-MODIFIED:20180522T165110Z
UID:10364-1532710800-1532887200@ebay.huntsphoto.com
SUMMARY:Hunt's Photo Education's Weekend of Workshops (with Sigma)
DESCRIPTION:Hunt’s Photo Education is once again teaming up with Sigma to produce a trio of walks and workshops geared to get you excited about a variety of different photographic styles. The entire weekend will be hosted by Hunt’s Photo Education staff and Sigma professional Marc Farb with lenses unique to each event. This will be a fun event!\nOn Friday\, we will take a walk through MIT in Cambridge to photograph some of the most unique architecture in Massachusetts\, then onto Memorial Drive overlooking the Charles. We continue on Saturday with another installment in our Portrait Series that will emphasize creating portraits using only natural light. We conclude Sunday as we capture the action at the Myopia Polo grounds in South Hamilton.\nFor more information about Boston After Dark- MIT Architecture\, click here.\nFor more information about Natural Light Portrait Workshop\, click here.\nFor more information about Sports & Action- Myopia Polo\, click here.\nTo sign up for our entire Hunt’s Photo Education weekend\, including Boston After Dark: MIT\, Natural Portrait Workshop\, & Sports & Action: Myopia Polo…\n \nTo Sign up for only Hunt’s Photo Walk: MIT Architecture\n \nTo Sign up for only Hunt’s Photo Workshop: Natural Light Portraits\n \nTo Sign up for only Sports & Action- Myopia Polo
URL:https://ebay.huntsphoto.com/calendar/hunts-photo-educations-weekend-of-workshops-with-sigma/
CATEGORIES:Hunt's Photo Walks,Hunt's Photo Workshops,Photo Walks in Greater Boston
ATTACH;FMTTYPE=image/jpeg:https://ebay.huntsphoto.com/wp-content/uploads/2018/05/trio-1-e1529627173339.jpg
END:VEVENT
BEGIN:VEVENT
DTSTART;TZID=America/New_York:20180727T170100
DTEND;TZID=America/New_York:20180727T220000
DTSTAMP:20260421T044458
CREATED:20180522T164837Z
LAST-MODIFIED:20180522T165152Z
UID:10361-1532710860-1532728800@ebay.huntsphoto.com
SUMMARY:Hunt's Photo Walk: Boston After Dark- MIT Architecture
DESCRIPTION:Join Hunt’s Photo Education and Sigma Lenses for a photo walk through MIT in Cambridge and onto Memorial Drive overlooking the Charles. On the walk\, we will discuss Architectural Photography\, Image Composition\, Long Exposures\, and Black and White Photography. Photographers of all skill levels are encouraged to attend.\nOn this walk\, we will also be joined by Sigma professional Marc Farb who will have with him Sigma Lenses (Wide angle\, standard zoom\, and Art-Series primes). This workshop is also a part of our Hunt’s Photo Education Weekend of Workshops with Sigma\, in which you can sign up for just this event or the entire weekend for a discounted rate.\nFor more information and to register\, click here. \n \nTo sign up for our entire Hunt’s Photo Education weekend\, including Boston After Dark: MIT\, Natural Portrait Workshop\, & Sports & Action: Myopia Polo…\n\n \nTo Sign up for only Hunt’s Photo Walk: MIT Architecture
URL:https://ebay.huntsphoto.com/calendar/hunts-photo-walk-boston-after-dark-mit-architecture/
CATEGORIES:Hunt's Photo Walks,Photo Walks in Greater Boston
ATTACH;FMTTYPE=image/jpeg:https://ebay.huntsphoto.com/wp-content/uploads/2016/08/MIT-Memorial-Drive.jpg
END:VEVENT
BEGIN:VEVENT
DTSTART;TZID=America/New_York:20180728T090000
DTEND;TZID=America/New_York:20180728T180000
DTSTAMP:20260421T044458
CREATED:20180522T164603Z
LAST-MODIFIED:20180522T164603Z
UID:10357-1532768400-1532800800@ebay.huntsphoto.com
SUMMARY:Hunt's Photo Workshop: Portrait Series- Natural Light Portrait Workshop
DESCRIPTION:Join Hunt’s Photo Education for another entry in our Portrait Series where we will work on portraits in a natural light environment. We will emphasize creating portraits using available light through subject placement and composition through the aid of diffusers and reflectors. We will also discuss Subject Development\, Exposure\, Black and White Photography\, and more. Photographers of all skill levels are encouraged to attend. \nWe will also be joined by Sigma professional Marc Farb who will have with him Sigma Lenses for use\, including standard zoom lenses and Sigma’s beautiful Art Series prime lenses. This workshop is also a part of our Hunt’s Photo Education Weekend of Workshops with Sigma\, in which you can sign up for just this event or the entire weekend for a discounted rate.  \nTo sign up for our entire Hunt’s Photo Education weekend\, including Boston After Dark: MIT\, Natural Portrait Workshop\, & Sports & Action: Myopia Polo…\n\n \nTo Sign up for only Hunt’s Photo Workshop: Natural Light Portraits
URL:https://ebay.huntsphoto.com/calendar/hunts-photo-workshop-portrait-series-natural-light-portrait-workshop/
CATEGORIES:Hunt's Photo Walks,Photo Walks in Greater Boston
ATTACH;FMTTYPE=image/jpeg:https://ebay.huntsphoto.com/wp-content/uploads/2018/05/Natural-Portrait-3.jpg
END:VEVENT
BEGIN:VEVENT
DTSTART;TZID=America/New_York:20180729T090000
DTEND;TZID=America/New_York:20180729T180000
DTSTAMP:20260421T044458
CREATED:20180522T161729Z
LAST-MODIFIED:20180522T161729Z
UID:10352-1532854800-1532887200@ebay.huntsphoto.com
SUMMARY:Hunt's Photo Walk: Myopia Polo
DESCRIPTION:Join Hunt’s Photo Education for an action packed photography walk/workshop! On this walk\, we will be giving instruction and photographing the fast-paced sport of Polo at the Myopia Polo Grounds in South Hamilton!\nWe will begin at our classroom at Hunt’s Photo & Video in Melrose\, Massachusetts where we will show images from previous years of photography at Myopia and discuss different techniques of photographing action\, including how to compose and expose\, choose your focus properly\, and stop and pan action. After this\, we will break for lunch (not included) and regroup at the Myopia Polo Grounds in South Hamilton (about a 35-minute drive from our store). Leading up to the match on the grounds\, we will prep by going over the layout of the field and the day\, and also photograph some of the lifestyle of the event\, including the prominent and often posh tailgating! The match will last from about 3pm until about 5:30pm\, with a traditional “fox hunt” as an intermission. (Don’t worry- no foxes will be harmed!) The action\, detail\, and energy is fantastic!\nThis workshop is also a part of our Hunt’s Photo Education Weekend of Workshops with Sigma. \nFor more information and to register\, click here. \nTo sign up for our entire Hunt’s Photo Education weekend July 27th-29th\, including Boston After Dark: MIT\, Natural Portrait Workshop\, & Sports & Action: Myopia Polo\n\nTo Sign up for only the event on July 29th\n \nPlease read Hunt’s Terms & Conditions before signing up.
URL:https://ebay.huntsphoto.com/calendar/hunts-photo-walk-myopia-polo-2/
CATEGORIES:Hunt's Photo Walks,Photo Walks in Greater Boston
ATTACH;FMTTYPE=image/jpeg:https://ebay.huntsphoto.com/wp-content/uploads/2016/10/Myopia2.jpg
END:VEVENT
END:VCALENDAR