BEGIN:VCALENDAR
VERSION:2.0
PRODID:-//Hunt&#039;s Photo Education - ECPv6.1.3//NONSGML v1.0//EN
CALSCALE:GREGORIAN
METHOD:PUBLISH
X-ORIGINAL-URL:https://ebay.huntsphoto.com
X-WR-CALDESC:Events for Hunt&#039;s Photo Education
REFRESH-INTERVAL;VALUE=DURATION:PT1H
X-Robots-Tag:noindex
X-PUBLISHED-TTL:PT1H
BEGIN:VTIMEZONE
TZID:America/New_York
BEGIN:DAYLIGHT
TZOFFSETFROM:-0500
TZOFFSETTO:-0400
TZNAME:EDT
DTSTART:20190310T070000
END:DAYLIGHT
BEGIN:STANDARD
TZOFFSETFROM:-0400
TZOFFSETTO:-0500
TZNAME:EST
DTSTART:20191103T060000
END:STANDARD
END:VTIMEZONE
BEGIN:VEVENT
DTSTART;TZID=America/New_York:20191002T150000
DTEND;TZID=America/New_York:20191006T110000
DTSTAMP:20260426T000711
CREATED:20180831T201622Z
LAST-MODIFIED:20180831T201624Z
UID:11214-1570028400-1570359600@ebay.huntsphoto.com
SUMMARY:Hunt's Photo Adventure: Fall in Vermont
DESCRIPTION:Autumn is a time of changing colors and the harvest.  The rural areas around Quechee and Woodstock Vermont\, with its array of classic New England scenes and nature\, provide a perfect setting to celebrate this time of year as well as the best setting to expand your creativity.  We will spend our time as a group exploring scenic locations\, a variety of nature\, and local culture for many photographic and learning opportunities.\nTo make only a deposit\, select the “Deposit Only” box below. All payments are due 30-days prior to the workshop. \n \nUpon signing up for this walk\, you will receive a confirmation email. This will list more specific instructions regarding this workshop.\nPlease read our  Cancellation Policy before signing up.
URL:https://ebay.huntsphoto.com/calendar/hunts-photo-adventure-fall-in-vermont/
CATEGORIES:Hunt's Photo Adventures
ATTACH;FMTTYPE=image/jpeg:https://ebay.huntsphoto.com/wp-content/uploads/2019/10/20121011-DT8_2127-211.jpg
END:VEVENT
BEGIN:VEVENT
DTSTART;TZID=America/New_York:20191005T090000
DTEND;TZID=America/New_York:20191005T170000
DTSTAMP:20260426T000711
CREATED:20190830T055012Z
LAST-MODIFIED:20190830T055012Z
UID:13681-1570266000-1570294800@ebay.huntsphoto.com
SUMMARY:Posing Portraits on Location with Bobbi Lane & Lee Varis
DESCRIPTION:Join photographers Bobbi Lane and Lee Varis (“The Mistress of Light” and “The Sultan of Skin”) for a workshop that will emphasize how to appropriately pose any subject\, from individuals to couples and families.  \nEveryone wants to make wonderful photos of their family\, friends and associates and learn how to pose them in a natural and relaxed way. People need a good portrait for social media\, both fun and business! This class covers how to pose individuals and couples and also demonstrates effective communication methods to help your subjects feel at ease. The posing techniques will be for both male and female individuals for headshots\, senior portraits\, how to pose for ¾ and full length\, couples – including engagement photos\, and families. Learn how to make locations work for you and find the scene to make a great composition and set up creative situations. This class will elevate your confidence for shooting on location with creative ideas. \nFor this workshop\, we will begin with a class in our Hunt’s Photo\, Melrose location and continue in the afternoon at the Saugus Iron Works with models. Lunch will be included. \nWorkshop Overview \n9 am: Class overview\, student intros\, image presentation and shooting demos on posing. \n11:30am: Break for lunch \n12:30pm: We will depart for Saugus\, about 10-15 minutes away. \n1-5:00pm: Students photograph a variety of models  \n5pm: Wrap up discussion. We will not be returning to Melrose after the workshop. \nStudents must be familiar with their cameras and lenses and basic photography technique.  \nA medium telephoto lens is suggested\, ranging from 50mm to 120mm. \n \nUpon signing up for this workshop\, you will receive a confirmation email that you have signed up. The week of the workshop\, we will send out an email with a few more details about the workshop\, including what specifically to bring and a questionnaire about your photographic experiences and background.\nPlease read our  Cancellation Policy before signing up.
URL:https://ebay.huntsphoto.com/calendar/posing-portraits-on-location-with-bobbi-lane-lee-varis/
CATEGORIES:Hunt's Photo Walks,Hunt's Photo Workshops,Lighting & Flash Classes
ATTACH;FMTTYPE=image/jpeg:https://ebay.huntsphoto.com/wp-content/uploads/2019/08/trio.jpg
END:VEVENT
BEGIN:VEVENT
DTSTART;TZID=America/New_York:20191005T100000
DTEND;TZID=America/New_York:20191005T140000
DTSTAMP:20260426T000711
CREATED:20190820T173511Z
LAST-MODIFIED:20190926T205926Z
UID:13653-1570269600-1570284000@ebay.huntsphoto.com
SUMMARY:Hunt's Photo Walk: The Trolley Museum
DESCRIPTION:Join Emily Hojnowski as we explore the Seashore Trolley Museum of Kennebunkport\, ME. The museum has a collection of vehicles that show how public transportation has changed through the years. On this workshop we will discuss subject development\, composition\, exposure\, circular polarizers\, fine art photography\, and more!\nWe’ll spend the day exploring the grounds\, photographing the wonderful textures\, colors\, and patterns the museum has to offer. This walk is a great way to practice macro and more in a truly different environment. Join us for this fun-filled workshop!
URL:https://ebay.huntsphoto.com/calendar/hunts-photo-walk-the-trolley-museum/
CATEGORIES:Hunt's Photo Walks,Instructor: Emily H.,Photo Walks in New Hampshire & Maine
ATTACH;FMTTYPE=image/jpeg:https://ebay.huntsphoto.com/wp-content/uploads/2018/05/@hojphoto_Trolley-9919-1.jpg
END:VEVENT
BEGIN:VEVENT
DTSTART;TZID=America/New_York:20191007T180000
DTEND;TZID=America/New_York:20191007T210000
DTSTAMP:20260426T000711
CREATED:20190912T215013Z
LAST-MODIFIED:20190912T215013Z
UID:13838-1570471200-1570482000@ebay.huntsphoto.com
SUMMARY:Nikon Z Camera Bootcamp- Tips\, Tricks\, & More!
DESCRIPTION:Join Nikon and Hunt’s Photo for a fun evening where we will bootcamp the Nikon Z Camera systems!  \nWhat do all the menu items in your camera mean? What buttons are important to know? How is it best to set up your camera? If you own a Nikon Z-Series mirrorless camera or are considering getting one and you want to know all the ins and outs of these questions and more\, this bootcamp will be an excellent opportunity!\nWe will begin this course with a presentation of images taken with various Nikon Z-Series cameras. We will then dig into the camera itself\, including the buttons\, the menus\, and other important items of the cameras. After a brief Q&A\, we will then work with the cameras in practical situations. We will have a variety of shooting setups\, including models and still-life setups\, in order to get a practical understanding of how to use some of the functionality on the cameras.\nThis bootcamp is strongly recommended for any Z-Camera owner looking for more information on the cameras\, but is also open to those interested in purchasing a Z-Camera. We will have demo units available to borrow\, and as always\, our rental department also has these cameras in stock!\nSnacks and refreshments will be provided. Join us for a fun night with Nikon!
URL:https://ebay.huntsphoto.com/calendar/nikon-z-camera-bootcamp-tips-tricks-more/
CATEGORIES:Hunt's Photo, Melrose,Instructor: Don T.,Misc. Workshops & Seminars
ATTACH;FMTTYPE=image/jpeg:https://ebay.huntsphoto.com/wp-content/uploads/2019/09/launch-event-edu.jpg
END:VEVENT
BEGIN:VEVENT
DTSTART;TZID=America/New_York:20191010T180000
DTEND;TZID=America/New_York:20191010T210000
DTSTAMP:20260426T000711
CREATED:20190925T135435Z
LAST-MODIFIED:20190925T135435Z
UID:13880-1570730400-1570741200@ebay.huntsphoto.com
SUMMARY:Hunt's Photo Education Open House
DESCRIPTION:Join Hunt’s Photo Education for our second Education Open House!\nOur Open House is quite simply a fun meet and greet with some of our Hunt’s Photo Education staff\, as well as a learning opportunity. During the evening\, we’ll be putting on a few unique demos involving editing and printing\, we’ll be looking at our year 2019 in review\, and we’ll be looking forward to 2020 and beyond!  We’ll have some light food to snack on and refreshments. Select vendors will be with us for the evening\, including our friends from Thomson Safari\, who organize our annual Photo Safari to Tanzania. We’ll also have some special giveaways\, including a pair of Photo Walk tickets and gift cards.\nSchedule for the evening: \n6-7pm– Meet and greet with our Educators\, as well as a few manufacturer reps joining us. We will have a few demos going on\, including a short demo on editing & printing with Hunt’s Director of Photo Education.\n7pm– Director of Photo Adventures\, Don Toothaker\, will be giving a special presentation: “A Year of Learning” \nThis is an open invitation and free to anyone that would like to attend\, but since we will have food and refreshments\, registration is appreciated.  Join us for a casual and social evening!
URL:https://ebay.huntsphoto.com/calendar/hunts-photo-education-open-house-2/
CATEGORIES:Hunt's Photo, Melrose,Instructor: Don T.,Instructor: Emily H.,Instructor: Paul N.,Instructor: Rick B.,Instructor: Ron P.
ATTACH;FMTTYPE=image/jpeg:https://ebay.huntsphoto.com/wp-content/uploads/2018/01/Adventure.jpg
END:VEVENT
BEGIN:VEVENT
DTSTART;TZID=America/New_York:20191012T153000
DTEND;TZID=America/New_York:20191012T193000
DTSTAMP:20260426T000711
CREATED:20191004T013844Z
LAST-MODIFIED:20191004T013844Z
UID:13935-1570894200-1570908600@ebay.huntsphoto.com
SUMMARY:Hunt's Photo Walks - Sunset (and Light Painting) in Rockport
DESCRIPTION:Join Hunt’s Photo Education on a late afternoon/sunset walk of Rockport and its harbor\, Bearskin Neck\, and other points of interest. After sunset\, we will continue photographing the areas employing light painting techniques! Photographers of all skill levels are encouraged to attend.\n\nRockport is a premiere destination for photographers. The town is an eclectic mix of unique storefronts\, a beautiful harbor\, boats\, and a rich fishing tradition that offers a wide variety of photographic subjects.\nThis will be a really fun walk! We will begin by photographing around the harbor and capturing sunset. After sunset\, Rockport really shuts down and becomes very dark. In normal circumstances\, this keeps us from photographing because of how little light there is. However\, this will work to our benefit\, as we will move on to teaching light painting techniques for the remaining time. This will be a lot of fun!  \n\n\nIf you are attending this walk\, we will send out more specific instructions to you a few days prior to the walk. Please note: Some slight details above can be subject to change. This email will detail any of those minor changes.\nPlease read Hunt’s Terms & Conditions before signing up.\nIf you are interested in learning a little more about your camera (or anything else photographic-related) prior to the walk\, we would love to have you for a Custom 1-on-1 class.
URL:https://ebay.huntsphoto.com/calendar/hunts-photo-walks-sunset-and-light-painting-in-rockport/
CATEGORIES:Hunt's Photo Walks,Instructor: Emily H.,Instructor: Ron P.
ATTACH;FMTTYPE=image/jpeg:https://ebay.huntsphoto.com/wp-content/uploads/2017/06/Sunset.jpg
END:VEVENT
BEGIN:VEVENT
DTSTART;TZID=America/New_York:20191016T150000
DTEND;TZID=America/New_York:20191020T110000
DTSTAMP:20260426T000711
CREATED:20180831T201440Z
LAST-MODIFIED:20180831T201440Z
UID:11212-1571238000-1571569200@ebay.huntsphoto.com
SUMMARY:Hunt's Photo Adventure: Acadia National Park
DESCRIPTION:Acadia National Park is a unique photographic destination unlike any other.  Highly photogenic in every aspect\, Acadia offers photographers of every skill level a multiple of opportunities.  Here you can shoot miles of dramatic coastline\, crashing waves\, mountain and ocean vistas\, culturally rich towns\, classic New England harbor scenes\, historic carriage roads\, wildflowers\, wildlife\, a stunning lighthouse\, and so much more.   Join us as we explore the island and reveal its unique diversity in locations such as Bass Harbor\, Cadillac Mountain\, Jordan Pond\, the Seawall\, Schoodic Peninsula\, and more. Each day we will work on concepts of Subject Development\, Exposure\, Image Composition\, Architectural Photography\, Black and White Photography\, Low Light Photography\, and Long Exposures.  Acadia is a breathtaking visual experience that will stay with you forever.\nTo make only a deposit\, select the “Deposit Only” box below. All payments are due 30 days prior to the workshop. \n \nUpon signing up for this walk\, you will receive a confirmation email. This will list more specific instructions regarding this workshop.\nPlease read our  Cancellation Policy before signing up.
URL:https://ebay.huntsphoto.com/calendar/hunts-photo-adventure-acadia-national-park-2/
CATEGORIES:Hunt's Photo Adventures
ATTACH;FMTTYPE=image/jpeg:https://ebay.huntsphoto.com/wp-content/uploads/2019/10/XP23776.jpg
END:VEVENT
BEGIN:VEVENT
DTSTART;VALUE=DATE:20191018
DTEND;VALUE=DATE:20191021
DTSTAMP:20260426T000711
CREATED:20190917T162828Z
LAST-MODIFIED:20190926T040927Z
UID:13847-1571356800-1571615999@ebay.huntsphoto.com
SUMMARY:The 43rd Annual Hunt's Show
DESCRIPTION:Hunt’s Photo & Video is proud to present our 43rd Annual Hunt’s Show: A weekend filled with sales\, seminars\, sensor cleanings\, and more! \nOur Annual Hunt’s Show brings in the biggest names in cameras and camera-related gear to show off their latest innovations and products in our Melrose superstore\, including Canon\, Nikon\, Sony\, Panasonic\, Olympus\, Fujifilm\, Sigma\, Tamron\, and more. The Hunt’s Show is also full of sales and promotions at all of our store locations\, and they’re oftentimes the best prices you’ll get throughout the holiday season. Trade canned goods or old electronics for even more savings towards your new camera! \nAnd if you need a break from all the sales\, we also have our FREE Hunt’s Show Seminars\, sponsored by Hunt’s Photo Education. We work hard to produce a weekend filled with high quality educational offerings and not seminars filled with sales pitches. This year\, we will have seminars throughout the weekend from Hunt’s Photo Educators\, professional photographers\, and manufacturer reps to inform and inspire. \nYou can find out more information about the seminars and register here!
URL:https://ebay.huntsphoto.com/calendar/the-43rd-annual-hunts-show/
CATEGORIES:Hunt's Photo, Melrose,Misc. Workshops & Seminars
ATTACH;FMTTYPE=image/jpeg:https://ebay.huntsphoto.com/wp-content/uploads/2019/09/save-the-date-edu-banner-2019-v2-scaled.jpg
END:VEVENT
BEGIN:VEVENT
DTSTART;TZID=America/New_York:20191019T090000
DTEND;TZID=America/New_York:20191019T160000
DTSTAMP:20260426T000711
CREATED:20190925T135649Z
LAST-MODIFIED:20190925T135649Z
UID:13882-1571475600-1571500800@ebay.huntsphoto.com
SUMMARY:Hunt's "Lensbaby" Photo Walk: Mt. Auburn Cemetery with Lensbaby!
DESCRIPTION:Join Hunt’s Photo Education for a very unique walk\, using Lensbaby lenses at Mt. Auburn Cemetery\, followed by an image review at Hunt’s Photo in Melrose. This walk is our first Photo Walk specifically geared towards using ONLY Lensbaby lenses! \nMt. Auburn Cemetery is one of Boston’s most beautiful green spaces. This large\, rolling parcel of land was America’s first garden-style cemetery. The historical 174-acre cemetery serves as a final resting place for the deceased\, but it is also an arboretum full of flowers\, flowering trees\, colorful shrubs\, architecture\, and wildlife. We will be going to the Cemetery in the heart of fall and should expect a good level of color. \nOn this walk\, we will specifically only be using Lensbaby lenses. For those unfamiliar\, Lensbaby is a company that makes creative effects lenses\, optics and accessories that accentuate selective focus and other stylistic effects. Lensbaby has a certain look\, but they also take time to learn how to use. For this reason\, we’ve developed a Photo Walk devoted entirely to Lensbaby. We will have Lensbaby lenses available to use\, but you are also welcome to bring your own\, if you have one. Mt. Auburn Cemetery has an excellent variety of landscape and details that accentuate the capabilities of these lenses.\nAfter the walk\, we will continue back to our store in Melrose where we will host a 1-hour image review. Attendees will submit a few select images and we will be able to discuss what worked and how we could improve in the future. This image review will also coincide with our annual Hunt’s Show\, which you are welcome to attend after the image review! \n \nAttendees should have: \nDigital Camera \nMemory Card \nTripod \nSuggested Items Attendees should have: \nExtra memory cards \nExtra camera battery \nReflectors/Diffusers \nCable Release/Wireless Remote to trigger camera
URL:https://ebay.huntsphoto.com/calendar/hunts-lensbaby-photo-walk-mt-auburn-cemetery-with-lensbaby/
CATEGORIES:Hunt's Photo Walks,Hunt's Photo Workshops,Hunt's Photo, Melrose,Instructor: Emily H.,Photo Walks in Greater Boston
ATTACH;FMTTYPE=image/jpeg:https://ebay.huntsphoto.com/wp-content/uploads/2019/09/@hojphoto_LensbabyLR-8243.jpg
END:VEVENT
BEGIN:VEVENT
DTSTART;TZID=America/New_York:20191025T160000
DTEND;TZID=America/New_York:20191025T200000
DTSTAMP:20260426T000711
CREATED:20190905T035715Z
LAST-MODIFIED:20191009T205747Z
UID:13696-1572019200-1572033600@ebay.huntsphoto.com
SUMMARY:Hunt's Photo Walk: Boston After Dark- Museum of Science\, the Charles\, & Longfellow Bridge
DESCRIPTION:Join Hunt’s Photo Education for a night walk on the border of Cambridge and Boston at the Museum of Science\, along the Charles River and toward the Longfellow Bridge\, then back to the Museum of Science.\nOn this walk\, we will photograph from above and from below! We will start on the roof of the Museum of Science to photograph into Cambridge & Boston. This is an excellent opportunity to obtain stunning views of the city from an angle rarely seen. After this\, we will walk down the street toward the Longfellow Bridge along the Charles for some more night photography. Throughout this walk\, we will make use of evening light\, civil twilight\, and night time as we explore architecture and city highlights.\n\nIf you are attending this walk\, we will send out more specific instructions to you a few days prior to the walk. Please note: Some slight details above can be subject to change. This email will detail any of those minor changes.\nPlease read Hunt’s Terms & Conditions before signing up.
URL:https://ebay.huntsphoto.com/calendar/hunts-photo-walk-boston-after-dark-museum-of-science-the-charles-longfellow-bridge/
CATEGORIES:Hunt's Photo Walks,Instructor: Emily H.,Instructor: Ron P.,Photo Walks in Greater Boston
ATTACH;FMTTYPE=image/jpeg:https://ebay.huntsphoto.com/wp-content/uploads/2018/06/Museum-of-Science-2-e1529627103164.jpg
END:VEVENT
BEGIN:VEVENT
DTSTART;TZID=America/New_York:20191026T110000
DTEND;TZID=America/New_York:20191026T183000
DTSTAMP:20260426T000711
CREATED:20190916T190516Z
LAST-MODIFIED:20190916T190516Z
UID:13844-1572087600-1572114600@ebay.huntsphoto.com
SUMMARY:Hunt’s Photo Workshop: Using On-Camera Filters\, ft. Nubble Light
DESCRIPTION:In the age of film photography\, filters were used to great effect. Because darkrooms were less accessible for editing (than editing in the digital age)\, filters were used to “get it right in camera”. Despite all the editing programs available today\, it is still best to “get it right in camera”\, and certain filters still produce vastly superior effects that cannot be achieved by post-processing alone. \nJoin Hunt’s Photo Education’s Don Toothaker & Ron Phillips for a hands-on photography workshop designed to help attendees create better images by utilizing long-exposure. We will start with a classroom session (location TBD) explaining the different filter types and their uses\, as well as examples of when and why to use them. Circular Polarizers\, Neutral Density Filters\, and ND Graduated Filters will all be covered. After the classroom session\, we will break and reconvene at Nubble Light to put into practice the filters and techniques. We will conclude the walk around 6:30pm.\nWe will have some Benro Neutral Density and Circular Polarizing filters on-hand for attendees to use in order to test the techniques discussed in the class.  \n \nIf you are attending this walk\, we will send out more specific instructions to you a few days prior to the walk. However\, be advised we will be meeting in York\, Maine.  Please note: Some slight details above can be subject to change. This email will detail any of those minor changes.\nPlease read Hunt’s Terms & Conditions before signing up. \nAttendees should have: \nDigital Camera and Lens\nMemory Card\nTripod \nSuggested Items Attendees should have: \nVarious lenses\nExtra memory cards\nExtra camera battery\nFlashlight\nSnacks\nWater
URL:https://ebay.huntsphoto.com/calendar/hunts-photo-workshop-using-on-camera-filters-ft-nubble-light/
CATEGORIES:Hunt's Photo Walks,Hunt's Photo Workshops,Instructor: Don T.,Instructor: Rick B.,Photo Walks in New Hampshire & Maine
ATTACH;FMTTYPE=image/jpeg:https://ebay.huntsphoto.com/wp-content/uploads/2016/10/XE20629-Edit-1-2.jpg
END:VEVENT
END:VCALENDAR